BEGIN:VCALENDAR
VERSION:2.0
PRODID:-//Paroisses du Pays d&#039;Auray - ECPv6.15.13//NONSGML v1.0//EN
CALSCALE:GREGORIAN
METHOD:PUBLISH
X-WR-CALNAME:Paroisses du Pays d&#039;Auray
X-ORIGINAL-URL:https://paroisses-pays-auray.fr
X-WR-CALDESC:Évènements pour Paroisses du Pays d&#039;Auray
REFRESH-INTERVAL;VALUE=DURATION:PT1H
X-Robots-Tag:noindex
X-PUBLISHED-TTL:PT1H
BEGIN:VTIMEZONE
TZID:UTC
BEGIN:STANDARD
TZOFFSETFROM:+0000
TZOFFSETTO:+0000
TZNAME:UTC
DTSTART:19690101T000000
END:STANDARD
END:VTIMEZONE
BEGIN:VEVENT
DTSTART;TZID=UTC:20260422T040623
DTEND;TZID=UTC:20230703T090651
DTSTAMP:20260422T040623
CREATED:20230703T090651Z
LAST-MODIFIED:20230703T090651Z
UID:22811-0-1688375211@paroisses-pays-auray.fr
SUMMARY:Concert d'orgue: les grands romantiques
DESCRIPTION:Bérénice Nuss jouera sur l’orgue Cavaillé-Coll de la basilique de Sainte-Anne-d’Auray des œuvres de Franck\, Liszt\, Schumann\, Vierne. \nL’organiste\, en résidence durant deux semaines\, est étudiante à la Hochschule de Stuttgart. \nLibre participation. \nA la Basilique de Sainte-Anne-d’Auray
URL:https://paroisses-pays-auray.fr/event/concert-dorgue-les-grands-romantiques/
CATEGORIES:Concerts,Evénement accueil
ATTACH;FMTTYPE=image/jpeg:https://paroisses-pays-auray.fr/wp-content/uploads/2019/05/orgue-ste-anne.jpg
END:VEVENT
BEGIN:VEVENT
DTSTART;VALUE=DATE:20221211
DTEND;VALUE=DATE:20230109
DTSTAMP:20260422T040623
CREATED:20211220T152846Z
LAST-MODIFIED:20230108T145421Z
UID:16224-1670716800-1673222399@paroisses-pays-auray.fr
SUMMARY:Circuit des crèches de Pleucadeuc
DESCRIPTION:Un circuit permet de découvrir près de 200 crèches\, fabriquées de toutes sortes de matériaux. Elles sont exposées dans le bourg mais aussi dans les chapelles St Marc et St Barthélémy. \n\n\n\n\n\n\n\n\n\n\n\n\nDu 11 décembre au 8 janvier à Pleucadeuc\n\n\n\n\n\n\n\n\n\n\n\n\n\n\n\n\nEn savoir plus
URL:https://paroisses-pays-auray.fr/event/circuit-des-creches-de-pleucadeuc/
ATTACH;FMTTYPE=image/jpeg:https://paroisses-pays-auray.fr/wp-content/uploads/2019/11/crèche-Noël-3.jpg
END:VEVENT
BEGIN:VEVENT
DTSTART;VALUE=DATE:20221211
DTEND;VALUE=DATE:20221212
DTSTAMP:20260422T040623
CREATED:20221128T114810Z
LAST-MODIFIED:20221128T155459Z
UID:20031-1670716800-1670803199@paroisses-pays-auray.fr
SUMMARY:3ème dimanche de l'Avent (A): la joie !
DESCRIPTION:« Réjouissez-vous\, le Seigneur est proche ! » \nAu cours des deux premières semaines du temps de l’Avent\, l’Eglise fait mémoire du peuple d’Israël et de sa persévérance dans l’espérance de la venue du Messie. Ce Messie promis par les prophètes devait être un Roi de justice et de paix. \nNous retrouvons le prophète Isaïe et  St Jean- Baptiste\, en ce 3ème dimanche au milieu de l’Avent. Nous commençons à envisager l’aurore de la fête de Noël. La couleur liturgique est le rose\, couleur de l’aube.\nC’est la joyeuse invitation qui retentit au coeur du troisième dimanche de l’Avent\, le dimanche de « Gaudete ». Non seulement le Christ est venu\, non seulement il viendra dans sa gloire\, mais dès maintenant il vient ! C’est la source de notre joie… \n\nLes lectures du jour: ici\nDes messes avec un accueil particulier pour les enfants: à Auray\, Sainte Anne d’Auray et Plougoumelen\nRemise des flambeaux au sanctuaire de Ste Anne d’Auray:  en savoir plus\nEn chemin avec Ste Anne: ici\n\n 
URL:https://paroisses-pays-auray.fr/event/3eme-dimanche-de-lavent-la-joie/
CATEGORIES:Evénement accueil
ATTACH;FMTTYPE=image/jpeg:https://paroisses-pays-auray.fr/wp-content/uploads/2022/11/3eme-dimanche-Avent.jpg
END:VEVENT
BEGIN:VEVENT
DTSTART;TZID=UTC:20221211T110000
DTEND;TZID=UTC:20221211T110000
DTSTAMP:20260422T040623
CREATED:20221207T151831Z
LAST-MODIFIED:20221207T151933Z
UID:20217-1670756400-1670756400@paroisses-pays-auray.fr
SUMMARY:Messe en famille avec liturgie de la Parole
DESCRIPTION:Accueil et début de la messe en l’église Notre-Dame du Bono – Etoile de la mer\, à 11h. \nLes enfants et les jeunes découvriront les lectures du jour\, selon leur tranche d’âge\, à la maison paroissiale du Bono. \nIls rejoindront l’assemblée\, après la prière universelle. \nLe Père Dominique bénira les objets de dévotion représentant Sainte Anne\, dans le cadre du Jubilé des 400 ans des apparitions de la grand-mère de Jésus. \nLa messe est animée par les jeunes. \nCe 3ème dimanche de l’Avent est le dimanche de la joie ! \n 
URL:https://paroisses-pays-auray.fr/event/messe-en-famille-avec-liturgie-de-la-parole/
CATEGORIES:Plougoumelen-LeBono
ATTACH;FMTTYPE=image/jpeg:https://paroisses-pays-auray.fr/wp-content/uploads/2019/09/messerentrée-2019b.jpg
END:VEVENT
BEGIN:VEVENT
DTSTART;TZID=UTC:20221211T150000
DTEND;TZID=UTC:20221211T150000
DTSTAMP:20260422T040623
CREATED:20221009T135757Z
LAST-MODIFIED:20221128T104549Z
UID:19199-1670770800-1670770800@paroisses-pays-auray.fr
SUMMARY:Remise des flambeaux
DESCRIPTION:Ce 3ème dimanche de l’Avent est le dimanche de la joie. \nSa couleur liturgique rose annonce les lueurs de l’aube de Noël. \nLes paroisses\, les écoles et les mouvements sont invitées à venir chercher leur flambeau de Sainte Anne pendant l’office des vêpres. \nCe cierge sera placé dans la crèche et allumé le soir de Noël. \nCette proposition est organisée dans le cadre de la préparation au Jubilé. En  2025\, nous fêterons les 400 ans des apparitions de la grand-mère de Jésus à Ste Anne d’Auray. \nCette 1ère année de préparation se place dans l’espérance. A la lumière du flambeau de Ste Anne\, lors de ses apparitions à Yvon Nicolazig. \nDimanche 11 décembre 2022\, lors des vêpres à 16h\, basilique de Sainte-Anne-d’Auray.
URL:https://paroisses-pays-auray.fr/event/remise-flambeaux/
CATEGORIES:Evénement accueil,Paroisses de Sainte-Anne-d'Auray, Brec'h, Mériadec et Plumergat
ATTACH;FMTTYPE=image/jpeg:https://paroisses-pays-auray.fr/wp-content/uploads/2022/10/Flambeau-2.jpg
END:VEVENT
BEGIN:VEVENT
DTSTART;TZID=UTC:20221211T161500
DTEND;TZID=UTC:20221211T173000
DTSTAMP:20260422T040623
CREATED:20221208T112520Z
LAST-MODIFIED:20221209T130846Z
UID:20223-1670775300-1670779800@paroisses-pays-auray.fr
SUMMARY:Au profit d'écoliers indiens
DESCRIPTION:Changement de dernière minute: le chauffage de l’église d’Arradon étant défectueux\,\nconcert\, à 16h15\, en l’église de Ploeren\nLes 150 jeunes enfants de l’école de Puzhichikulam sont âgés de 5 à 10 ans. Ils doivent suivre la classe\, dehors\, à l’ombre des arbres\, tant la vétusté des bâtiments les met en danger. \nDes membres de l’association ABH Inde du sud s’y sont rendus en 2020 à la veille de la pandémie. Les bâtiments sont en piteux état. Les Frères Jésuites les ont construits au début du XXe siècle. \nAinsi\, le Père Raj et le Père Sundar ont sollicité l’association ABH – Inde du Sud pour les aider à reconstruire deux classes. \nAprès avoir creusé les fondations\, les murs seront montés en briques. La toiture en tuiles reposera sur une charpente en béton renforcé. Le sol sera carrelé et les huisseries de bois traité complèteront l’ensemble. Enfin\, le bâtiment sera recouvert d’un enduit et peint. \nLe village de Puzhichikulam compte surtout des ouvriers agricoles et des coolies. Certains tiennent de petites échoppes ou travaillent dans le bâtiment notamment. 2% de la population seulement sont fonctionnaires\, enseignants ou exercent diverses professions. Globalement la population est pauvre\, l’essentielle étant dalit ou appartenant aux castes les plus défavorisées. \nLibre participation financière lors du concert gratuit. \nLe don peut se faire par chèque à l’ordre de ABH –Inde du Sud\, à adresser à:\nABH –Inde du Sud\, boite 69\, Maison des Associations\, 31 rue Guillaume Le Bartz – 56000 VANNES \nMerci d’y joindre votre adresse email pour l’envoi du reçu fiscal. \nLe don peut se faire aussi par virement sur le compte de l’Association ABH –Inde du Sud.
URL:https://paroisses-pays-auray.fr/event/au-profit-decoliers-indiens/
CATEGORIES:Concerts,Evénement accueil
ATTACH;FMTTYPE=image/jpeg:https://paroisses-pays-auray.fr/wp-content/uploads/2022/12/Concert-ABH.jpg
END:VEVENT
BEGIN:VEVENT
DTSTART;TZID=UTC:20221211T170000
DTEND;TZID=UTC:20221211T170000
DTSTAMP:20260422T040623
CREATED:20221202T100915Z
LAST-MODIFIED:20221208T105629Z
UID:20133-1670778000-1670778000@paroisses-pays-auray.fr
SUMMARY:Noël enchanté
DESCRIPTION:Pièces d’Avent et de Noël d’hier et d’aujourd’hui.\nAvec la Maîtrise de Ste Anne d’Auray.\n\nEn l’église St Pierre de Baden\n\nInformations : 06.52.83.61.56\,\nmusicales.arradon@gmail.com
URL:https://paroisses-pays-auray.fr/event/noel-enchante/
CATEGORIES:Evénement accueil,Plougoumelen-LeBono
ATTACH;FMTTYPE=image/jpeg:https://paroisses-pays-auray.fr/wp-content/uploads/2020/12/noel-choeur-de-la-maitrise-de-sainte-anne-d-auray.jpg
END:VEVENT
END:VCALENDAR