BEGIN:VCALENDAR
VERSION:2.0
PRODID:-//Paroisses du Pays d&#039;Auray - ECPv6.15.13//NONSGML v1.0//EN
CALSCALE:GREGORIAN
METHOD:PUBLISH
X-ORIGINAL-URL:https://paroisses-pays-auray.fr
X-WR-CALDESC:Évènements pour Paroisses du Pays d&#039;Auray
REFRESH-INTERVAL;VALUE=DURATION:PT1H
X-Robots-Tag:noindex
X-PUBLISHED-TTL:PT1H
BEGIN:VTIMEZONE
TZID:UTC
BEGIN:STANDARD
TZOFFSETFROM:+0000
TZOFFSETTO:+0000
TZNAME:UTC
DTSTART:19690101T000000
END:STANDARD
END:VTIMEZONE
BEGIN:VEVENT
DTSTART;TZID=UTC:20260421T111850
DTEND;TZID=UTC:20230703T090651
DTSTAMP:20260421T111850
CREATED:20230703T090651Z
LAST-MODIFIED:20230703T090651Z
UID:22811-0-1688375211@paroisses-pays-auray.fr
SUMMARY:Concert d'orgue: les grands romantiques
DESCRIPTION:Bérénice Nuss jouera sur l’orgue Cavaillé-Coll de la basilique de Sainte-Anne-d’Auray des œuvres de Franck\, Liszt\, Schumann\, Vierne. \nL’organiste\, en résidence durant deux semaines\, est étudiante à la Hochschule de Stuttgart. \nLibre participation. \nA la Basilique de Sainte-Anne-d’Auray
URL:https://paroisses-pays-auray.fr/event/concert-dorgue-les-grands-romantiques/
CATEGORIES:Concerts,Evénement accueil
ATTACH;FMTTYPE=image/jpeg:https://paroisses-pays-auray.fr/wp-content/uploads/2019/05/orgue-ste-anne.jpg
END:VEVENT
BEGIN:VEVENT
DTSTART;TZID=UTC:20230111T203000
DTEND;TZID=UTC:20230111T203000
DTSTAMP:20260421T111850
CREATED:20230104T151801Z
LAST-MODIFIED:20230104T152005Z
UID:20510-1673469000-1673469000@paroisses-pays-auray.fr
SUMMARY:Parcours "Parents d'ados" en visio
DESCRIPTION:Le parcours Alpha propose 5 rencontres\, en zoom. Avec des témoignages et des temps d’échanges entre parents. \nA l’intention des parents\, grands-parents\, beaux-parents … \nSoirée ouverte à tous: parent seul\, en couple\, toute personne qui accompagne un adolescent entre 11 et 18 ans. \n5 rencontres par visioconférence \n Soirée de lancement\, mercredi 11 janvier 2023\, de 20h30 à 22h: Construire des relations solides \nMardi 17 janvier: Combler les besoins des ados \nMardi 24 janvier:Fixer les limites \n 31 janvier: Développer leur maturité \nMercredi 8 février: Les aider à faire les bons choix \nChaque thème reprend les points essentiels de l’éducation avec un regard chrétien. Les exposés sont complétés par l’analyse d’experts\, des témoignages\, des exercices pratiques et des échanges en petits groupes. \nPour s’inscrire: \nhttps://forms.gle/8aNKNJKbLpZKoANa8 \nContact: \nparcoursalpha56@gmail.com \nTél: 07 86 63 09 89
URL:https://paroisses-pays-auray.fr/event/parcours-parents-dados-en-visio/
CATEGORIES:Evénement accueil
ATTACH;FMTTYPE=image/jpeg:https://paroisses-pays-auray.fr/wp-content/uploads/2022/12/alpha-parents-dados-e1698673654121.jpg
END:VEVENT
END:VCALENDAR