BEGIN:VCALENDAR
VERSION:2.0
PRODID:-//Paroisses du Pays d&#039;Auray - ECPv6.15.13//NONSGML v1.0//EN
CALSCALE:GREGORIAN
METHOD:PUBLISH
X-ORIGINAL-URL:https://paroisses-pays-auray.fr
X-WR-CALDESC:Évènements pour Paroisses du Pays d&#039;Auray
REFRESH-INTERVAL;VALUE=DURATION:PT1H
X-Robots-Tag:noindex
X-PUBLISHED-TTL:PT1H
BEGIN:VTIMEZONE
TZID:UTC
BEGIN:STANDARD
TZOFFSETFROM:+0000
TZOFFSETTO:+0000
TZNAME:UTC
DTSTART:19690101T000000
END:STANDARD
END:VTIMEZONE
BEGIN:VEVENT
DTSTART;TZID=UTC:20260421T112713
DTEND;TZID=UTC:20230703T090651
DTSTAMP:20260421T112713
CREATED:20230703T090651Z
LAST-MODIFIED:20230703T090651Z
UID:22811-0-1688375211@paroisses-pays-auray.fr
SUMMARY:Concert d'orgue: les grands romantiques
DESCRIPTION:Bérénice Nuss jouera sur l’orgue Cavaillé-Coll de la basilique de Sainte-Anne-d’Auray des œuvres de Franck\, Liszt\, Schumann\, Vierne. \nL’organiste\, en résidence durant deux semaines\, est étudiante à la Hochschule de Stuttgart. \nLibre participation. \nA la Basilique de Sainte-Anne-d’Auray
URL:https://paroisses-pays-auray.fr/event/concert-dorgue-les-grands-romantiques/
CATEGORIES:Concerts,Evénement accueil
ATTACH;FMTTYPE=image/jpeg:https://paroisses-pays-auray.fr/wp-content/uploads/2019/05/orgue-ste-anne.jpg
END:VEVENT
BEGIN:VEVENT
DTSTART;TZID=UTC:20230314T093000
DTEND;TZID=UTC:20230314T160000
DTSTAMP:20260421T112713
CREATED:20230309T101334Z
LAST-MODIFIED:20230309T101642Z
UID:21282-1678786200-1678809600@paroisses-pays-auray.fr
SUMMARY:Récollection des équipes SEM
DESCRIPTION:Service Evangélique des Malades \nLe P. Adrien Collet anime la récollection des équipes  « Avec sainte Anne\, modèle d’Espérance ». \nSalle Keriolet (Pique-nique tiré du sac) \nQu’est-ce que le service évangélique des malades? \nC’est un service fraternel de proximité aux personnes\, de visite\, d’écoute\, d’accompagnement\, de dialogue à domicile ou en Établissement. \nEn lien avec la paroisse et d’autres partenaires sociaux. \nEtre membre du service paroissial de visite\, c’est quoi ?\nDans un esprit de compassion et d’écoute\, les bénévoles se mettent au service des personnes pour : \n\nvisiter : aller à la rencontre de la personne qui souhaite une « visite »\nprier seul ou en équipe pour les personnes malades et avec celles qui le désirent\,\npartager en équipe la Parole de Dieu\nchercher par un accompagnement humain à aider chacun à garder sa dignité d’homme et de femme\,\ntémoigner de l’Evangile en mettant en pratique la Parole de Jésus « ce que j’ai fait pour vous\, faites-le vous aussi »\naccompagner spirituellement ceux qui le souhaitent dans le respect de chacun\, en lien avec le prêtre responsable\nfaire découvrir à la communauté les valeurs évangéliques vécues par les personnes malades ou handicapées\npréparer au sacrement des malades
URL:https://paroisses-pays-auray.fr/event/recollection-des-equipes-sem/
LOCATION:Sainte Anne d’Auray
CATEGORIES:Evénement accueil,Paroisses de Sainte-Anne-d'Auray, Brec'h, Mériadec et Plumergat
ATTACH;FMTTYPE=image/jpeg:https://paroisses-pays-auray.fr/wp-content/uploads/2022/03/service-malades.jpg
END:VEVENT
BEGIN:VEVENT
DTSTART;TZID=UTC:20230314T203000
DTEND;TZID=UTC:20230314T203000
DTSTAMP:20260421T112713
CREATED:20230216T160852Z
LAST-MODIFIED:20230304T102247Z
UID:21033-1678825800-1678825800@paroisses-pays-auray.fr
SUMMARY:Conférence de carême 2023
DESCRIPTION:Le Carême est un temps pour se mettre en route\, pour vivre la sobriété heureuse. \nL’Église verte ? Une proposition de pistes d’action pour la paroisse. \nConférence donnée par le père Yvan Briend et M. Xavier Briatte\, le mardi 14 mars de 20h30 à 22h\, salle Pierre de Kériolet
URL:https://paroisses-pays-auray.fr/event/conferences-careme-2023/
CATEGORIES:Conférences,Evénement accueil,Paroisses de Sainte-Anne-d'Auray, Brec'h, Mériadec et Plumergat
ATTACH;FMTTYPE=image/jpeg:https://paroisses-pays-auray.fr/wp-content/uploads/2023/03/vivre-la-sobriete-heureuse2.jpg
END:VEVENT
END:VCALENDAR