BEGIN:VCALENDAR
VERSION:2.0
PRODID:-//Paroisses du Pays d&#039;Auray - ECPv6.15.13//NONSGML v1.0//EN
CALSCALE:GREGORIAN
METHOD:PUBLISH
X-WR-CALNAME:Paroisses du Pays d&#039;Auray
X-ORIGINAL-URL:https://paroisses-pays-auray.fr
X-WR-CALDESC:Évènements pour Paroisses du Pays d&#039;Auray
REFRESH-INTERVAL;VALUE=DURATION:PT1H
X-Robots-Tag:noindex
X-PUBLISHED-TTL:PT1H
BEGIN:VTIMEZONE
TZID:UTC
BEGIN:STANDARD
TZOFFSETFROM:+0000
TZOFFSETTO:+0000
TZNAME:UTC
DTSTART:20220101T000000
END:STANDARD
END:VTIMEZONE
BEGIN:VEVENT
DTSTART;TZID=UTC:20231201T103000
DTEND;TZID=UTC:20231201T140000
DTSTAMP:20260420T115458
CREATED:20231015T132438Z
LAST-MODIFIED:20231016T064015Z
UID:24072-1701426600-1701439200@paroisses-pays-auray.fr
SUMMARY:Réunion de l'équipe de doyenné à Ste Anne d'Auray
DESCRIPTION:L’équipe pastorale du doyenné d’Auray tiendra sa prochaine réunion le 1er décembre 2023\, à 10H30\, à sainte-Anne d’Auray. \n\n\nComposée des prêtres\, des diacres et de laïcs missionnés\, \nl’équipe se rencontre 5 à 6 fois par an.\n  \nA l’ordre du jour – Notamment – de la prochaine réunion: \n. Le pèlerinage du pays d’Auray qui aura lieu le dimanche 10 mars (ouverture des pèlerinages 2024) \n. Le Rassemblement prévu le lundi 20 mai 2024. \n 
URL:https://paroisses-pays-auray.fr/event/reunion-de-lequipe-de-doyenne-le-1er-decembre-a-ste-annedauray/
LOCATION:Sainte Anne d’Auray\, France
CATEGORIES:Evénement accueil
ATTACH;FMTTYPE=image/jpeg:https://paroisses-pays-auray.fr/wp-content/uploads/2023/09/DSC07605-scaled.jpg
END:VEVENT
BEGIN:VEVENT
DTSTART;TZID=UTC:20231201T203000
DTEND;TZID=UTC:20231201T220000
DTSTAMP:20260420T115458
CREATED:20231130T093138Z
LAST-MODIFIED:20231130T175522Z
UID:24497-1701462600-1701468000@paroisses-pays-auray.fr
SUMMARY:Veillée louange et miséricorde
DESCRIPTION:Pour se préparer à la joie de Noël\, veillée Louange et Miséricorde\, adoration et confessions à l’église de Plumergat. \nRendez-vous vendredi 1er décembre de 20 h 30 à  22 h\, église de Plumergat.
URL:https://paroisses-pays-auray.fr/event/veillee-louange-et-misericorde/
CATEGORIES:Evénement accueil,Paroisses de Sainte-Anne-d'Auray, Brec'h, Mériadec et Plumergat
ATTACH;FMTTYPE=image/jpeg:https://paroisses-pays-auray.fr/wp-content/uploads/2023/11/PHOTO-2023-11-29-17-29-52.jpg
END:VEVENT
END:VCALENDAR