BEGIN:VCALENDAR
VERSION:2.0
PRODID:-//Paroisses du Pays d&#039;Auray - ECPv6.15.13//NONSGML v1.0//EN
CALSCALE:GREGORIAN
METHOD:PUBLISH
X-WR-CALNAME:Paroisses du Pays d&#039;Auray
X-ORIGINAL-URL:https://paroisses-pays-auray.fr
X-WR-CALDESC:Évènements pour Paroisses du Pays d&#039;Auray
REFRESH-INTERVAL;VALUE=DURATION:PT1H
X-Robots-Tag:noindex
X-PUBLISHED-TTL:PT1H
BEGIN:VTIMEZONE
TZID:UTC
BEGIN:STANDARD
TZOFFSETFROM:+0000
TZOFFSETTO:+0000
TZNAME:UTC
DTSTART:20230101T000000
END:STANDARD
END:VTIMEZONE
BEGIN:VEVENT
DTSTART;TZID=UTC:20240101T080000
DTEND;TZID=UTC:20240114T170000
DTSTAMP:20260422T110136
CREATED:20240101T143002Z
LAST-MODIFIED:20240113T100048Z
UID:24851-1704096000-1705251600@paroisses-pays-auray.fr
SUMMARY:Auray-Pluneret Horaires des Messes
DESCRIPTION:Ensemble Paroissial Auray-Pluneret\nAvant la toussaint\, pendant plusieurs semaines\, les paroissiens étaient invités à donner leur avis sur les heures actuelles des messes dominicales. Cela convient-il\, faut-il adapter? Si oui\, quelles sont vos souhaits? Ci-après les résultats de ce sondage et les décisions prises après dépouillement et analyse.\n\n\nSondage concernant les horaires de Messes dominicales fait en octobre 2023\nRésultats : . Nombre de bulletins recueillis : 90\n\n. Horaires actuels vous conviennent-ils ?    OUI = 63  NON =16\n. Faut-il changer les Horaires actuels ?       OUI = 40  NON =35\nSynthèse : Environ 1/3 des pratiquants réguliers ont participé au sondage. Beaucoup sont satisfaits des horaires actuels ( 70%) mais ils sont plus nombreux à souhaiter un changement (40) que le maintien (35).                                                                                                         \n——————————————————————————————————–\nCompte-tenu de ces expressions examinées en équipe pastorale\, de la fréquentation habituelle dans les 4 églises de notre Ensemble Paroissial et de la disponibilité des prêtres ( Ils peuvent être absents d’Auray certains dimanches pour assumer des missions diocésaines confiées par notre évêque) il a été décidé de célébrer les messes dominicales aux heures et lieux suivants :\nSt Goustan le samedi soir à 18h00 (18H30 l’été)\nCharles de Blois le dimanche à 10H30\nSt Gildas le dimanche à 10H30\nSt Pierre et Paul à Pluneret à 10H30 le 3ème dimanche du mois.\nApplicable à compter du 1er janvier 2024.
URL:https://paroisses-pays-auray.fr/event/auray-pluneret-horaires-des-messes/
CATEGORIES:Auray-Pluneret
ATTACH;FMTTYPE=image/jpeg:https://paroisses-pays-auray.fr/wp-content/uploads/2023/06/vitrail.jpg
END:VEVENT
BEGIN:VEVENT
DTSTART;TZID=UTC:20240113T100000
DTEND;TZID=UTC:20240113T180000
DTSTAMP:20260422T110136
CREATED:20240109T205924Z
LAST-MODIFIED:20240109T210816Z
UID:24903-1705140000-1705168800@paroisses-pays-auray.fr
SUMMARY:Journée pour les grands servants à Ste Anne
DESCRIPTION:AU PROGRAMME\n\nRendez-vous à 10h00 – Foyer St Jean Paul II – 62 rue de Vannes\, 56400 Sainte Anne d’Auray.\nAccueil\nProcession en aube et messe solennelle à 11h00 dans la basilique.\nPique-nique tiré du sac.\nAprès-midi : enseignements\, apprentissage du service lorsque l’évêque préside\, jeux.\nFin à 18h00.\n\nA partir de 14 ans !\n\nS’inscrire par mail auprès de : thibault.debruyn@gmail.com\nThibault de Bruyn – 22\, rue des  Chanoines – 56000 Vannes
URL:https://paroisses-pays-auray.fr/event/journee-pour-les-grands-servants-a-ste-anne/
LOCATION:Sainte Anne d’Auray\, France
CATEGORIES:Evénement accueil
ATTACH;FMTTYPE=image/jpeg:https://paroisses-pays-auray.fr/wp-content/uploads/2024/01/journee_servants-1.jpg
END:VEVENT
BEGIN:VEVENT
DTSTART;TZID=UTC:20240113T150000
DTEND;TZID=UTC:20240114T170000
DTSTAMP:20260422T110136
CREATED:20240107T215131Z
LAST-MODIFIED:20240107T215213Z
UID:24863-1705158000-1705251600@paroisses-pays-auray.fr
SUMMARY:Atelier cartes de voeux
DESCRIPTION:Les librairies La Procure de Vannes vous proposent un atelier de cartes de vœux avec Mireille Rault\, artisan créateur\,  à la librairie La Procure Séminaire\, 55 rue Monseigneur Tréhiou à Vannes. \nVous pourrez y apprendre différentes techniques qui vous permettront de réaliser ensuite des cartes personnalisées pour toutes les occasions. \nCet atelier est ouvert à tous\, à partir de 8 ans mais n’est pas réservé aux enfants. \nLes enfants restent sous la responsabilité de leurs parents tout au long de l’activité. \nUne participation de 6€ par personne est demandée.  \n  \nRenseignements et réservation par téléphone au 02 97 47 86 64 – librairie.vannes@laprocure.com \n 
URL:https://paroisses-pays-auray.fr/event/atelier-cartes-de-voeux-2/
CATEGORIES:Evénement accueil
ATTACH;FMTTYPE=image/png:https://paroisses-pays-auray.fr/wp-content/uploads/2021/04/La-Procure.png
END:VEVENT
END:VCALENDAR