BEGIN:VCALENDAR
VERSION:2.0
PRODID:-//Paroisses du Pays d&#039;Auray - ECPv6.15.13//NONSGML v1.0//EN
CALSCALE:GREGORIAN
METHOD:PUBLISH
X-WR-CALNAME:Paroisses du Pays d&#039;Auray
X-ORIGINAL-URL:https://paroisses-pays-auray.fr
X-WR-CALDESC:Évènements pour Paroisses du Pays d&#039;Auray
REFRESH-INTERVAL;VALUE=DURATION:PT1H
X-Robots-Tag:noindex
X-PUBLISHED-TTL:PT1H
BEGIN:VTIMEZONE
TZID:UTC
BEGIN:STANDARD
TZOFFSETFROM:+0000
TZOFFSETTO:+0000
TZNAME:UTC
DTSTART:20230101T000000
END:STANDARD
END:VTIMEZONE
BEGIN:VEVENT
DTSTART;TZID=UTC:20240119T180000
DTEND;TZID=UTC:20240121T000000
DTSTAMP:20260422T012243
CREATED:20240114T150951Z
LAST-MODIFIED:20240114T201013Z
UID:24922-1705687200-1705795200@paroisses-pays-auray.fr
SUMMARY:Voeux pour la communauté de paroisses de Ste Anne d'A.
DESCRIPTION:A la lumière de Noël\, le P. Gwenaël Maurey\, recteur\, les chapelains\, les religieuses\, les salariés et tous les intervenants vous remercient pour votre participation à la vie du sanctuaire et de nos paroisses et vous adressent leurs meilleurs vœux de bonne et sainte année. \nCes vœux du recteur présentent cette année un caractère tout à fait particulier car ils seront l’occasion d’informer largement sur deux projets importants « Le Grand Jubilé 2025 » et « Sainte-Anne 2030 ». (Ce dernier est un important projet de restauration de l’ensemble du site du sanctuaire pour un meilleur accueil des pèlerins). \nLe vendredi 19 janvier 2024\, salle Keriolet\n \n\n18h          Accueil\n18h15      Vœux du Recteur\n18h30    Présentation Jubilé SAINTE ANNE 2025\n19h          Présentation Sainte-Anne 2030\n19h30    Verre de l’amitié
URL:https://paroisses-pays-auray.fr/event/voeux-pour-la-communaute-de-paroisses-de-ste-anne-da/
CATEGORIES:Evénement accueil,Paroisses de Sainte-Anne-d'Auray, Brec'h, Mériadec et Plumergat
ATTACH;FMTTYPE=image/jpeg:https://paroisses-pays-auray.fr/wp-content/uploads/2023/12/illuminations-ste-Anne-e1702308127181.jpg
END:VEVENT
END:VCALENDAR