BEGIN:VCALENDAR
VERSION:2.0
PRODID:-//Paroisses du Pays d&#039;Auray - ECPv6.15.13//NONSGML v1.0//EN
CALSCALE:GREGORIAN
METHOD:PUBLISH
X-ORIGINAL-URL:https://paroisses-pays-auray.fr
X-WR-CALDESC:Évènements pour Paroisses du Pays d&#039;Auray
REFRESH-INTERVAL;VALUE=DURATION:PT1H
X-Robots-Tag:noindex
X-PUBLISHED-TTL:PT1H
BEGIN:VTIMEZONE
TZID:UTC
BEGIN:STANDARD
TZOFFSETFROM:+0000
TZOFFSETTO:+0000
TZNAME:UTC
DTSTART:20230101T000000
END:STANDARD
END:VTIMEZONE
BEGIN:VEVENT
DTSTART;VALUE=DATE:20240128
DTEND;VALUE=DATE:20240129
DTSTAMP:20260421T140359
CREATED:20240115T134408Z
LAST-MODIFIED:20240115T135737Z
UID:24984-1706400000-1706486399@paroisses-pays-auray.fr
SUMMARY:Galette des Rois et Voeux de l'EP Pluvigner
DESCRIPTION:Galette des Rois et Voeux de l’ensemble paroissial de Pluvigner  le dimanche 28 janvier 2024  à 15 h à l’espace Kerverh  de Landévant. \nLes inscriptions sont à faire à l’issue de chaque messe ou en téléphonant au presbytère de Pluvigner  ( 02 97 24 71 39 ) du mardi au samedi matin entre 10 h et 12 h . \nMerci de le faire si possible avant  le 21 janvier 2024 . \nle comité d’organisation  \npublié le 15/01/2024
URL:https://paroisses-pays-auray.fr/event/galette-des-rois/
LOCATION:Landévant\, Espace Kerverh\, Landévant\, France
CATEGORIES:Evénement accueil
ATTACH;FMTTYPE=image/jpeg:https://paroisses-pays-auray.fr/wp-content/uploads/2024/01/galette-rois.jpg
END:VEVENT
BEGIN:VEVENT
DTSTART;TZID=UTC:20240128T103000
DTEND;TZID=UTC:20240128T170000
DTSTAMP:20260421T140359
CREATED:20240115T090509Z
LAST-MODIFIED:20240212T173003Z
UID:24936-1706437800-1706461200@paroisses-pays-auray.fr
SUMMARY:Fête patronale de St Gildas messe et concert
DESCRIPTION:Fête patronale de Saint-Gildas\n\n\n10h30\, messe présidée par le P. Yann LAMOUROUX\, Vicaire Général (seule messe ce dimanche pour l’ensemble paroissial d’Auray)\n12 h\, verre de l’amitié\, maison paroissiale rue Dr Bourdeloy\, suivi du repas paroissial sur inscription (10€)\n15h\, église St Gildas : Concert par l’ensemble vocal Triforium suivi de l’office des vêpres de la « Fête de Saint-Gildas »
URL:https://paroisses-pays-auray.fr/event/fete-patronale-de-st-gildas-messe-et-concert/
LOCATION:Eglise St Gildas Auray\, Place G Deshayes\, Auray\, 56400\, France
CATEGORIES:Auray-Pluneret,Journal_AP
ATTACH;FMTTYPE=image/jpeg:https://paroisses-pays-auray.fr/wp-content/uploads/2022/01/st_gildas_IMG_20210110_104205B.jpg
END:VEVENT
END:VCALENDAR