BEGIN:VCALENDAR
VERSION:2.0
PRODID:-//Paroisses du Pays d&#039;Auray - ECPv6.15.13//NONSGML v1.0//EN
CALSCALE:GREGORIAN
METHOD:PUBLISH
X-WR-CALNAME:Paroisses du Pays d&#039;Auray
X-ORIGINAL-URL:https://paroisses-pays-auray.fr
X-WR-CALDESC:Évènements pour Paroisses du Pays d&#039;Auray
REFRESH-INTERVAL;VALUE=DURATION:PT1H
X-Robots-Tag:noindex
X-PUBLISHED-TTL:PT1H
BEGIN:VTIMEZONE
TZID:UTC
BEGIN:STANDARD
TZOFFSETFROM:+0000
TZOFFSETTO:+0000
TZNAME:UTC
DTSTART:20250101T000000
END:STANDARD
END:VTIMEZONE
BEGIN:VEVENT
DTSTART;VALUE=DATE:20260222
DTEND;VALUE=DATE:20260223
DTSTAMP:20260420T132224
CREATED:20230126T101818Z
LAST-MODIFIED:20260209T171148Z
UID:20689-1771718400-1771804799@paroisses-pays-auray.fr
SUMMARY:1er dimanche de carême. A
DESCRIPTION:Le violet est la couleur des temps liturgiques qui préparent aux grandes fêtes de Noël et de Pâques. En savoir plus \nLes lectures du jour
URL:https://paroisses-pays-auray.fr/event/1er-dimanche-de-careme-a/
CATEGORIES:Evénement accueil
ATTACH;FMTTYPE=image/jpeg:https://paroisses-pays-auray.fr/wp-content/uploads/2021/02/1er-dimanche-careme-B.jpg
END:VEVENT
END:VCALENDAR