BEGIN:VCALENDAR
VERSION:2.0
PRODID:-//Paroisses du Pays d&#039;Auray - ECPv6.15.13//NONSGML v1.0//EN
CALSCALE:GREGORIAN
METHOD:PUBLISH
X-ORIGINAL-URL:https://paroisses-pays-auray.fr
X-WR-CALDESC:Évènements pour Paroisses du Pays d&#039;Auray
REFRESH-INTERVAL;VALUE=DURATION:PT1H
X-Robots-Tag:noindex
X-PUBLISHED-TTL:PT1H
BEGIN:VTIMEZONE
TZID:UTC
BEGIN:STANDARD
TZOFFSETFROM:+0000
TZOFFSETTO:+0000
TZNAME:UTC
DTSTART:20220101T000000
END:STANDARD
END:VTIMEZONE
BEGIN:VEVENT
DTSTART;TZID=UTC:20230707T170000
DTEND;TZID=UTC:20230707T170000
DTSTAMP:20260422T102413
CREATED:20230702T125908Z
LAST-MODIFIED:20230702T182121Z
UID:22782-1688749200-1688749200@paroisses-pays-auray.fr
SUMMARY:Auray : bénédiction du clocheton des Sœurs
DESCRIPTION:Les  Sœurs de la charité de St Louis nous invitent :
URL:https://paroisses-pays-auray.fr/event/auray-inauguration-et-benediction-du-clocheton-des-soeurs-de-la-charite-de-st-louis/
LOCATION:Chapelle des Soeurs – Père Eternel\, Auray
CATEGORIES:Auray-Pluneret,Evénement accueil
ATTACH;FMTTYPE=image/jpeg:https://paroisses-pays-auray.fr/wp-content/uploads/2023/07/IMG_20230404_150330.jpg
END:VEVENT
END:VCALENDAR