BEGIN:VCALENDAR
VERSION:2.0
PRODID:-//Paroisses du Pays d&#039;Auray - ECPv6.15.13//NONSGML v1.0//EN
CALSCALE:GREGORIAN
METHOD:PUBLISH
X-WR-CALNAME:Paroisses du Pays d&#039;Auray
X-ORIGINAL-URL:https://paroisses-pays-auray.fr
X-WR-CALDESC:Évènements pour Paroisses du Pays d&#039;Auray
REFRESH-INTERVAL;VALUE=DURATION:PT1H
X-Robots-Tag:noindex
X-PUBLISHED-TTL:PT1H
BEGIN:VTIMEZONE
TZID:UTC
BEGIN:STANDARD
TZOFFSETFROM:+0000
TZOFFSETTO:+0000
TZNAME:UTC
DTSTART:20220101T000000
END:STANDARD
END:VTIMEZONE
BEGIN:VEVENT
DTSTART;TZID=UTC:20231202T093000
DTEND;TZID=UTC:20231202T103000
DTSTAMP:20260422T013359
CREATED:20231127T083508Z
LAST-MODIFIED:20231127T083948Z
UID:24408-1701509400-1701513000@paroisses-pays-auray.fr
SUMMARY:Auray : Catéchèse pour tous "l'eucharistie\, une rencontre d’amour"
DESCRIPTION:à partir du livre du pape François \nvoir aussi : Site Vatican
URL:https://paroisses-pays-auray.fr/event/auray-catechese-pour-tous-leucharistie-une-rencontre-damour/
LOCATION:Salle paroissiale Bourdeloy\, 9 rue du Docteur Bourdeloy\, Auray\, 56400
CATEGORIES:Auray-Pluneret,Evénement accueil
ATTACH;FMTTYPE=image/jpeg:https://paroisses-pays-auray.fr/wp-content/uploads/2023/11/pape_catechese.jpg
END:VEVENT
BEGIN:VEVENT
DTSTART;TZID=UTC:20231215T203000
DTEND;TZID=UTC:20231215T220000
DTSTAMP:20260422T013359
CREATED:20231212T174127Z
LAST-MODIFIED:20231212T174927Z
UID:24667-1702672200-1702677600@paroisses-pays-auray.fr
SUMMARY:Auray : soirée prière\, louange et adoration
DESCRIPTION:Soirée de prière\, louange et adoration\, vendredi 15 décembre 2023  à 20h30  en l’église Saint-Gildas\,\npréparée et animée par les prêtres et séminaristes\, Cyrille et Wisdom \n  \nUne halte spirituelle au cœur l’Avent pour se préparer à vivre Noël dans la joie et l’Espérance \n  \nPossibilité de recevoir le sacrement du Pardon
URL:https://paroisses-pays-auray.fr/event/auray-soiree-priere-louange-et-adoration/
LOCATION:Eglise St Gildas Auray\, Place G Deshayes\, Auray\, 56400\, France
CATEGORIES:Auray-Pluneret,Evénement accueil
ATTACH;FMTTYPE=image/jpeg:https://paroisses-pays-auray.fr/wp-content/uploads/2023/12/louange2.jpg
END:VEVENT
END:VCALENDAR