BEGIN:VCALENDAR
VERSION:2.0
PRODID:-//Paroisses du Pays d&#039;Auray - ECPv6.15.13//NONSGML v1.0//EN
CALSCALE:GREGORIAN
METHOD:PUBLISH
X-ORIGINAL-URL:https://paroisses-pays-auray.fr
X-WR-CALDESC:Évènements pour Paroisses du Pays d&#039;Auray
REFRESH-INTERVAL;VALUE=DURATION:PT1H
X-Robots-Tag:noindex
X-PUBLISHED-TTL:PT1H
BEGIN:VTIMEZONE
TZID:UTC
BEGIN:STANDARD
TZOFFSETFROM:+0000
TZOFFSETTO:+0000
TZNAME:UTC
DTSTART:20220101T000000
END:STANDARD
END:VTIMEZONE
BEGIN:VEVENT
DTSTART;TZID=UTC:20230930T100000
DTEND;TZID=UTC:20230930T100000
DTSTAMP:20260422T073440
CREATED:20230911T064021Z
LAST-MODIFIED:20230911T064021Z
UID:23509-1696068000-1696068000@paroisses-pays-auray.fr
SUMMARY:Assemblée générale des Amis de l’orgue de St Gildas d’Auray
DESCRIPTION:ASSEMBLEE GENERALE ORDINAIRE ET EXTRAORDINAIRE \nNous convions l’ensemble de nos adhérents et les personnes intéressées par la vie autour de l’orgue historique de St Gildas\, à honorer de leur présence cette « Assemblée »\, qui se tiendra Salle Bourdeloy à AURAY\, le samedi 30 septembre à 10h. \nOrdre du Jour \n\nMot d’accueil du président\, et rapport moral depuis l’AG du 16.12.2022\nExplication sur le changement nécessaire des statuts\, nouvelle rédaction commentée. Vote par l’assemblée.\nAdoption de l’appellation Alre’Orgues comme « nom de domaine » pour simplifier nos communications.\nAcceptation de la demande de la Mairie d’Auray pour que notre association serve de relais juridique auprès de la Fondation du Patrimoine (vote pour article statutaire). VOTE\nBilan de la saison musicale « les lundis du marché » et réflexion prospective pour 2024.\nMot du trésorier sur la situation des comptes financiers et bancaires.\nVote pour approuver le rapport moral et financier.\nAppel à candidature d’adhérents pour reformer un nouveau Conseil d’Administration élargi.\nAction à mener auprès des adhérents actuels et potentiels pour augmenter notre assise en ce domaine\nComment promouvoir les dons en faveur de l’association désormais habilités au rescrit fiscal (déductibilité des dons de l’impôt sur le revenu\, et de l’impôt sur les sociétés) ?\nLa parole est donnée au représentant de la Mairie\, et au Recteur de St Gildas\, membres de droit de notre association\nQuestions diverses\n\nNB – pour rappel les décisions sont actées par les adhérents à jour de leur cotisation
URL:https://paroisses-pays-auray.fr/event/assemblee-generale-des-amis-de-lorgue-de-st-gildas-dauray/
LOCATION:Salle paroissiale Bourdeloy\, 9 rue du Docteur Bourdeloy\, Auray\, 56400
CATEGORIES:Auray-Pluneret,Evénement accueil
ATTACH;FMTTYPE=image/jpeg:https://paroisses-pays-auray.fr/wp-content/uploads/2019/07/orgue_st_gildas.jpg
END:VEVENT
END:VCALENDAR