BEGIN:VCALENDAR
VERSION:2.0
PRODID:-//Paroisses du Pays d&#039;Auray - ECPv6.15.13//NONSGML v1.0//EN
CALSCALE:GREGORIAN
METHOD:PUBLISH
X-ORIGINAL-URL:https://paroisses-pays-auray.fr
X-WR-CALDESC:Évènements pour Paroisses du Pays d&#039;Auray
REFRESH-INTERVAL;VALUE=DURATION:PT1H
X-Robots-Tag:noindex
X-PUBLISHED-TTL:PT1H
BEGIN:VTIMEZONE
TZID:UTC
BEGIN:STANDARD
TZOFFSETFROM:+0000
TZOFFSETTO:+0000
TZNAME:UTC
DTSTART:20220101T000000
END:STANDARD
END:VTIMEZONE
BEGIN:VEVENT
DTSTART;TZID=UTC:20231005T200000
DTEND;TZID=UTC:20231005T220000
DTSTAMP:20260422T072703
CREATED:20231001T121022Z
LAST-MODIFIED:20231001T121022Z
UID:23813-1696536000-1696543200@paroisses-pays-auray.fr
SUMMARY:C'est parti! le CPP se réunit à Bourdeloy le 05 octobre à 20H00
DESCRIPTION:  \nLe Conseil Pastoral Paroissial:  \nPour mieux refléter la vie de la communauté chrétienne grâce à la diversité de ses membres\, notre ensemble paroissial Auray-Pluneret s’est doté d’un conseil pastoral paroissial. \nRôle et mission :  \nIl se fait l’écho de la vie de la paroisse et du monde qui l’entoure\, il choisit des questions à traiter\, il propose des orientations\, il aide à mûrir les projets qui lui sont confiés. \nPrésidé par le curé Gaëtan Lucas\, membre de droit\, le C.P.P. a un rôle consultatif et il est en lien régulier avec l’équipe pastorale.    Il se réunit 3 à 4 fois par an et a précisé\, lors de sa 1ère réunion\, ses modalités de fonctionnement (bureau \, secrétariat\, compte-rendu…). ça bouge et C’est parti! \nComposition : Il comprend 17 membres\, représentant les différentes réalités de notre territoire d’église. \nRéuni en assemblée constitutive fin juin\, il tiendra sa 1ère séance de travail le jeudi 05 octobre à 20H00.
URL:https://paroisses-pays-auray.fr/event/cest-parti-le-cpp-se-reunit-a-bourdeloy-le-05-octobre-a-20h00/
LOCATION:Maison Paroissiale Bourdeloy AURAY\, Rue Bourdeloy\, AURAY\, 56400\, France
CATEGORIES:Auray-Pluneret,Evénement accueil
ATTACH;FMTTYPE=image/jpeg:https://paroisses-pays-auray.fr/wp-content/uploads/2023/07/IMG_20230404_150330.jpg
END:VEVENT
END:VCALENDAR