BEGIN:VCALENDAR
VERSION:2.0
PRODID:-//Paroisses du Pays d&#039;Auray - ECPv6.15.13//NONSGML v1.0//EN
CALSCALE:GREGORIAN
METHOD:PUBLISH
X-WR-CALNAME:Paroisses du Pays d&#039;Auray
X-ORIGINAL-URL:https://paroisses-pays-auray.fr
X-WR-CALDESC:Évènements pour Paroisses du Pays d&#039;Auray
REFRESH-INTERVAL;VALUE=DURATION:PT1H
X-Robots-Tag:noindex
X-PUBLISHED-TTL:PT1H
BEGIN:VTIMEZONE
TZID:UTC
BEGIN:STANDARD
TZOFFSETFROM:+0000
TZOFFSETTO:+0000
TZNAME:UTC
DTSTART:20220101T000000
END:STANDARD
END:VTIMEZONE
BEGIN:VEVENT
DTSTART;TZID=UTC:20231012T203000
DTEND;TZID=UTC:20231012T223000
DTSTAMP:20260422T072555
CREATED:20230920T095958Z
LAST-MODIFIED:20230920T120921Z
UID:23717-1697142600-1697149800@paroisses-pays-auray.fr
SUMMARY:Mourir Dignement! Jacques RICOT à Auray le 12 octobre
DESCRIPTION:Mourir dans la dignité!\nLes débats sur la fin de vie sont souvent animés\, voire conflictuels! Tout le monde souhaite mourir dignement. mais\n\n\nMourir dans la dignité: C’est quoi? Qu’est-ce que cela veut dire?\nJacques RICOT\, agrégé et docteur en philosophie\, membre de la société française d’accompagnement et des soins palliatifs\,\nvient nous en parler lors d’une conférence donnée à Auray salle Bourdeloy\, le jeudi 12 octobre 2023 à 20H30.
URL:https://paroisses-pays-auray.fr/event/mourir-dignement-jacques-ricot-a-auray-le-12-octobre/
LOCATION:Maison Paroissiale Bourdeloy AURAY\, Rue Bourdeloy\, AURAY\, 56400\, France
CATEGORIES:Auray-Pluneret,Evénement accueil
ATTACH;FMTTYPE=image/webp:https://paroisses-pays-auray.fr/wp-content/uploads/2023/09/P26537733D4639096G-JR.webp
END:VEVENT
END:VCALENDAR