BEGIN:VCALENDAR
VERSION:2.0
PRODID:-//Paroisses du Pays d&#039;Auray - ECPv6.15.13//NONSGML v1.0//EN
CALSCALE:GREGORIAN
METHOD:PUBLISH
X-ORIGINAL-URL:https://paroisses-pays-auray.fr
X-WR-CALDESC:Évènements pour Paroisses du Pays d&#039;Auray
REFRESH-INTERVAL;VALUE=DURATION:PT1H
X-Robots-Tag:noindex
X-PUBLISHED-TTL:PT1H
BEGIN:VTIMEZONE
TZID:UTC
BEGIN:STANDARD
TZOFFSETFROM:+0000
TZOFFSETTO:+0000
TZNAME:UTC
DTSTART:20230101T000000
END:STANDARD
END:VTIMEZONE
BEGIN:VEVENT
DTSTART;VALUE=DATE:20240601
DTEND;VALUE=DATE:20240603
DTSTAMP:20260424T152342
CREATED:20240517T091818Z
LAST-MODIFIED:20240517T091818Z
UID:26239-1717200000-1717372799@paroisses-pays-auray.fr
SUMMARY:Fête du Saint- Sacrement à Ste Anne d'A.
DESCRIPTION:Fête du Saint-Sacrement les 1 et 2 juin \n► Veillée d’adoration: samedi 20h30-22h \n► Messes: Dimanche à 9h30\, 11h et 18h \n► Vêpres: Dimanche à 16h\, suivies d’une procession eucharistique dans le parc du sanctuaire. \n► Concert « America »: Dimanche 17h \nChichester Psalms de Leonard Bernstein avec l’Ensemble vocal de Sainte-Anne-d’Auray \n 
URL:https://paroisses-pays-auray.fr/event/fete-du-saint-sacrement-a-ste-anne-da/
CATEGORIES:Concerts,Evénement accueil,Paroisses de Sainte-Anne-d'Auray, Brec'h, Mériadec et Plumergat
ATTACH;FMTTYPE=image/jpeg:https://paroisses-pays-auray.fr/wp-content/uploads/2019/06/Saint-Sacrement-1.jpg
END:VEVENT
BEGIN:VEVENT
DTSTART;TZID=UTC:20240601T160000
DTEND;TZID=UTC:20240601T170000
DTSTAMP:20260424T152342
CREATED:20240524T204549Z
LAST-MODIFIED:20240524T204549Z
UID:26297-1717257600-1717261200@paroisses-pays-auray.fr
SUMMARY:Conférence: "l'eucharistie source et sommet de la vie chrétienne"
DESCRIPTION:Par le Père Olivian. \nSanctuaire de ste Anne d’Auray. \nEn l’honneur de la fête du Saint -Sacrement\, dimanche 2 juin.
URL:https://paroisses-pays-auray.fr/event/conference-leucharistie-source-et-sommet-de-la-vie-chretienne/
CATEGORIES:Conférences,Evénement accueil,Paroisses de Sainte-Anne-d'Auray, Brec'h, Mériadec et Plumergat
ATTACH;FMTTYPE=image/jpeg:https://paroisses-pays-auray.fr/wp-content/uploads/2024/03/eucharistie-photo-300x201-1.jpg
END:VEVENT
BEGIN:VEVENT
DTSTART;TZID=UTC:20240602T170000
DTEND;TZID=UTC:20240602T170000
DTSTAMP:20260424T152342
CREATED:20240517T092104Z
LAST-MODIFIED:20240517T092153Z
UID:26241-1717347600-1717347600@paroisses-pays-auray.fr
SUMMARY:Concert "America"
DESCRIPTION:Chichester Psalms de Leonard Bernstein avec l’Ensemble vocal de Sainte-Anne-d’Auray. \nEn la basilique de ste Anne d’Auray. \n 
URL:https://paroisses-pays-auray.fr/event/concert-america/
CATEGORIES:Concerts,Evénement accueil,Paroisses de Sainte-Anne-d'Auray, Brec'h, Mériadec et Plumergat
ATTACH;FMTTYPE=image/jpeg:https://paroisses-pays-auray.fr/wp-content/uploads/2023/05/academie-de-musique-sacree-2023.jpg
END:VEVENT
BEGIN:VEVENT
DTSTART;TZID=UTC:20240606T203000
DTEND;TZID=UTC:20240606T203000
DTSTAMP:20260424T152342
CREATED:20240527T125900Z
LAST-MODIFIED:20240527T130031Z
UID:26314-1717705800-1717705800@paroisses-pays-auray.fr
SUMMARY:Conférence: "travail et société"
DESCRIPTION:« Quelle espérance pour un nouveau catholicisme social ? » \nPar Joseph Thouvenel\, ancien vice-président de la CFTC\, directeur de la rédaction de « Capital-Social ».
URL:https://paroisses-pays-auray.fr/event/conference-travail-et-societe/
LOCATION:Maison du diocèse\, entrée par la rue des ursulines\, Vannes
CATEGORIES:Conférences,Evénement accueil
ATTACH;FMTTYPE=image/jpeg:https://paroisses-pays-auray.fr/wp-content/uploads/2024/05/Joseph-Thouvenel.jpeg
END:VEVENT
BEGIN:VEVENT
DTSTART;TZID=UTC:20240607T213000
DTEND;TZID=UTC:20240608T213000
DTSTAMP:20260424T152342
CREATED:20240527T131149Z
LAST-MODIFIED:20240527T131149Z
UID:26319-1717795800-1717882200@paroisses-pays-auray.fr
SUMMARY:Spectacle Son et Lumière: "la chapelle abandonnée"
DESCRIPTION: » Ar chapel dilaosket » en langue bretonne\, avec décor\, mise en scène et costumes.\nLes animaux\, tels qu’ils sont représentés sur les sablières des chapelles\, occupent le centre de cette soirée.\nTantôt satiriques\, tantôt fantastiques ou symboliques\, ils sont une merveilleuse porte d’entrée sur le monde des légendes bretonnes. \nPar les élèves du cursus « langue et culture bretonne » du lycée de Ste Anne d’Auray. \nDans le cloître du sanctuaire.
URL:https://paroisses-pays-auray.fr/event/spectacle-son-et-lumiere-la-chapelle-abandonnee/
CATEGORIES:Evénement accueil,Paroisses de Sainte-Anne-d'Auray, Brec'h, Mériadec et Plumergat
ATTACH;FMTTYPE=image/jpeg:https://paroisses-pays-auray.fr/wp-content/uploads/2023/11/cloitre-ste-anne.jpg
END:VEVENT
BEGIN:VEVENT
DTSTART;TZID=UTC:20240608T150000
DTEND;TZID=UTC:20240608T150000
DTSTAMP:20260424T152342
CREATED:20240607T163703Z
LAST-MODIFIED:20240607T163839Z
UID:26393-1717858800-1717858800@paroisses-pays-auray.fr
SUMMARY:Chants du monde
DESCRIPTION:La chorale  Kapadnom du Bono interprète des chants du monde. \nUne cinquantaine de choristes\, sous la direction de Gaëlle Mandard – Bessac\, offre des chants en langues étrangères: \n . chant chypriote sacré \n. berceuse bretonne. \n. chant suédois classique du début du 20ème siècle. \n. chanson pour enfants polonaise \n. et  quelques chants baroques de la Renaissance.\nEn la chapelle Notre-Dame de Béquerel du Bono – \n Accès par la route de Plougoumelen à Baden. \nLa chapelle se découvre à 200 mètres à pied de la route.
URL:https://paroisses-pays-auray.fr/event/chants-du-monde/
CATEGORIES:Concerts,Evénement accueil
ATTACH;FMTTYPE=image/jpeg:https://paroisses-pays-auray.fr/wp-content/uploads/2024/06/chorale-Kapadnom-e1717778197451.jpg
END:VEVENT
BEGIN:VEVENT
DTSTART;TZID=UTC:20240616T153000
DTEND;TZID=UTC:20240616T153000
DTSTAMP:20260424T152342
CREATED:20240524T205629Z
LAST-MODIFIED:20240524T205629Z
UID:26299-1718551800-1718551800@paroisses-pays-auray.fr
SUMMARY:Ordinations
DESCRIPTION:Selon le dessein bienveillant du Père\, \naccompli par le Seigneur Jésus-Christ \ndans le don de l’Esprit Saint\, \npour l’annonce de l’Évangile et le service du Peuple de Dieu\, \npar l’imposition des mains et la prière consécratoire\, \nMonseigneur Raymond CENTÈNE\, évêque de VANNES\, \nordonnera \nDiacre en vue du presbytérat: \nLouis-Henri CHOUANE \nPrêtre: \nEtienne MAROIS \nLe dimanche 16 juin2024\, à 15h30\, en la basilique Sainte Anne de Sainte-Anne-d’Auray \nPour assurer au Peuple de Dieu des pasteurs et les moyens de sa croissance\, \nle Christ a institué dans son Église divers ministères pour le bien de tous : \nDiacre en vue du presbytérat \nConfiguré au Christ-Serviteur\, il reçoit le célibat pour le Royaume comme un don et s’y engage. Il est ordonné par l’évêque de son diocèse\, dont il reçoit sa mission. Son ministère est au service de la Charité\, de la Liturgie et de la Parole de Dieu. «Il appartient aux diacres d’administrer solennellement le baptême\, de conserver et de distribuer l’Eucharistie\, d’assister\, au nom de l’Église\, au mariage et de le bénir\, de porter le viatique aux mourants\, de donner lecture aux fidèles de la Sainte Écriture\, d’instruire et exhorter le peuple\, de présider au culte et à la prière des fidèles\, d’être ministres des sacramentaux\, de présider aux rites funèbres et à la sépulture.»(LG29) \nÀ l’autel\, le diacre sert celui qui préside en lui présentant l’offrande eucharistique. Ministre de la coupe du Sang du Christ\, il est prêt à répandre le sien pour ses frères\, à l’exemple de saint Étienne et de saint Laurent. \nPrêtre \nAyant été ordonné diacre\, il reçoit l’ordination presbytérale de l’évêque de son diocèse. Son ministère est de rendre présent le Christ parmi les hommes. Premier collaborateur de l’évêque\, incorporé au presbyterium\, il reçoit de lui la mission d’instruire le peuple de Dieu et d’annoncer la foi\, de célébrer les sacrements\, notamment ceux du pardon et de l’Eucharistie\, et de guider le peuple de Dieu qui lui est confié.«Je te montrerai le chemin du Ciel.» (Saint Curé d’Ars) \n 
URL:https://paroisses-pays-auray.fr/event/ordinations/
CATEGORIES:Evénement accueil,Paroisses de Sainte-Anne-d'Auray, Brec'h, Mériadec et Plumergat
ATTACH;FMTTYPE=image/jpeg:https://paroisses-pays-auray.fr/wp-content/uploads/2017/02/ordination.jpg
END:VEVENT
BEGIN:VEVENT
DTSTART;VALUE=DATE:20240622
DTEND;VALUE=DATE:20240623
DTSTAMP:20260424T152342
CREATED:20240607T085602Z
LAST-MODIFIED:20240607T085602Z
UID:26382-1719014400-1719100799@paroisses-pays-auray.fr
SUMMARY:Le Tro Plum\, la suite… et le Feu de la Saint Jean
DESCRIPTION:Dans le cadre de la découverte de notre très riche patrimoine religieux et de journées intergénérationnelles\, nous continuons notre tour des chapelles de nos quatre paroisses : \n14h00   Accueil de tous à l’église de Plumergat \n14h15   Visite de l’église \n14h45   départ du Tro Plum \n16h30   Arrivée à la chapelle de Locmaria: visite et goûter offert par les paroissiens \n17h15   Départ vers la chapelle ND de Gornevec \n18h00 Messe dominicale à ND de Gornevec. \n19h00 Près de la chapelle\, feu de la St Jean. \n19h30 Pique-nique tiré du sac. \nSuivant les possibilités de chacun\, on peut participer à tout ou à une partie de cette demie journée..
URL:https://paroisses-pays-auray.fr/event/le-tro-plum-la-suite-et-le-feu-de-la-saint-jean/
CATEGORIES:Evénement accueil,Paroisses de Sainte-Anne-d'Auray, Brec'h, Mériadec et Plumergat
ATTACH;FMTTYPE=image/jpeg:https://paroisses-pays-auray.fr/wp-content/uploads/2018/11/chapelle_notre_dame_de_governec-300x225.jpg
END:VEVENT
BEGIN:VEVENT
DTSTART;TZID=UTC:20240624T183000
DTEND;TZID=UTC:20240624T200000
DTSTAMP:20260424T152342
CREATED:20240527T135507Z
LAST-MODIFIED:20240527T135507Z
UID:26329-1719253800-1719259200@paroisses-pays-auray.fr
SUMMARY:Dédicace "Prier avec 52 saints"
DESCRIPTION:Cocktail de fin d’année de la Pastorale familiale et dédicace du livre d’Anne- Lys Breurec « Prier avec 52 couples saints ». \nAnne-Lys Breurec\, mère de famille et professeure des écoles\, vit  à Ste Anne d’Auray. Elle a aussi publié « Prier avec 52 saintes et mères de famille »\, « 52 saints et pères de famille »\, « Prier le chapelet avec 35 saints » \nMerci de confirmer votre présence.\nmaison du Diocèse (salle 17)\, rue Mgr Tréhiou à Vannes. Parking rue des ursulines.\npastoralefamiliale@diocese-vannes.fr\n06 67 07 43 39
URL:https://paroisses-pays-auray.fr/event/dedicace-prier-avec-52-saints/
CATEGORIES:Evénement accueil,Paroisses de Sainte-Anne-d'Auray, Brec'h, Mériadec et Plumergat
ATTACH;FMTTYPE=image/jpeg:https://paroisses-pays-auray.fr/wp-content/uploads/2024/05/BREUREC.JPG.jpeg
END:VEVENT
BEGIN:VEVENT
DTSTART;VALUE=DATE:20240629
DTEND;VALUE=DATE:20240630
DTSTAMP:20260424T152342
CREATED:20240509T193307Z
LAST-MODIFIED:20240607T064020Z
UID:26200-1719619200-1719705599@paroisses-pays-auray.fr
SUMMARY:Tro ar Barrez d'Auray-Pluneret
DESCRIPTION:Le tour de ma paroisse\nPèlerinage pour la fête de St Pierre et St Paul\nVenez faire le tour de nos principaux lieux de culte : de Charles de Blois à St Pierre & St Paul à Pluneret\, en passant par St Gildas\, le Père Eternel\, St Goustan. \nUn pèlerinage\, à pied pour mieux faire connaissance des lieux et des personnes qui les font vivre : \n\nCafé d’accueil à 9h30 et départ de Charles de Blois à 10h15\nhalte spirituelle à l’église de St Gildas\nhalte spirituelle à l’église du St Sauveur à Goustan\nvers 12h30 : arrivée à la chapelle du Père Eternel : repas tiré du sac\, halte spirituelle et jeux\nvers 15h : départ de la chapelle du Père Eternel vers Pluneret\n16h15 : vêpres à l’église St Pierre & St Paul de Pluneret\n16h30 : Eucharistie\n\n  \nVous pourrez aussi nous rejoindre en voiture\, ou à vélo\, aux diﬀérents points d’arrêts : St Gildas vers 10h45\, St Sauveur vers 11h30\, pique-nique chez les Sœurs de la Charité de St Louis au Père Eternel\, les vêpres et  la messe à Pluneret. \n  \n  \n 
URL:https://paroisses-pays-auray.fr/event/tro-ar-barrez-dauray-pluneret/
CATEGORIES:Auray-Pluneret,Evénement accueil,Journal_AP
ATTACH;FMTTYPE=image/jpeg:https://paroisses-pays-auray.fr/wp-content/uploads/2024/05/tro-ar-barrez.jpg
END:VEVENT
END:VCALENDAR