BEGIN:VCALENDAR
VERSION:2.0
PRODID:-//Paroisses du Pays d&#039;Auray - ECPv6.15.13//NONSGML v1.0//EN
CALSCALE:GREGORIAN
METHOD:PUBLISH
X-WR-CALNAME:Paroisses du Pays d&#039;Auray
X-ORIGINAL-URL:https://paroisses-pays-auray.fr
X-WR-CALDESC:Évènements pour Paroisses du Pays d&#039;Auray
REFRESH-INTERVAL;VALUE=DURATION:PT1H
X-Robots-Tag:noindex
X-PUBLISHED-TTL:PT1H
BEGIN:VTIMEZONE
TZID:UTC
BEGIN:STANDARD
TZOFFSETFROM:+0000
TZOFFSETTO:+0000
TZNAME:UTC
DTSTART:20230101T000000
END:STANDARD
END:VTIMEZONE
BEGIN:VEVENT
DTSTART;TZID=UTC:20240802T161500
DTEND;TZID=UTC:20240802T161500
DTSTAMP:20260424T122212
CREATED:20240727T204138Z
LAST-MODIFIED:20240727T204502Z
UID:26847-1722615300-1722615300@paroisses-pays-auray.fr
SUMMARY:Concert des organistes de ste Anne d'A.
DESCRIPTION:Bruno Belliot\, Michel Jézo\, Jean-Marie Guézel\, Véronique Le Guen\, Emmanuel Pottier seront à l’orgue Cavaillé-Coll de la basilique de ste Anne d’Auray. \nLibre participation.
URL:https://paroisses-pays-auray.fr/event/concert-des-organistes-de-ste-anne-da/
CATEGORIES:Concerts,Evénement accueil,Paroisses de Sainte-Anne-d'Auray, Brec'h, Mériadec et Plumergat
ATTACH;FMTTYPE=image/jpeg:https://paroisses-pays-auray.fr/wp-content/uploads/2019/05/orgue-ste-anne.jpg
END:VEVENT
BEGIN:VEVENT
DTSTART;VALUE=DATE:20240806
DTEND;VALUE=DATE:20240807
DTSTAMP:20260424T122212
CREATED:20200812T134359Z
LAST-MODIFIED:20240721T125017Z
UID:6625-1722902400-1722988799@paroisses-pays-auray.fr
SUMMARY:Transfiguration du Seigneur
DESCRIPTION:Jésus manifeste sa divinité en rencontrant Moïse et Elie. Ses apôtres Pierre\, Jacques et Jean en sont témoins: \nÉvangile de Jésus Christ selon saint Marc \nEn ce temps-là\, Jésus prit avec lui Pierre\, Jacques et Jean\, et les emmena\, eux seuls\, à l’écart sur une haute montagne.\nEt il fut transfiguré devant eux.\nSes vêtements devinrent resplendissants\, d’une blancheur telle que personne sur terre ne peut obtenir une blancheur pareille. Élie leur apparut avec Moïse\, et tous deux s’entretenaient avec Jésus. \nPierre alors prend la parole et dit à Jésus :\n« Rabbi\, il est bon que nous soyons ici ! Dressons donc trois tentes : une pour toi\, une pour Moïse\, et une pour Élie. »\nDe fait\, Pierre ne savait que dire\, tant leur frayeur était grande. \nSurvint une nuée qui les couvrit de son ombre\, et de la nuée une voix se fit entendre :\n« Celui-ci est mon Fils bien-aimé : écoutez-le ! »\nSoudain\, regardant tout autour\, ils ne virent plus que Jésus seul avec eux. \nIls descendirent de la montagne\, et Jésus leur ordonna de ne raconter à personne ce qu’ils avaient vu\, avant que le Fils de l’homme soit ressuscité d’entre les morts.\nEt ils restèrent fermement attachés à cette parole\, tout en se demandant entre eux ce que voulait dire : « ressusciter d’entre les morts ». \nDécouvrez un jeu de dominos et un vitrail de la Transfiguration à fabriquer: ici!
URL:https://paroisses-pays-auray.fr/event/transfiguration-du-seigneur-ce-6-aout/
CATEGORIES:Evénement accueil
ATTACH;FMTTYPE=image/jpeg:https://paroisses-pays-auray.fr/wp-content/uploads/2019/08/transfiguration.jpg
END:VEVENT
BEGIN:VEVENT
DTSTART;TZID=UTC:20240809T161500
DTEND;TZID=UTC:20240809T161500
DTSTAMP:20260424T122212
CREATED:20240721T120044Z
LAST-MODIFIED:20240721T120257Z
UID:26747-1723220100-1723220100@paroisses-pays-auray.fr
SUMMARY:Concert
DESCRIPTION:Clémence Renoir à l’orgue. \nClotilde Buffenoir\, soprano. \nEn la basilique de ste Anne d’Auray. \nLibre participation aux frais. \n 
URL:https://paroisses-pays-auray.fr/event/concert-3/
CATEGORIES:Concerts,Evénement accueil,Paroisses de Sainte-Anne-d'Auray, Brec'h, Mériadec et Plumergat
ATTACH;FMTTYPE=image/jpeg:https://paroisses-pays-auray.fr/wp-content/uploads/2019/05/orgue-ste-anne.jpg
END:VEVENT
BEGIN:VEVENT
DTSTART;TZID=UTC:20240813T170000
DTEND;TZID=UTC:20240813T170000
DTSTAMP:20260424T122212
CREATED:20210712T130728Z
LAST-MODIFIED:20240802T204712Z
UID:14845-1723568400-1723568400@paroisses-pays-auray.fr
SUMMARY:Balade ornithologique
DESCRIPTION:Découvrez autrement le parc du sanctuaire de ste Anne d’Auray\, en écoutant le chant des oiseaux : des choucas du clocher\, en passant par les sittelles ou les grimpereaux derrière le Mémorial\, la bergeronnette des ruisseaux à proximité du bassin des Carmes. \nEcoutez la beauté de la nature ! Peut-être même pourrez-vous apercevoir un martin pêcheur ? \nLa balade d’une heure permet de voir ou d’entendre une vingtaine d’oiseaux ! \nCette balade ornithologique est guidée par Stéphanie Guégan\, naturaliste passionnée et pédagogue. \nTous les mardis\, à 17h\, dans le parc du sanctuaire de Ste Anne d’Auray. \nDépart du chalet devant la basilique. \nOffrande conseillé: 5 euros par adulte\, 2 euros par enfant
URL:https://paroisses-pays-auray.fr/event/a-lecoute-des-oiseaux/
LOCATION:Sainte Anne d’Auray
CATEGORIES:Evénement accueil,Paroisses de Sainte-Anne-d'Auray, Brec'h, Mériadec et Plumergat
ATTACH;FMTTYPE=image/jpeg:https://paroisses-pays-auray.fr/wp-content/uploads/2021/07/oiseaux-t-e1687790282685.jpg
END:VEVENT
BEGIN:VEVENT
DTSTART;VALUE=DATE:20240814
DTEND;VALUE=DATE:20240816
DTSTAMP:20260424T122212
CREATED:20240721T122256Z
LAST-MODIFIED:20240721T122904Z
UID:26749-1723593600-1723766399@paroisses-pays-auray.fr
SUMMARY:45ème Pardon des motards
DESCRIPTION:Le Pardon de Notre-Dame de Porcaro réunit 10 000 motards chaque année. Ils viennent de toute la France et même d’ailleurs en Europe. \nLes « bikers » font bénir leur cylindrée mais aussi présenter leurs vies avec leurs joies et leurs peines. \nAu programme: des temps de prière\, une procession aux flambeaux\, des concerts\, une balade. \nMesse de l’Assomption\, le 15 août à 10h\, bénédiction des motos à 11h30\, départ de la balade à 14h jusqu’à Malestroit. \nTout savoir
URL:https://paroisses-pays-auray.fr/event/45eme-pardon-des-motards/
CATEGORIES:Evénement accueil
ATTACH;FMTTYPE=image/jpeg:https://paroisses-pays-auray.fr/wp-content/uploads/2024/07/©Madone-des-motards-2.jpg
END:VEVENT
BEGIN:VEVENT
DTSTART;TZID=UTC:20240814T140000
DTEND;TZID=UTC:20240814T140000
DTSTAMP:20260424T122212
CREATED:20240721T122622Z
LAST-MODIFIED:20240721T122712Z
UID:26752-1723644000-1723644000@paroisses-pays-auray.fr
SUMMARY:Atelier broderie
DESCRIPTION:Venez découvrir les bases de la broderie. \nMatériel fourni pour réaliser un motif sur pochette. \nMédiathèque de ste Anne d’Auray
URL:https://paroisses-pays-auray.fr/event/atelier-broderie/
LOCATION:Sainte Anne d’Auray
CATEGORIES:Evénement accueil,Paroisses de Sainte-Anne-d'Auray, Brec'h, Mériadec et Plumergat
ATTACH;FMTTYPE=image/jpeg:https://paroisses-pays-auray.fr/wp-content/uploads/2023/07/mouette-en-broderie-225x300-1.jpg
END:VEVENT
BEGIN:VEVENT
DTSTART;TZID=UTC:20240814T161500
DTEND;TZID=UTC:20240814T170000
DTSTAMP:20260424T122212
CREATED:20240814T084346Z
LAST-MODIFIED:20240814T084346Z
UID:26879-1723652100-1723654800@paroisses-pays-auray.fr
SUMMARY:Concert jeunes musiciens
DESCRIPTION:Gabriel de Laharpe (orgue) et Matthieu Auvray (chant) sont deux jeunes musiciens au service de la liturgie du sanctuaire. \nEn la basilique de Ste Anne d’Auray. \nLibre participation aux frais
URL:https://paroisses-pays-auray.fr/event/concert-jeunes-musiciens/
LOCATION:Sainte Anne d’Auray
CATEGORIES:Evénement accueil,Paroisses de Sainte-Anne-d'Auray, Brec'h, Mériadec et Plumergat
ATTACH;FMTTYPE=image/jpeg:https://paroisses-pays-auray.fr/wp-content/uploads/2019/05/orgue-ste-anne.jpg
END:VEVENT
BEGIN:VEVENT
DTSTART;TZID=UTC:20240814T210000
DTEND;TZID=UTC:20240814T210000
DTSTAMP:20260424T122212
CREATED:20240721T123618Z
LAST-MODIFIED:20240721T123817Z
UID:26756-1723669200-1723669200@paroisses-pays-auray.fr
SUMMARY:Bal Renaissance et contredanses
DESCRIPTION:Proposé par Laurence Pottier et son ensemble « Les musiciens de Mademoiselle de Guise ». \nDans le cadre du stage de musique ancienne à l’Académie De Musique et Arts Sacrés. \nLibre participation. \nSalle Hillion- Ste Anne d’Auray à 21h.
URL:https://paroisses-pays-auray.fr/event/bal-renaissance-et-contredanses/
CATEGORIES:Evénement accueil,Paroisses de Sainte-Anne-d'Auray, Brec'h, Mériadec et Plumergat
ATTACH;FMTTYPE=image/jpeg:https://paroisses-pays-auray.fr/wp-content/uploads/2023/07/Laurence-Pottier.jpg
END:VEVENT
BEGIN:VEVENT
DTSTART;TZID=UTC:20240815T210000
DTEND;TZID=UTC:20240815T210000
DTSTAMP:20260424T122212
CREATED:20240721T124056Z
LAST-MODIFIED:20240721T145412Z
UID:26759-1723755600-1723755600@paroisses-pays-auray.fr
SUMMARY:Concert des professeurs
DESCRIPTION:Proposé par Laurence Pottier et son ensemble « Les musiciens de Mademoiselle de Guise ». \nDans le cadre du stage de musique ancienne à l’Académie De Musique et Arts Sacrés. \nSalle Hillion- Ste Anne d’Auray à 21h. \nEntrée payante.
URL:https://paroisses-pays-auray.fr/event/concert-des-professeurs-2/
LOCATION:Sainte Anne d’Auray
CATEGORIES:Concerts,Evénement accueil,Paroisses de Sainte-Anne-d'Auray, Brec'h, Mériadec et Plumergat
ATTACH;FMTTYPE=image/jpeg:https://paroisses-pays-auray.fr/wp-content/uploads/2023/07/Laurence-Pottier.jpg
END:VEVENT
BEGIN:VEVENT
DTSTART;TZID=UTC:20240817T203000
DTEND;TZID=UTC:20240817T203000
DTSTAMP:20260424T122212
CREATED:20240814T084730Z
LAST-MODIFIED:20240814T084853Z
UID:26881-1723926600-1723926600@paroisses-pays-auray.fr
SUMMARY:Concert des stagiaires de musique ancienne
DESCRIPTION:Carte blanche aux stagiaires de Laurence Pottier et son ensemble les Musiciens de Mademoiselle de Guise. \nSalle Hillion à Sainte Anne d’Auray. Accès par le 11 rue de Vannes. \nLibre participation.
URL:https://paroisses-pays-auray.fr/event/concert-des-stagiaires-de-musique-ancienne/
CATEGORIES:Concerts,Evénement accueil,Paroisses de Sainte-Anne-d'Auray, Brec'h, Mériadec et Plumergat
ATTACH;FMTTYPE=image/jpeg:https://paroisses-pays-auray.fr/wp-content/uploads/2023/07/Laurence-Pottier.jpg
END:VEVENT
BEGIN:VEVENT
DTSTART;VALUE=DATE:20240818
DTEND;VALUE=DATE:20240819
DTSTAMP:20260424T122212
CREATED:20200604T155908Z
LAST-MODIFIED:20240613T132817Z
UID:10230-1723939200-1724025599@paroisses-pays-auray.fr
SUMMARY:Pardon de N.D de la Force à Brec'h
DESCRIPTION:La messe du Pardon sera célébrée dans la chapelle à 11h. \nElle sera précédée de la bénédiction de l’eau à la fontaine\,  puis de la demande de pardon et de la procession vers la chapelle. \nLa chapelle s’appelle aussi Notre-Dame de Grâce\, en Tréavrec’h. \n 
URL:https://paroisses-pays-auray.fr/event/pardon-de-n-d-de-la-force-a-brech/
CATEGORIES:Evénement accueil,Pardons,Paroisses de Sainte-Anne-d'Auray, Brec'h, Mériadec et Plumergat
ATTACH;FMTTYPE=image/jpeg:https://paroisses-pays-auray.fr/wp-content/uploads/2018/11/chapelle_treavrec.jpg
END:VEVENT
BEGIN:VEVENT
DTSTART;TZID=UTC:20240819T210000
DTEND;TZID=UTC:20240819T210000
DTSTAMP:20260424T122212
CREATED:20240814T093645Z
LAST-MODIFIED:20240816T150209Z
UID:26894-1724101200-1724101200@paroisses-pays-auray.fr
SUMMARY:Concert de musique ancienne
DESCRIPTION:Carte blanche aux stagiaires de Laurence Pottier et son ensemble les Musiciens de Mademoiselle de Guise. \nSalle Hillion à Sainte Anne d’Auray. Accès par le 11 rue de Vannes. \nLibre participation.
URL:https://paroisses-pays-auray.fr/event/26894/
CATEGORIES:Concerts,Evénement accueil,Paroisses de Sainte-Anne-d'Auray, Brec'h, Mériadec et Plumergat
ATTACH;FMTTYPE=image/jpeg:https://paroisses-pays-auray.fr/wp-content/uploads/2023/07/Laurence-Pottier.jpg
END:VEVENT
BEGIN:VEVENT
DTSTART;TZID=UTC:20240820T150000
DTEND;TZID=UTC:20240820T150000
DTSTAMP:20260424T122212
CREATED:20240814T093856Z
LAST-MODIFIED:20240814T094729Z
UID:26896-1724166000-1724166000@paroisses-pays-auray.fr
SUMMARY:Concert: Euridice
DESCRIPTION:Les stagiaires de Laurence Pottier et son ensemble les Musiciens de Mademoiselle de Guise joueront Euridice de Jacopo Péri (XVIème). \nSalle Hillion à Sainte Anne d’Auray. Accès par le 11 rue de Vannes. \nLibre participation.
URL:https://paroisses-pays-auray.fr/event/concert-euridice/
CATEGORIES:Concerts,Evénement accueil,Paroisses de Sainte-Anne-d'Auray, Brec'h, Mériadec et Plumergat
ATTACH;FMTTYPE=image/jpeg:https://paroisses-pays-auray.fr/wp-content/uploads/2023/07/Laurence-Pottier.jpg
END:VEVENT
BEGIN:VEVENT
DTSTART;TZID=UTC:20240820T170000
DTEND;TZID=UTC:20240820T170000
DTSTAMP:20260424T122212
CREATED:20230728T094416Z
LAST-MODIFIED:20240814T084015Z
UID:23041-1724173200-1724173200@paroisses-pays-auray.fr
SUMMARY:Balade ornithologique
DESCRIPTION:Concert en plein air des voix de nos petits « frères » les pinsons des arbres\, martinets noirs ou encore les troglodytes mignons parmi les populations observables\, l’été\, aux abords du sanctuaire. \nCette dernière balade ornithologique est guidée par Stéphanie Guégan\, naturaliste passionnée et pédagogue. \nTous les mardis d’été\, à 17h\, dans le parc du sanctuaire de Ste Anne d’Auray. Durée: une heure.\n \nDépart du chalet devant la basilique. \nOffrande conseillé: 5 euros par adulte\, 2 euros par enfant
URL:https://paroisses-pays-auray.fr/event/balade-ornithologique/
LOCATION:Sainte Anne d’Auray
CATEGORIES:Evénement accueil
ATTACH;FMTTYPE=image/jpeg:https://paroisses-pays-auray.fr/wp-content/uploads/2021/07/oiseaux-t-e1687790282685.jpg
END:VEVENT
BEGIN:VEVENT
DTSTART;TZID=UTC:20240821T110000
DTEND;TZID=UTC:20240821T110000
DTSTAMP:20260424T122212
CREATED:20240629T092739Z
LAST-MODIFIED:20240814T085012Z
UID:26644-1724238000-1724238000@paroisses-pays-auray.fr
SUMMARY:"Histoires sacrées": visite commentée de l'exposition
DESCRIPTION:Visite commentée de l’exposition “Istorioù sakret » (Sacrés histoires) – Il était une fois… le sanctuaire de Sainte-Anne“ \nL’équipe du Pôle patrimoine de l’Académie de Musique et d’Arts Sacrés vous guide à travers la lecture de l’exposition.\nUne découverte ou redécouverte de l’histoire du sanctuaire et des objets des collections. \nUne scénographie et des outils de médiation renouvelés\nLa Galerie du Cloître déploie une scénographie renouvelée\, qui aborde l’histoire du site à travers de nouveaux objets et depuis un autre regard\, celui de la figure de sainte Anne\, à la fois clé et porte d’entrée de cette longue histoire.\nDes zones de relecture et de médiation\, situées à la fin de chaque séquence\, viennent compléter le propos de manière ludique et didactique: objets à manipuler\, outils audiovisuels… \nUne place de choix pour le Trésor\nLe Trésor intègre le parcours permanent. Cet espace offre un nouvel écrin aux\nnombreux présents offerts par les pèlerins. \nGalerie du cloître du sanctuaire de ste Anne d’Auray\n(accès par le cloître) \nTarif : 5 € adultes – Gratuit pour les mineurs.
URL:https://paroisses-pays-auray.fr/event/histoires-sacrees-visite-commentee-de-lexposition/
CATEGORIES:Evénement accueil,Paroisses de Sainte-Anne-d'Auray, Brec'h, Mériadec et Plumergat
ATTACH;FMTTYPE=image/jpeg:https://paroisses-pays-auray.fr/wp-content/uploads/2023/11/cloitre-ste-anne.jpg
END:VEVENT
BEGIN:VEVENT
DTSTART;TZID=UTC:20240823T161500
DTEND;TZID=UTC:20240823T161500
DTSTAMP:20260424T122212
CREATED:20240814T090417Z
LAST-MODIFIED:20240814T091358Z
UID:26883-1724429700-1724429700@paroisses-pays-auray.fr
SUMMARY:Concert des petits chanteurs de St Dominique
DESCRIPTION:La manécanterie de Versailles accueille des garçons de 8 à 18 ans. Elle s’inscrit dans la tradition des maîtrises de garçons qui font vivre la liturgie de l’Eglise  depuis mille ans. \nLe choeur interprètera le Magnificat de J.S Bach. \nBasilique de ste Anne d’Auray. \nLibre participation aux frais
URL:https://paroisses-pays-auray.fr/event/concert-des-petits-chanteurs-de-st-dominique/
LOCATION:Sainte Anne d’Auray
CATEGORIES:Concerts,Evénement accueil,Paroisses de Sainte-Anne-d'Auray, Brec'h, Mériadec et Plumergat
ATTACH;FMTTYPE=image/png:https://paroisses-pays-auray.fr/wp-content/uploads/2020/07/concert.png
END:VEVENT
BEGIN:VEVENT
DTSTART;VALUE=DATE:20240825
DTEND;VALUE=DATE:20240826
DTSTAMP:20260424T122212
CREATED:20200604T160350Z
LAST-MODIFIED:20240613T133040Z
UID:10234-1724544000-1724630399@paroisses-pays-auray.fr
SUMMARY:Pardon de St Goal\, à Brec'h
DESCRIPTION:Messe en la chapelle de Calan. \nLa célébration commence à la fontaine à 10H45. Bénédiction de l’eau\, demande de pardon et procession avant le début de la célébration à la chapelle. \nLa chapelle date du XVIIIème siècle. \nErmite breton\, St Goal se retire dans une petite île de la rivière d’Etel près de Lorient. Plus tard\, il fonde à Camors\, avec ses disciples\, un petit couvent où il vit paisiblement jusqu’à sa mort. (VIIème siècle) \nPas de messe\, ce dimanche\, en l’église paroissiale sauf en cas de mauvais temps.
URL:https://paroisses-pays-auray.fr/event/pardon-de-st-goal-a-brech/
CATEGORIES:Evénement accueil,Pardons,Paroisses de Sainte-Anne-d'Auray, Brec'h, Mériadec et Plumergat
ATTACH;FMTTYPE=image/jpeg:https://paroisses-pays-auray.fr/wp-content/uploads/2018/11/chapelle_st_goal.jpg
END:VEVENT
BEGIN:VEVENT
DTSTART;TZID=UTC:20240825T170000
DTEND;TZID=UTC:20240825T170000
DTSTAMP:20260424T122212
CREATED:20240814T092120Z
LAST-MODIFIED:20240814T092505Z
UID:26890-1724605200-1724605200@paroisses-pays-auray.fr
SUMMARY:Concert des Ramsey singers
DESCRIPTION:Les chanteurs britanniques donnent un concert sous la directeur de Mark Fenton. \nEn la basilique de Ste Anne d’Auray. \nLibre participation aux frais. \nLe choeur animera également la messe de 11h.
URL:https://paroisses-pays-auray.fr/event/concert-des-ramsey-singers/
CATEGORIES:Concerts,Evénement accueil,Paroisses de Sainte-Anne-d'Auray, Brec'h, Mériadec et Plumergat
ATTACH;FMTTYPE=image/jpeg:https://paroisses-pays-auray.fr/wp-content/uploads/2024/08/ramsey-singers.jpeg
END:VEVENT
END:VCALENDAR