BEGIN:VCALENDAR
VERSION:2.0
PRODID:-//Paroisses du Pays d&#039;Auray - ECPv6.15.13//NONSGML v1.0//EN
CALSCALE:GREGORIAN
METHOD:PUBLISH
X-ORIGINAL-URL:https://paroisses-pays-auray.fr
X-WR-CALDESC:Évènements pour Paroisses du Pays d&#039;Auray
REFRESH-INTERVAL;VALUE=DURATION:PT1H
X-Robots-Tag:noindex
X-PUBLISHED-TTL:PT1H
BEGIN:VTIMEZONE
TZID:UTC
BEGIN:STANDARD
TZOFFSETFROM:+0000
TZOFFSETTO:+0000
TZNAME:UTC
DTSTART:20230101T000000
END:STANDARD
END:VTIMEZONE
BEGIN:VEVENT
DTSTART;VALUE=DATE:20240901
DTEND;VALUE=DATE:20240902
DTSTAMP:20260424T104256
CREATED:20200604T160631Z
LAST-MODIFIED:20240613T133142Z
UID:10236-1725148800-1725235199@paroisses-pays-auray.fr
SUMMARY:Pardon de St Clément à Brec’h
DESCRIPTION:Messe à 10h45. \nLa chapelle fut construite en 1874. \nSt Clément était un disciple de St Paul. Il est évoqué dans sa lettre aux Philippiens (4.3). C’ est l’un des premiers successeurs de St Pierre sur le siège de Rome. Mais on sait peu de choses de son pontificat en début de l’Eglise. \nPas de messe en l’église paroissiale de Brec’h sauf en cas de mauvais temps.
URL:https://paroisses-pays-auray.fr/event/pardon-de-st-clement-a-brech/
CATEGORIES:Evénement accueil,Pardons,Paroisses de Sainte-Anne-d'Auray, Brec'h, Mériadec et Plumergat
ATTACH;FMTTYPE=image/jpeg:https://paroisses-pays-auray.fr/wp-content/uploads/2018/11/st-clément.jpg
END:VEVENT
BEGIN:VEVENT
DTSTART;TZID=UTC:20240903T183000
DTEND;TZID=UTC:20240903T183000
DTSTAMP:20260424T104256
CREATED:20240901T125225Z
LAST-MODIFIED:20240918T135256Z
UID:26992-1725388200-1725388200@paroisses-pays-auray.fr
SUMMARY:Rencontre pour devenir chrétien ou pleinement chrétien
DESCRIPTION:Il n’y a pas d’âge pour devenir chrétien. Et pour devenir pleinement chrétien\, il est nécessaire de recevoir les sacrements de l’Initiation Chrétienne : le baptême\, la confirmation et l’eucharistie. Recevoir le baptême sans se préparer à être confirmé et à recevoir l’eucharistie\, c’est un peu comme si on nous ouvrait la porte\, qu’on nous souhaitait la bienvenue\, et que nous n’entrions pas dans la maison.  Recevoir le baptême c’est une invitation à entrer dans la Maison/Eglise\, y être confirmé et recevoir l’eucharistie. Ces sacrements de l’Initiation Chrétienne font pleinement les chrétiens. Cependant ce n’est pas un acquis définitif. Nous avons tout au long de notre vie à « devenir chrétien ». \nDe plus pour ceux qui n’ont pas reçu l’un ou l’autre sacrement de l’Initiation Chrétienne\, il n’est jamais trop tard pour bien faire.  On peut être baptisé\, être confirmé et/ou communier pour la première fois à tous les âges de la vie. \nD’autres ont pris des distances. Certes\, ils ont « tout eu »\, mais ils se sont éloignés et voudraient recommencer à approfondir leur foi. Il n’est jamais trop tard pour bien faire… On peut recommencer à vivre la foi chrétienne à tout âge. \nPour tous\, une petite équipe existe sur Sainte-Anne. Elle se retrouve une fois par mois.  \nC’est un lieu de partage et d’approfondissement de la foi au rythme de l’année liturgique et des questions que l’on peut se poser. L’entrée est libre. On ne demande ni passeport\, ni diplôme… Et c’est gratuit. On peut simplement y venir une fois pour voir\, ou plus si affinités! D’ailleurs c’est bien l’invitation de Jésus : « Venez et voyez » (Jean 1\,39). \nPour tous ceux qui seraient intéressés par une telle proposition\, ne pas hésiter à se faire connaitre auprès de l’accueil du sanctuaire et des paroisses (9 rue de Vannes\, Sainte-Anne). \nDe plus n’hésitez pas à faire connaître cette proposition à des personnes qui n’osent pas faire le pas. Ce n’est pas si facile de pousser la porte de l’Eglise. On a besoin parfois d’être aidé. Que l’on ait quatre ans ou quatre-vingt ans\, cette proposition est pour tous.  \nEt que le Seigneur nous aide à devenir toujours de plus en plus chrétiens ! \nLe Père Gwenaël Maurey \n  \n\nProchaine rencontre  :  le 3ème mardi du mois\, de 18h30 à 20h00\, salle paroissiale\n\nSalle paroissiale\, 2 rue de la fontaine à Ste Anne d’Auray. Entrée libre pour toutes les personnes de la communauté paroissiale de ste Anne d’Auray\, Brec’h\, Plumergat et Mériadec.
URL:https://paroisses-pays-auray.fr/event/rencontre-pour-devenir-chretien-ou-pleinement-chretien/
CATEGORIES:Evénement accueil,Paroisses de Sainte-Anne-d'Auray, Brec'h, Mériadec et Plumergat
ATTACH;FMTTYPE=image/jpeg:https://paroisses-pays-auray.fr/wp-content/uploads/2018/12/bapteme_adulte-03f1e.jpg
END:VEVENT
BEGIN:VEVENT
DTSTART;TZID=UTC:20240906T183000
DTEND;TZID=UTC:20240906T183000
DTSTAMP:20260424T104256
CREATED:20240903T192848Z
LAST-MODIFIED:20240903T192848Z
UID:27011-1725647400-1725647400@paroisses-pays-auray.fr
SUMMARY:Cirque\, théâtre\, musique
DESCRIPTION:La Belle Porte a la chance d’accueillir la compagnie Artiflette pour son spectacle.\nVous aimez l’art\, le cirque\, le théâtre\, la musique ?\nLe spectacle « Petit(s) Présent(s) pour Grand Futur » va alors vous ravir le cœur et l’esprit et vous en mettre plein les yeux !\n\nRendez-vous au Vieux Verger\, 13 allée Marie-Louise Trichet à Brech. \n\n\nA la suite du spectacle\, vous pouvez rester avec les artistes et notre communauté La Belle Porte pour un repas partagé !\n N’oubliez pas d’apporter vos couverts et votre plat préféré (salé et/ou sucré) !\n\nVous souhaitez être des nôtres ? Rien de plus simple\, rendez-vous ici pour vous inscrire. La participation est libre\, chacun fait comme il peut.\nNéanmoins\, il faut savoir qu’un événement de cette envergure coûte entre 7 et 15€ par personne.\n\nNous serions ravis de vous compter parmi nous à l’occasion de ce beau spectacle !\nN’hésitez pas à relayer ce mail autour de vous et d’en faire part à votre famille\, à vos amis\, ça va être une belle fête !
URL:https://paroisses-pays-auray.fr/event/cirque-theatre-musique/
CATEGORIES:Evénement accueil,Paroisses de Sainte-Anne-d'Auray, Brec'h, Mériadec et Plumergat
ATTACH;FMTTYPE=image/jpeg:https://paroisses-pays-auray.fr/wp-content/uploads/2024/09/artiflette.jpg
END:VEVENT
BEGIN:VEVENT
DTSTART;VALUE=DATE:20240907
DTEND;VALUE=DATE:20240909
DTSTAMP:20260424T104256
CREATED:20200827T132240Z
LAST-MODIFIED:20240816T151303Z
UID:11115-1725667200-1725839999@paroisses-pays-auray.fr
SUMMARY:Pèlerinage des couples en désir d'enfants
DESCRIPTION:Ste Anne a eu une grossesse tardive\, semble-t-il. \nYves Nicolazic ( le « voyant » de Ste Anne) et sa femme Guillemette ont aussi attendu de longues années avant d’avoir des enfants. \nLa reine Anne d’Autriche\, épouse de Louis XIII\, a également envoyé des émissaires à Ste Anne d’Auray avant d’attendre Louis Désiré: Louis XIV. Elle sut montrer sa reconnaissance en faisant parvenir au sanctuaire un certain nombre de cadeaux et de reliques (dont une relique de Ste Anne) \nLe sanctuaire de Ste Anne accueille désormais en pèlerinage les couples en attente d’enfants\, au plus près de la date de la Nativité de la Vierge Marie. \nChaque année un pèlerinage est proposé début septembre pour les couples en espérance d’enfants\, à Sainte Anne d’Auray.  \nUne trève conviviale et spirituelle pour les couples !  \n\n\nInscription\n\n\nInscription par mail ou par téléphone auprès du couple référent : quandlenfantsefaitattendre@gmail.com / 06 64 52 91\n \n 
URL:https://paroisses-pays-auray.fr/event/pelerinage-des-couples-en-attente-denfants/
LOCATION:Sainte Anne d’Auray
CATEGORIES:Evénement accueil,Paroisses de Sainte-Anne-d'Auray, Brec'h, Mériadec et Plumergat
ATTACH;FMTTYPE=image/jpeg:https://paroisses-pays-auray.fr/wp-content/uploads/2020/08/pele-attente-enfant-24.jpg
END:VEVENT
BEGIN:VEVENT
DTSTART;VALUE=DATE:20240908
DTEND;VALUE=DATE:20240909
DTSTAMP:20260424T104256
CREATED:20230822T120519Z
LAST-MODIFIED:20240901T130019Z
UID:23255-1725753600-1725839999@paroisses-pays-auray.fr
SUMMARY:Pardon de l'enseignement catholique
DESCRIPTION:Parents\, enfants\, bénévoles\, enseignants\, personnels\, chefs d’établissements\, … tous sont attendus à Sainte Anne d’Auray ! \n« Un pardon\, c’est une démarche individuelle où on vient confier cette nouvelle année pour grandir en intelligence et en sagesse« \, nous dit Stéphane Gouraud\, ex-directeur de l’EC 56. « Et puis c’est une démarche collective où on se retrouve\, en famille\, pour célébrer cette année nouvelle. » \nRassemblement à 10h30 sur le parvis. \nMesse de 11h en la basilique de Ste Anne d’Auray. \nPuis\, repas tiré du sac.
URL:https://paroisses-pays-auray.fr/event/1er-pardon-de-lenseignement-catholique/
CATEGORIES:Evénement accueil,Pardons,Paroisses de Sainte-Anne-d'Auray, Brec'h, Mériadec et Plumergat
ATTACH;FMTTYPE=image/jpeg:https://paroisses-pays-auray.fr/wp-content/uploads/2023/08/PARDON-enseignement-catholique2024-e1725195606628.jpg
END:VEVENT
BEGIN:VEVENT
DTSTART;TZID=UTC:20240908T103000
DTEND;TZID=UTC:20240908T103000
DTSTAMP:20260424T104256
CREATED:20240829T152041Z
LAST-MODIFIED:20240906T210228Z
UID:26975-1725791400-1725791400@paroisses-pays-auray.fr
SUMMARY:Auray-Pluneret : Ca change! messe de rentrée au Père Eternel!
DESCRIPTION:Attention!\nCompte-tenu des conditions météorologiques annoncées (Pluie\, pluie!!) la messe de rentrée aura lieu Dans la chapelle du Père éternel à Auray\nPour ouvrir notre nouvelle année ensemble\, un premier temps fort sous le regard de Marie\, le dimanche 8 septembre\, fête de la nativité de Marie et le 23ème dimanche du temps ordinaire. \nPour cela nous proposons de célébrer la messe en plein air dans le jardin du presbytère St Gildas. \n\nmesse suivie du verre de l’amitié\naccueil des nouveaux arrivants\npossibilité de repas tiré du sac sur place\n\n(en cas de mauvais temps\, repli à la Chapelle du Père Eternel) \nLa messe anticipée de St Goustan à 18h30 le samedi 7 septembre sera célébrée.
URL:https://paroisses-pays-auray.fr/event/auray-pluneret-messe-de-rentree-dans-le-jardin-du-presbytere/
CATEGORIES:Auray-Pluneret,Evénement accueil
ATTACH;FMTTYPE=image/jpeg:https://paroisses-pays-auray.fr/wp-content/uploads/2024/08/presbytere.jpg
END:VEVENT
BEGIN:VEVENT
DTSTART;TZID=UTC:20240908T160000
DTEND;TZID=UTC:20240908T170000
DTSTAMP:20260424T104256
CREATED:20240624T133830Z
LAST-MODIFIED:20240827T091407Z
UID:26615-1725811200-1725814800@paroisses-pays-auray.fr
SUMMARY:Conférence: les statues de la chapelles de St Thuriau à Plougoumelen
DESCRIPTION:Par François Ars\, docteur en histoire\, enseignant et célèbre conférencier. \nLe thème abordé cette année : le statuaire de la chapelle Saint Thuriau
URL:https://paroisses-pays-auray.fr/event/conference-les-statues-de-la-chapelles-de-st-thuriau-a-plougoumelen/
CATEGORIES:Conférences,Evénement accueil,Plougoumelen-LeBono
ATTACH;FMTTYPE=image/jpeg:https://paroisses-pays-auray.fr/wp-content/uploads/2023/09/Pardon-st-Thuriau-23.jpg
END:VEVENT
BEGIN:VEVENT
DTSTART;TZID=UTC:20240917T160000
DTEND;TZID=UTC:20240917T220000
DTSTAMP:20260424T104256
CREATED:20240825T132913Z
LAST-MODIFIED:20240825T132913Z
UID:26961-1726588800-1726610400@paroisses-pays-auray.fr
SUMMARY:De nouvelles formations à Auray 17 et 21 septembre
DESCRIPTION:Au cours de l’année dernière le conseil pastoral paroissial a réfléchi aux actes de progrès les plus pertinents pour l’ensemble paroissial. \nEn tête des orientations dégagées: Se former à la parole de Dieu et à l’enseignement de l’église. l’équipe pastorale a retenu cette proposition et 2 formations seront proposées à la rentrée.\nLa formation aux psaumes aura lieu les 3èmes samedi de chaque mois à 9H30\, commencement le 21 septembre. \nLa formation aux évangiles synoptiques (Matthieu\, Marc\, Luc) débutera le 17 septembre et les rencontres auront lieu les 3èmes mardi de chaque mois (à 16H et à 20H30\, au choix)\ninscription auprès de jean.brousset56@gmail.com 
URL:https://paroisses-pays-auray.fr/event/de-nouvelles-formations-a-auray-17-et-21-septembre/
LOCATION:Maison Paroissiale Bourdeloy AURAY\, Rue Bourdeloy\, AURAY\, 56400\, France
CATEGORIES:Auray-Pluneret,Evénement accueil
ATTACH;FMTTYPE=image/jpeg:https://paroisses-pays-auray.fr/wp-content/uploads/2018/11/Logo-Auray-Pluneret_red.jpg
END:VEVENT
BEGIN:VEVENT
DTSTART;VALUE=DATE:20240923
DTEND;VALUE=DATE:20240924
DTSTAMP:20260424T104256
CREATED:20200905T160810Z
LAST-MODIFIED:20240923T202947Z
UID:11299-1727049600-1727135999@paroisses-pays-auray.fr
SUMMARY:St (Padre) Pio
DESCRIPTION:Padre Pio est mort en 1968\, dans le nord des Pouilles en Italie. C’est un capucin\, un homme simple. Il accorde\, comme le St curé d’Ars\, une grande importance à l’Eucharistie et au sacrement du Pardon. Il attire les foules. L’Eglise a eu besoin d’un temps de discernement au début car car ses charismes\, proches du paranormal peuvent appeler quelques réserves. Il est canonisé en 2002. \nSelon Benoît XVI\,   « sa première préoccupation\, son inquiétude sacerdotale et paternelle était toujours que les personnes reviennent à Dieu\, qu’elles fassent l’expérience de sa miséricorde et\, intérieurement renouvelées\, qu’elles redécouvrent la joie et la beauté d’être chrétiens\, de vivre en communion avec Jésus\, d’appartenir à son Église et de pratiquer l’Évangile. Avant tout\, la prière… Ses journées étaient un Rosaire vécu\, c’est-à-dire une méditation incessante et une assimilation des mystères du Christ en union spirituelle avec la Vierge Marie ce qui explique ses dons surnaturels et son sens pratique humain. Et tout cela culminait lors de la célébration de la messe… De sa prière\, comme d’une source toujours vive\, surgissait la charité. L’amour qu’il avait dans son cœur et qu’il transmettait aux autres était plein de tendresse\, toujours attentif aux situations réelles des personnes et des familles. Il privilégiait le cœur du Christ spécialement envers les malades et les personnes souffrantes et\, de là\, est né le projet d’une grande œuvre consacrée au soulagement de la souffrance. On ne peut comprendre ni interpréter correctement cette institution si on la sépare de sa source inspiratrice qu’est la charité évangélique\, animée elle-même par la prière ».
URL:https://paroisses-pays-auray.fr/event/st-padre-pio/
CATEGORIES:Evénement accueil
ATTACH;FMTTYPE=image/webp:https://paroisses-pays-auray.fr/wp-content/uploads/2020/09/PADRE-PIO-shutterstock_1750541225.webp
END:VEVENT
BEGIN:VEVENT
DTSTART;VALUE=DATE:20240924
DTEND;VALUE=DATE:20240925
DTSTAMP:20260424T104256
CREATED:20220913T095413Z
LAST-MODIFIED:20240920T124954Z
UID:18739-1727136000-1727222399@paroisses-pays-auray.fr
SUMMARY:Pèlerinage des personnes âgées en établissement
DESCRIPTION:Messe à 11h 30 en la basilique de Sainte Anne d’Auray.
URL:https://paroisses-pays-auray.fr/event/pelerinage-des-personnes-agees-en-institution/
LOCATION:Sainte Anne d’Auray
CATEGORIES:Evénement accueil,Paroisses de Sainte-Anne-d'Auray, Brec'h, Mériadec et Plumergat
ATTACH;FMTTYPE=image/png:https://paroisses-pays-auray.fr/wp-content/uploads/2022/09/sante.png
END:VEVENT
BEGIN:VEVENT
DTSTART;TZID=UTC:20240924T093000
DTEND;TZID=UTC:20240924T170000
DTSTAMP:20260424T104256
CREATED:20240919T130037Z
LAST-MODIFIED:20240919T130037Z
UID:27105-1727170200-1727197200@paroisses-pays-auray.fr
SUMMARY:le MCR et la Mondialisation vannes le 24 septembre 2024
DESCRIPTION:  \n  \n  \nDans un monde qui s’élargit\, à la Lumière de l’Evangile \, allons vers les Autres ! \n  \nC’est le thème que nous propose le M.C.R. (Mouvement Chrétien des Retraités) pour cette nouvelle année qui débutera le 24 septembre prochain\, lors de l’Assemblée Générale du MCR56 qui aura lieu à la maison du diocèse -association Montcalm- rue des ursulines à Vannes.\nLe monde bouge et remplit notre quotidien\, des valeurs disparaissent\, d’autres naissent ou refont surface ! Au cœur de tous ces changements\, il est bon de s’arrêter et de prendre du temps pour regarder\, voir\, partager et réfléchir. Seul\, on peut le faire\, en équipe c’est tellement mieux ! Ensemble\, nous regarderons\, nous discernerons\, nous relirons la Parole de Dieu et nous proposerons d’agir. \nLa présentation du thème annuel aura lieu à la maison du diocèse à partir de 14H30 le mardi 24 septembre 2024.\nDans son rapport d’orientation\, le M.C.R national nous invite à sortir\, à rencontrer\, à dialoguer pour construire et servir\, s’ouvrir et témoigner !\nRejoignez une de nos équipes et ensemble\, nous cheminerons pour mieux connaître comprendre et aimer ce monde qui s’élargit.\n  \nContact : Henri COUDRON tél 0676964476\, henri.coudron56@laposte.net  \nMichelle capon caponpi@wanadoo.fr 0618584719
URL:https://paroisses-pays-auray.fr/event/le-mcr-et-la-mondialisation-vannes-le-24-septembre-2024/
LOCATION:Maison du diocèse\, entrée par la rue des ursulines\, Vannes
CATEGORIES:Evénement accueil
ATTACH;FMTTYPE=image/jpeg:https://paroisses-pays-auray.fr/wp-content/uploads/2024/07/JO.jpeg
ORGANIZER;CN="M.C.R. du dioc%C3%A8se de Vannes":MAILTO:mcr@diocese-vannes.fr
END:VEVENT
BEGIN:VEVENT
DTSTART;VALUE=DATE:20240929
DTEND;VALUE=DATE:20240930
DTSTAMP:20260424T104256
CREATED:20200905T172628Z
LAST-MODIFIED:20240923T195610Z
UID:11312-1727568000-1727654399@paroisses-pays-auray.fr
SUMMARY:Fête des Saints Archanges
DESCRIPTION:Nous fêtons aujourd’hui\, 29 septembre\, ces 3 archanges Michel\, Raphaël et Gabriel. \nLa tradition catholique leur accorde 3 missions :\nSt Gabriel est le messager. Il annonce à Marie qu’elle va concevoir un fils. Il recommande en songe à St Joseph de prendre Marie comme épouse car elle attend un fils qui vient de l’Esprit-Saint. \nSt Raphaël se découvre dans le livre de Tobie de l’Ancien Testament. Il est l’ange qui guérit les maux du corps et de l’esprit. Il guérit donc les maux de tout l’être. \nQuant à St Michel\, le plus réputé\, il combat le Mal. \nPour honorer Saint Michel\, 7 monastères géographiquement « en ligne droite »\n7 monastères érigés de façon presque équidistante sur une ligne droite lui sont dédiés. Cette ligne représenterait le coup d’épée avec lequel saint Michel a vaincu Lucifer. \nLe plus à l’ouest\, le monastère irlandais « Skellig Michael » est construit après l’apparition de l’ange à un évêque\, au 5ème siècle. \nEn 2ème position\,  arrive un monastère\, également du 5ème siècle\, en Cornouailles anglaises\, construit à la suite de l’apparition de l’ange à des pêcheurs : St Michael’s mount. Le roi l’a offert aux bénédictins par la suite. \nPuis\, toujours dans l’axe\, vient notre Mont St Michel « aux périls de la mer » (nom complet: le mal est aussi provoqué par des périls). Il est bâti au VIIIème siècle. \nEnsuite\, en 4ème position\, l’abbaye St Michel de la Cluse\, du Val de Suse est construit dans le nord de l’Italie. L’archange y apparaît à un ermite au Xème siècle. \nL’ange apparaît encore au 5ème siècle\, dans le nord des Pouilles au sud de l’Italie\, sur la commune de Monte Sant’Angelo\, au Monte Gargano (à qq kms du sanctuaire de San Giovanni Rotondo de Padre Pio qui a tant combattu le mal). Un émissaire de l’évêque d’Avranches viendra y recueillir une relique pour notre mont. Ce fut une étape importante pour les pèlerins en route vers Jérusalem. \nLe monastère St Michel de Panormitis\, sur l’île grecque de Simi continue la ligne de l’axe\, vers le Sud -Est.  Une femme aurait trouvé une icône de l’ange. L’église actuelle de Panormitis est construite sur les ruines d’un monastère du XVème siècle qui aurait lui-même été construit sur des vestiges du Vème siècle. Il faut savoir que cette île compte 8 autres sanctuaires dédiés à St Michel. Celui de Panormitis est le plus important. St Michel est le saint patron de tous les marins grecs. \nEnfin\,  le dernier sanctuaire\, construit sur la grotte du prophète Elie\, est le monastère Stella Maris  (Etoile de la mer). Il dépend de la ville de Haïfa en Israël et se situe sur la crête du Mont Carmel. Il serait rapidement devenu un lieu de vénération de l’archange. Le lieu est tout d’abord occupé par des ermites mais\, désormais\, ce sont les carmélites qui y vivent en communauté. \n \n 
URL:https://paroisses-pays-auray.fr/event/st-michel-st-gabriel-st-raphael/
CATEGORIES:Evénement accueil
ATTACH;FMTTYPE=image/jpeg:https://paroisses-pays-auray.fr/wp-content/uploads/2024/09/archanges.jpg
END:VEVENT
BEGIN:VEVENT
DTSTART;TZID=UTC:20240929T121500
DTEND;TZID=UTC:20240929T121500
DTSTAMP:20260424T104256
CREATED:20240201T191150Z
LAST-MODIFIED:20240920T131558Z
UID:21602-1727612100-1727612100@paroisses-pays-auray.fr
SUMMARY:Table Ouverte Paroissiale TOP
DESCRIPTION:Paroissiens de longue date\, nouveaux arrivants\, familles\, célibataires\, grands-parents\, avec ou sans enfants… \nVous êtes tous invités à la Table Ouverte Paroissiale\, le dimanche 29 septembre à partir de 12h15\, salle Pierre de Keriolet.\nVenez partager un temps fraternel et rencontrer les  autres paroissiens de Sainte-Anne-d’Auray.\nMerci de diffuser cette information autour de vous\, particulièrement aux nouveaux arrivants !  \nLa TOP\, qu’est-ce que c’est ?\n\nUn repas partagé où chacun apporte un plat salé ou sucré à déguster avec les autres (buffet avec couverts fournis).\nUn moment convivial pour se rencontrer et prendre le temps de se connaître entre paroissiens de toutes générations.\nDes activités ludiques pour ceux qui le désirent.\nUn temps de détente et de bonne humeur !\n\nContact : Marie-Agnès – 06 95 84 23 38
URL:https://paroisses-pays-auray.fr/event/table-ouverte-paroissiale-4/
LOCATION:Sainte Anne d’Auray
CATEGORIES:Evénement accueil,Paroisses de Sainte-Anne-d'Auray, Brec'h, Mériadec et Plumergat
ATTACH;FMTTYPE=image/jpeg:https://paroisses-pays-auray.fr/wp-content/uploads/2024/02/IMG-20240919-WA0012-e1726837062518.jpg
END:VEVENT
END:VCALENDAR