BEGIN:VCALENDAR
VERSION:2.0
PRODID:-//Paroisses du Pays d&#039;Auray - ECPv6.15.13//NONSGML v1.0//EN
CALSCALE:GREGORIAN
METHOD:PUBLISH
X-ORIGINAL-URL:https://paroisses-pays-auray.fr
X-WR-CALDESC:Évènements pour Paroisses du Pays d&#039;Auray
REFRESH-INTERVAL;VALUE=DURATION:PT1H
X-Robots-Tag:noindex
X-PUBLISHED-TTL:PT1H
BEGIN:VTIMEZONE
TZID:UTC
BEGIN:STANDARD
TZOFFSETFROM:+0000
TZOFFSETTO:+0000
TZNAME:UTC
DTSTART:20230101T000000
END:STANDARD
END:VTIMEZONE
BEGIN:VEVENT
DTSTART;VALUE=DATE:20241201
DTEND;VALUE=DATE:20241202
DTSTAMP:20260420T115215
CREATED:20211110T183844Z
LAST-MODIFIED:20241114T102953Z
UID:15869-1733011200-1733097599@paroisses-pays-auray.fr
SUMMARY:1er dimanche de l'Avent - C
DESCRIPTION:« Tenez-vous prêt! » \nCe dimanche marque le début d’une nouvelle année liturgique et débute 4 dimanches avant la fête de Noël. \nNous lirons pendant toute cette année l’évangile selon St Luc. \n\nDes idées pour les enfants: ici\n\n 
URL:https://paroisses-pays-auray.fr/event/1er-dimanche-de-lavent-2/
CATEGORIES:Evénement accueil
ATTACH;FMTTYPE=image/png:https://paroisses-pays-auray.fr/wp-content/uploads/2021/11/1er-avent-Luc.png
END:VEVENT
BEGIN:VEVENT
DTSTART;TZID=UTC:20241207T200000
DTEND;TZID=UTC:20241207T200000
DTSTAMP:20260420T115215
CREATED:20241128T132327Z
LAST-MODIFIED:20241128T132327Z
UID:27905-1733601600-1733601600@paroisses-pays-auray.fr
SUMMARY:Concert de pop louange
DESCRIPTION:Venez vivre un concert de louange inoubliable ! \nL’APEL du collège Sainte-Marie d’Elven est très heureuse d’accueillir le groupe de deux frères pour vivre une nouvelle soirée dans la joie et la foi !\nOuverture des portes : 18H30 – Concert à 20H00 – Fin de la soirée (environ 22H30) \nLIEU : Le Chorus 8 rue Daniel Gilard – 56000 Vannes \n– Réservez vos places dès maintenant – \n\nToutes les places que vous achetez sont assises et en placement libre. Le billet que vous achetez n’est pas nominatif.\n\nPour un prix un peu plus attractif (25 euros au lieu de 28 euros)\, vous pouvez réserver votre billet auprès de Marion Van Rhinj\,aep.auray@outlook.com – 06 71 77 21 54- A l’aumônerie d’Auray. \nGlorious: en savoir plus \n 
URL:https://paroisses-pays-auray.fr/event/concert-de-pop-louange/
CATEGORIES:Evénement accueil
ATTACH;FMTTYPE=image/jpeg:https://paroisses-pays-auray.fr/wp-content/uploads/2024/09/glorious-2024.jpeg
END:VEVENT
BEGIN:VEVENT
DTSTART;TZID=UTC:20241208T110000
DTEND;TZID=UTC:20241208T110000
DTSTAMP:20260420T115215
CREATED:20241129T035739Z
LAST-MODIFIED:20241129T035739Z
UID:27924-1733655600-1733655600@paroisses-pays-auray.fr
SUMMARY:Messe du deuxième dimanche de l'Avent
DESCRIPTION:11h- Messe du deuxième dimanche de l’Avent \nBasilique de Sainte Anne d’Auray \nParticipation musicale de la Maîtrise (direction: Cécile Vénien – Gérard)
URL:https://paroisses-pays-auray.fr/event/messe-du-deuxieme-dimanche-de-lavent/
LOCATION:Sainte Anne d’Auray
CATEGORIES:Evénement accueil,Paroisses de Sainte-Anne-d'Auray, Brec'h, Mériadec et Plumergat
ATTACH;FMTTYPE=image/jpeg:https://paroisses-pays-auray.fr/wp-content/uploads/2024/11/2-Avent.jpeg
END:VEVENT
BEGIN:VEVENT
DTSTART;TZID=UTC:20241208T190000
DTEND;TZID=UTC:20241208T190000
DTSTAMP:20260420T115215
CREATED:20241129T040803Z
LAST-MODIFIED:20241129T040803Z
UID:27930-1733684400-1733684400@paroisses-pays-auray.fr
SUMMARY:Inauguration de la projection
DESCRIPTION:19h – Inauguration de la projection monumentale sur la basilsique \nVidéomapping et mise en lumière du sanctuaire
URL:https://paroisses-pays-auray.fr/event/inauguration-de-la-projection/
LOCATION:Sainte Anne d’Auray
CATEGORIES:Evénement accueil,Paroisses de Sainte-Anne-d'Auray, Brec'h, Mériadec et Plumergat
ATTACH;FMTTYPE=image/jpeg:https://paroisses-pays-auray.fr/wp-content/uploads/2024/11/illuminations-ste-Anne.jpg
END:VEVENT
BEGIN:VEVENT
DTSTART;TZID=UTC:20241211T093000
DTEND;TZID=UTC:20241211T103000
DTSTAMP:20260420T115215
CREATED:20241115T141824Z
LAST-MODIFIED:20241210T082347Z
UID:27811-1733909400-1733913000@paroisses-pays-auray.fr
SUMMARY:Auray : le retour du lanternon de l'église St Gildas
DESCRIPTION:En raison de la météo\, la date est déplacée au 11 décembre : bénédiction de la croix vers 10h. \nRV devant l’accès sud de notre église St Gildas. \nNous y somme tous invités.
URL:https://paroisses-pays-auray.fr/event/auray-le-retour-du-lanternon-de-leglise-st-gildas/
CATEGORIES:Auray-Pluneret,Evénement accueil
ATTACH;FMTTYPE=image/jpeg:https://paroisses-pays-auray.fr/wp-content/uploads/2024/11/clocher-st-gildas-scaled-e1731700158453.jpg
END:VEVENT
BEGIN:VEVENT
DTSTART;TZID=UTC:20241212T200000
DTEND;TZID=UTC:20241212T200000
DTSTAMP:20260420T115215
CREATED:20241128T134508Z
LAST-MODIFIED:20241128T134508Z
UID:27910-1734033600-1734033600@paroisses-pays-auray.fr
SUMMARY:Film documentaire "Guadalupe"
DESCRIPTION:Il y a près de 500 ans\, la Vierge Marie est apparue au jeune Aztèque Juan Diego. \nAujourd’hui encore\, Notre-Dame de Guadalupe est la représentation de Marie la plus vénérée au monde. \nQue s’est-il vraiment passé lors des apparitions ? \nPeut-on percer le secret de la Tilma\, ce tissu qui a miraculeusement recueilli l’image de la Vierge Marie ? \nA travers des témoignages actuels et bouleversants\, ce film documentaire nous révèle l’immense tendresse de la mère de Dieu pour chacun de nous. \nUne seule séance pour tout le Morbihan: au Rex à Carnac. Je réserve
URL:https://paroisses-pays-auray.fr/event/film-documentaire-guadalupe/
CATEGORIES:Evénement accueil
ATTACH;FMTTYPE=image/jpeg:https://paroisses-pays-auray.fr/wp-content/uploads/2024/11/Guadalupe.jpg
END:VEVENT
BEGIN:VEVENT
DTSTART;VALUE=DATE:20241214
DTEND;VALUE=DATE:20241216
DTSTAMP:20260420T115215
CREATED:20241114T110703Z
LAST-MODIFIED:20241114T110703Z
UID:27787-1734134400-1734307199@paroisses-pays-auray.fr
SUMMARY:Salon "Un livre à Noël"
DESCRIPTION:30 auteurs et écrivains chrétiens seront présents au palais des Arts de Vannes. \nOrganisé par la librairie La Procure.
URL:https://paroisses-pays-auray.fr/event/salon-un-livre-a-noel/
CATEGORIES:Evénement accueil
ATTACH;FMTTYPE=image/png:https://paroisses-pays-auray.fr/wp-content/uploads/2021/04/La-Procure.png
END:VEVENT
BEGIN:VEVENT
DTSTART;TZID=UTC:20241221T160000
DTEND;TZID=UTC:20241221T220000
DTSTAMP:20260420T115215
CREATED:20241129T043128Z
LAST-MODIFIED:20241129T043435Z
UID:27942-1734796800-1734818400@paroisses-pays-auray.fr
SUMMARY:Concerts de Noël au bénéfice d'œuvres caritatives
DESCRIPTION:Concerts de Noël au bénéfice d’œuvres caritatives – Basilique de Sainte Anne d’Auray – \nSamedi 21 décembre – 16h à 22h \n\nChorale Sylvia à 16h (chorale mixte de Sainte-Anne d’Auray)\nChœur Kanerion Pleuigner à 17h (chants et cantiques bretons)\nChœur Triforium (chœur liturgique\, participation à la messe de 18h puis moment concertant).\n\nDimanche 22 décembre – 14h à 16h \nChœur La Harpe de la Miséricorde à 15h (musique sacrée orientale)
URL:https://paroisses-pays-auray.fr/event/concert-de-noel-au-benefice-doeuvres-caritatives/
LOCATION:Sainte Anne d’Auray
CATEGORIES:Evénement accueil,Paroisses de Sainte-Anne-d'Auray, Brec'h, Mériadec et Plumergat
ATTACH;FMTTYPE=image/jpeg:https://paroisses-pays-auray.fr/wp-content/uploads/2024/11/1_cover_290-200_.jpg
END:VEVENT
BEGIN:VEVENT
DTSTART;VALUE=DATE:20241228
DTEND;VALUE=DATE:20241229
DTSTAMP:20260420T115215
CREATED:20201211T100022Z
LAST-MODIFIED:20241227T151801Z
UID:12431-1735344000-1735430399@paroisses-pays-auray.fr
SUMMARY:Les saints innocents
DESCRIPTION:L’évangile de St Matthieu relate ce triste épisode : le roi Hérode fait massacrer de petits enfants\, à Bethléem\, en Judée. Par crainte d’une rivalité avec Jésus\, Enfant-Roi. \nCes tout-premiers martyrs étaient tout au plus âgés de 3 ans. Ils ont été honorés dès les premiers siècles de l’Église. Ce sont les premiers de tous ceux qui devaient verser leur sang pour Dieu et pour Son Fils: l’Agneau de Dieu qui a versé Son sang pour  sauver tous ceux qui croient en Lui. \nIl est probable que ces très jeunes victimes ont été limitées en nombre car Bethléem était un village assez peu peuplé. \nMartyrologe romain
URL:https://paroisses-pays-auray.fr/event/les-saints-innocents/
CATEGORIES:Evénement accueil
ATTACH;FMTTYPE=image/jpeg:https://paroisses-pays-auray.fr/wp-content/uploads/2020/12/saints-innocents.2.jpg
END:VEVENT
BEGIN:VEVENT
DTSTART;VALUE=DATE:20241229
DTEND;VALUE=DATE:20250106
DTSTAMP:20260420T115215
CREATED:20241228T162500Z
LAST-MODIFIED:20241228T162625Z
UID:28031-1735430400-1736121599@paroisses-pays-auray.fr
SUMMARY:Concerts en ce temps de Noël
DESCRIPTION:Dimanche 29 décembre: 17h30 | Kanamb Noel – Concert de Noël : chants de Noël en breton. Voix et harpe par Anne Auffret. \nLundi 30 décembre :  16h30 | Chantons Noël  – Dernier jour pour ce concert familial où le public est invité à chanter. Emmanuel\, Anne-Claire\, Matthieu et Apolline Auvray\, chanteurs et instrumentistes – Michel Jézo\, claviers. \nMercredi 1er janvier : 17h30 – Concert d’orgue du Jour de l’an – Concert par Bruno Belliot et Emmanuel Pottier. Œuvres de Bach\, Bouvard\, Daquin\, Langlais\, Messiaen. \nDimanche 5 janvier : à 17h30 | Concert de l’Épiphanie  – Concert tout public. Pièces pour orgue seul et grands airs de Noël. Emmanuel Auvray\, ténor ; Michel Jézo\, organiste. \nParticipation libre aux frais  – En la basilique de ste Anne d’Auray. \n\n30 décembre\, 2 et 3 janvier Spectacle de la Crèche Vivante Séances à 14h\, 15h30 et 17h15. Réservations sur www.lacrechevivante56.com \n\n 
URL:https://paroisses-pays-auray.fr/event/concerts-en-ce-temps-de-noel/
CATEGORIES:Concerts,Evénement accueil
ATTACH;FMTTYPE=image/jpeg:https://paroisses-pays-auray.fr/wp-content/uploads/2024/11/illuminations-ste-Anne.jpg
END:VEVENT
BEGIN:VEVENT
DTSTART;VALUE=DATE:20241231
DTEND;VALUE=DATE:20250101
DTSTAMP:20260420T115215
CREATED:20201224T095518Z
LAST-MODIFIED:20241227T151552Z
UID:12584-1735603200-1735689599@paroisses-pays-auray.fr
SUMMARY:St Sylvestre
DESCRIPTION:Mémoire facultative pour ce pape dont la fête « tombe » en ce dernier jour de l’année! \nC’est le premier pape de la paix de l’empereur Constantin\, premier empereur chrétien. \nIl est souvent accusé d’avoir été trop effacé dans ses interventions. En effet\, St Sylvestre n’a participé ni au concile d’Arles (314)\, ni au concile de Nicée (325). Mais il les a confirmés par ses légats.\nCes réticences étaient peut-être dues au fait que ces conciles étaient  organisés non pas par le Pape mais par l’empereur Constantin. \nCe pape  est très respectueux de l’autonomie des Eglises orientales. \nIl entreprend de grands travaux dans la Rome impériale.\nSous son pontificat\, Constantin fait édifier la basilique Saint-Jean de Latran\, la basilique de Sainte-Croix de Jérusalem\, la basilique de Saint-Paul hors les Murs\, la basilique de Saint Laurent. \nSaint Silvestre intervient pour le mobilier liturgique\, les ornements. Il aménage les catacombes. \nSylvestre 1er est mis au tombeau en ce jour\, en 335\, à Rome\, au cimetière de Priscille sur la nouvelle voie Salarienne. \n(nominis.cef.fr)
URL:https://paroisses-pays-auray.fr/event/st-sylvestre/
CATEGORIES:Evénement accueil
ATTACH;FMTTYPE=image/jpeg:https://paroisses-pays-auray.fr/wp-content/uploads/2020/12/sylvestre1er.jpg
END:VEVENT
END:VCALENDAR