BEGIN:VCALENDAR
VERSION:2.0
PRODID:-//Paroisses du Pays d&#039;Auray - ECPv6.15.13//NONSGML v1.0//EN
CALSCALE:GREGORIAN
METHOD:PUBLISH
X-WR-CALNAME:Paroisses du Pays d&#039;Auray
X-ORIGINAL-URL:https://paroisses-pays-auray.fr
X-WR-CALDESC:Évènements pour Paroisses du Pays d&#039;Auray
REFRESH-INTERVAL;VALUE=DURATION:PT1H
X-Robots-Tag:noindex
X-PUBLISHED-TTL:PT1H
BEGIN:VTIMEZONE
TZID:UTC
BEGIN:STANDARD
TZOFFSETFROM:+0000
TZOFFSETTO:+0000
TZNAME:UTC
DTSTART:20230101T000000
END:STANDARD
END:VTIMEZONE
BEGIN:VEVENT
DTSTART;VALUE=DATE:20241229
DTEND;VALUE=DATE:20250106
DTSTAMP:20260420T102455
CREATED:20241228T162500Z
LAST-MODIFIED:20241228T162625Z
UID:28031-1735430400-1736121599@paroisses-pays-auray.fr
SUMMARY:Concerts en ce temps de Noël
DESCRIPTION:Dimanche 29 décembre: 17h30 | Kanamb Noel – Concert de Noël : chants de Noël en breton. Voix et harpe par Anne Auffret. \nLundi 30 décembre :  16h30 | Chantons Noël  – Dernier jour pour ce concert familial où le public est invité à chanter. Emmanuel\, Anne-Claire\, Matthieu et Apolline Auvray\, chanteurs et instrumentistes – Michel Jézo\, claviers. \nMercredi 1er janvier : 17h30 – Concert d’orgue du Jour de l’an – Concert par Bruno Belliot et Emmanuel Pottier. Œuvres de Bach\, Bouvard\, Daquin\, Langlais\, Messiaen. \nDimanche 5 janvier : à 17h30 | Concert de l’Épiphanie  – Concert tout public. Pièces pour orgue seul et grands airs de Noël. Emmanuel Auvray\, ténor ; Michel Jézo\, organiste. \nParticipation libre aux frais  – En la basilique de ste Anne d’Auray. \n\n30 décembre\, 2 et 3 janvier Spectacle de la Crèche Vivante Séances à 14h\, 15h30 et 17h15. Réservations sur www.lacrechevivante56.com \n\n 
URL:https://paroisses-pays-auray.fr/event/concerts-en-ce-temps-de-noel/
CATEGORIES:Concerts,Evénement accueil
ATTACH;FMTTYPE=image/jpeg:https://paroisses-pays-auray.fr/wp-content/uploads/2024/11/illuminations-ste-Anne.jpg
END:VEVENT
BEGIN:VEVENT
DTSTART;TZID=UTC:20250101T063000
DTEND;TZID=UTC:20250101T170000
DTSTAMP:20260420T102455
CREATED:20241221T062747Z
LAST-MODIFIED:20241221T063303Z
UID:28004-1735713000-1735750800@paroisses-pays-auray.fr
SUMMARY:Journée mondiale de prière pour la Paix : pèlerinage vers Sainte Anne d'Auray
DESCRIPTION:L’année 2024 se termine et une nouvelle année 2025\, année jubilaire\, commence avec toujours\, et plus forte que jamais\, la même aspiration à la paix\nLe mardi 1er janvier 2025\, 58ème journée mondiale de prière pour la paix… Comme chaque 1er janvier depuis 46 ans\, le mouvement Pax Christi et le Ccfd-Terre solidaire du Morbihan organisent une marche pour la paix vers Sainte-Anne-d’Auray\, toujours et plus que jamais d’actualité. \nLe thème de réflexion proposé cette année par le pape François est :\n« Remets-nous nos dettes\, donne-nous ta paix»*\nLes marcheurs pourront participer à la messe à la basilique à 11h00 (voir affiche en pièce jointe)\n* Pour approfondir le thème\, on peut lire le message du pape François sur :\n1erjanvier2025-MessageDuPapeFrançoisAu petit matin de ce 1er janvier\, des départs groupés de marcheurs peuvent se faire depuis diverses localités Il est recommandé aux pèlerins de se vêtir de vêtements clairs et de gilets fluo\, en respectant les règles de sécurité…\nLes marcheurs\, à leur arrivée à Sainte-Anne d’Auray\, seront accueillis\, à partir de 9h30\, salle Pierre de Keriolet\, où ils pourront reprendre des forces autour d’une boisson chaude et d’une petite restauration.Départs possibles (concertation souhaitable entre participants) : \n\n6h30\, Vannes (parking Vélodrome\, Kermesquel)\n7h30\, Arradon\n8h00 Landaul\, Plescop et Saint-Avé\n8h30 Pluvigner\n9h00\, Auray\, Brec’h\, Pluneret et Plumergat\n9h30\, Mériadec\n\nA l’issue de la célébration\, les automobilistes seront sollicités pour reconduire les marcheurs à leur point de départ. \n\n 
URL:https://paroisses-pays-auray.fr/event/58eme-journee-mondiale-de-priere-pour-la-paix-pelerinage-vers-sainte-anne-dauray/
CATEGORIES:Evénement accueil
ATTACH;FMTTYPE=image/jpeg:https://paroisses-pays-auray.fr/wp-content/uploads/2024/12/marche_paix_janvier.jpg
END:VEVENT
BEGIN:VEVENT
DTSTART;TZID=UTC:20250116T200000
DTEND;TZID=UTC:20250116T200000
DTSTAMP:20260420T102455
CREATED:20250109T113844Z
LAST-MODIFIED:20250109T113844Z
UID:28108-1737057600-1737057600@paroisses-pays-auray.fr
SUMMARY:Conférence « Réseaux sociaux et IA : comment aider nos enfants à en faire bon usage »
DESCRIPTION:Par Jacques Henno\, journaliste\, spécialiste des nouvelles technologies\, docteur en sciences de l’information et de la communication\, auteur de « Pourquoi nos enfants devraient vite quitter les réseaux sociaux ». \nOrganisé par l’Association des Familles Catholiques et l’enseignement catholique. \nAu Théâtre des arts vivants\, au campus du Vincin\, à Arradon. Ouvert à tous.
URL:https://paroisses-pays-auray.fr/event/conference-reseaux-sociaux-et-ia-comment-aider-nos-enfants-a-en-faire-bon-usage/
CATEGORIES:Conférences,Evénement accueil
ATTACH;FMTTYPE=image/jpeg:https://paroisses-pays-auray.fr/wp-content/uploads/2020/05/journée-communication.jpg
END:VEVENT
BEGIN:VEVENT
DTSTART;TZID=UTC:20250116T203000
DTEND;TZID=UTC:20250116T213000
DTSTAMP:20260420T102455
CREATED:20241106T144154Z
LAST-MODIFIED:20241226T084009Z
UID:27749-1737059400-1737063000@paroisses-pays-auray.fr
SUMMARY:Auray : une heure de louange
DESCRIPTION:Venez louer le Seigneur ! \nChaque 3ème jeudi du mois\, venez à l’église Saint Gildas pour chanter\, louer le Seigneur\, prier et adorer devant le Saint Sacrement. \nIl n’est pas nécessaire de savoir chanter ni de connaître les chants pour participer à une soirée de louange. Venez et invitez vos amis ! \nLe jeudi est le jour de l’eucharistie\, rendez-vous ensuite les 20 février\, 20 mars\, 24 avril\, 15 mai\, 19 juin \nDe 20h30 à 21h30. \n« Si tu veux savoir ce que nous croyons\, viens voir ce que nous chantons » Saint Augustin. \n\n\n\nSoirées organisées par une équipe de la paroisse :\nAnne\, Priscille\, Pascal et Eric.
URL:https://paroisses-pays-auray.fr/event/auray-une-heure-de-louange/
LOCATION:Eglise St Gildas Auray\, Place G Deshayes\, Auray\, 56400\, France
CATEGORIES:Auray-Pluneret,Evénement accueil
ATTACH;FMTTYPE=image/jpeg:https://paroisses-pays-auray.fr/wp-content/uploads/2024/11/soiree_louange.jpg
END:VEVENT
BEGIN:VEVENT
DTSTART;VALUE=DATE:20250117
DTEND;VALUE=DATE:20250118
DTSTAMP:20260420T102455
CREATED:20250107T213232Z
LAST-MODIFIED:20250107T215142Z
UID:28081-1737072000-1737158399@paroisses-pays-auray.fr
SUMMARY:Fête de Notre Dame de Pontmain
DESCRIPTION:Ce 17 janvier\, nous fêtons l’anniversaire de l’apparition de Pontmain. La tradition liturgique du sanctuaire de Sainte-Anne-d’Auray nous rappelle l’invitation à la prière de la Vierge Marie ce jour-là pour la paix. La Bretagne a été épargnée avec la cessation des combats de la guerre de 1870. Nous pensons aussi aux milliers de victimes de cette guerre. Avec le diocèse de Laval\, redécouvrons le message de paix et de miséricorde laissé par la Vierge aux enfants de Pontmain : \n \n« MAIS PRIEZ MES ENFANTS\, \nDIEU VOUS EXAUCERA EN PEU DE TEMPS. \nMON FILS SE LAISSE TOUCHER ». \n📸 Vitrail d’Anne et Marie\, dans la basilique de Pontmain \nPour en savoir plus sur Pontmain 
URL:https://paroisses-pays-auray.fr/event/fete-de-notre-dame-de-pontmain/
CATEGORIES:Evénement accueil,Paroisses de Sainte-Anne-d'Auray, Brec'h, Mériadec et Plumergat
ATTACH;FMTTYPE=image/jpeg:https://paroisses-pays-auray.fr/wp-content/uploads/2025/01/Pontmain_width250-height.jpg
END:VEVENT
BEGIN:VEVENT
DTSTART;TZID=UTC:20250118T103000
DTEND;TZID=UTC:20250118T123000
DTSTAMP:20260420T102455
CREATED:20250108T135633Z
LAST-MODIFIED:20250108T135634Z
UID:28105-1737196200-1737203400@paroisses-pays-auray.fr
SUMMARY:A.G. d'Alré-Orgues
DESCRIPTION:L’association Alré-Orgues tiendra son Assemblée Générale le samedi 18 janvier à partir de 10H30\, dans la salle St Bieuzy- maison paroissiale 9\, place Bourdeloy à Auray.\nTous les adhérents\, tous les sympathisants\, tous les curieux sont invités! venez\, écoutez et voyez! \nVous serez les bienvenus.
URL:https://paroisses-pays-auray.fr/event/a-g-dalre-orgues/
LOCATION:Maison Paroissiale Bourdeloy AURAY\, Rue Bourdeloy\, AURAY\, 56400\, France
CATEGORIES:Evénement accueil
ATTACH;FMTTYPE=image/jpeg:https://paroisses-pays-auray.fr/wp-content/uploads/2024/10/orgue-St-Gildas.jpg
END:VEVENT
BEGIN:VEVENT
DTSTART;TZID=UTC:20250125T000000
DTEND;TZID=UTC:20250125T100000
DTSTAMP:20260420T102455
CREATED:20250102T080012Z
LAST-MODIFIED:20260108T145751Z
UID:28049-1737763200-1737799200@paroisses-pays-auray.fr
SUMMARY:Auray : pardon de St Gildas
DESCRIPTION:Procession à 10h à l’église Saint Gildas\, suivie de la messe dominicale à Auray. \nLa journée s’achèvera après les vêpres de 16h. \n 
URL:https://paroisses-pays-auray.fr/event/auray-pardon-de-st-gildas-2/
LOCATION:Eglise St Gildas Auray\, Place G Deshayes\, Auray\, 56400\, France
CATEGORIES:Evénement accueil
ATTACH;FMTTYPE=image/jpeg:https://paroisses-pays-auray.fr/wp-content/uploads/2022/01/st_gildas_IMG_20210110_104205B.jpg
END:VEVENT
END:VCALENDAR