BEGIN:VCALENDAR
VERSION:2.0
PRODID:-//Paroisses du Pays d&#039;Auray - ECPv6.15.13//NONSGML v1.0//EN
CALSCALE:GREGORIAN
METHOD:PUBLISH
X-ORIGINAL-URL:https://paroisses-pays-auray.fr
X-WR-CALDESC:Évènements pour Paroisses du Pays d&#039;Auray
REFRESH-INTERVAL;VALUE=DURATION:PT1H
X-Robots-Tag:noindex
X-PUBLISHED-TTL:PT1H
BEGIN:VTIMEZONE
TZID:UTC
BEGIN:STANDARD
TZOFFSETFROM:+0000
TZOFFSETTO:+0000
TZNAME:UTC
DTSTART:20240101T000000
END:STANDARD
END:VTIMEZONE
BEGIN:VEVENT
DTSTART;VALUE=DATE:20250901
DTEND;VALUE=DATE:20250902
DTSTAMP:20260423T174425
CREATED:20250808T074720Z
LAST-MODIFIED:20250808T074720Z
UID:28878-1756684800-1756771199@paroisses-pays-auray.fr
SUMMARY:Journée de prière pour la Création
DESCRIPTION:La Journée mondiale de prière pour la Création a lieu chaque année le 1er septembre. \nMotivé par la riche tradition de l’Église orientale\, pour qui cette journée commémore la Création du monde\, c’est à la fois un moment pour célébrer la décision de Dieu de créer et un moment pour réfléchir sur la façon dont nous avons géré le grand don de la Création. \nCe 1er septembre est le 1er jour du calendrier orthodoxe.
URL:https://paroisses-pays-auray.fr/event/journee-de-priere-pour-la-creation/
CATEGORIES:Evénement accueil
ATTACH;FMTTYPE=image/png:https://paroisses-pays-auray.fr/wp-content/uploads/2025/08/journee-creation-2025.png
END:VEVENT
BEGIN:VEVENT
DTSTART;VALUE=DATE:20250906
DTEND;VALUE=DATE:20250908
DTSTAMP:20260423T174425
CREATED:20250808T072938Z
LAST-MODIFIED:20250808T072938Z
UID:28875-1757116800-1757289599@paroisses-pays-auray.fr
SUMMARY:Quand l'enfant se fait attendre
DESCRIPTION:Ce week-end offre aux couples une trêve spirituelle et conviviale\, à Sainte Anne d’Auray.\n\nQuand l’enfant se fait attendre… Ce week-end offre aux couples une trêve spirituelle et conviviale : \n\nEn venant lui confier leur épreuve\, les couples peuvent trouver dans les bras de Ste Anne apaisement et consolation.\nLes temps conviviaux avec des couples connaissant la même épreuve permettent aux participants de vivre des moments d’amitié\, de complicité et de détente. Ils sont une bouffée d’oxygène pendant laquelle chacun peut se livrer et être soi-même.\nCe pèlerinage propose également aux couples des temps (participation libre) d’information\, de réflexion et d’échanges autour des questions éthiques\, conjugales\, psychologiques.\nDes couples-intervenants proposent leurs témoignages au cours d’ateliers : adoption\, Naprotechnologie\, fécondité\, autres…\n\n\n\nNous vous attendons samedi 6 septembre à partir de midi.\nUne fois inscrits\, vous recevrez un mail avec tous les détails.\nLe prix comprend les repas\, sauf le pique-nique du samedi midi.\n\nDelphine et Jean\n06.64.09.52.91\nquandlenfantsefaitattendre@gmail.com\n\n\nhttp://Billetterie : Week-end des couples en espérance d’enfants – Billetweb
URL:https://paroisses-pays-auray.fr/event/quand-lenfant-se-fait-attendre/
CATEGORIES:Evénement accueil
ATTACH;FMTTYPE=image/jpeg:https://paroisses-pays-auray.fr/wp-content/uploads/2025/08/couples-attente-enfant-2025.jpg
END:VEVENT
BEGIN:VEVENT
DTSTART;VALUE=DATE:20250907
DTEND;VALUE=DATE:20250908
DTSTAMP:20260423T174425
CREATED:20190825T172511Z
LAST-MODIFIED:20250829T155457Z
UID:6747-1757203200-1757289599@paroisses-pays-auray.fr
SUMMARY:Pardon de N.D. de Gornevec à Ste Anne d'Auray
DESCRIPTION:Chapelle Notre-Dame de Gornevec \nPardon de Notre-Dame de Gornevec à Ste Anne d’Auray/ Plumergat. A 11h. \nCette chapelle du XVI-XIXème recèle de splendides vitraux. Elle était très fréquentée par les nourrices qui souhaitaient un lait abondant. \n  \n  \n  \n  \n 
URL:https://paroisses-pays-auray.fr/event/pardons-a-n-d-de-gornevec-a-ste-anne-dauray-et-de-st-clement-a-brech/
CATEGORIES:Evénement accueil,Paroisses de Sainte-Anne-d'Auray, Brec'h, Mériadec et Plumergat
ATTACH;FMTTYPE=image/jpeg:https://paroisses-pays-auray.fr/wp-content/uploads/2018/11/chapelle_notre_dame_de_governec-300x225.jpg
END:VEVENT
BEGIN:VEVENT
DTSTART;VALUE=DATE:20250907
DTEND;VALUE=DATE:20250909
DTSTAMP:20260423T174425
CREATED:20190701T103012Z
LAST-MODIFIED:20250808T072024Z
UID:6116-1757203200-1757375999@paroisses-pays-auray.fr
SUMMARY:Grand Pardon de Notre-Dame du Roncier
DESCRIPTION:Le 7 septembre: \n\n20h00 : procession depuis la fontaine jusqu’à la Basilique \n\nLe 8 septembre\, le Grand Pardon:\n\n08h00 : messe à la Basilique\n10h30 : procession vers la place Saint-Martin\n11h00 : messe pontificale place st Martin puis bénédiction des enfants (Prévoir un pliant)\n14h30 : chapelet\n15h30 : vêpres puis procession de retour de Notre-Dame du Roncier en la Basilique\, et bénédiction des malades \nDes confessions seront possibles tout le temps du pardon. \nTout savoir sur ce sanctuaire \nPrière à Notre-Dame du roncier
URL:https://paroisses-pays-auray.fr/event/veillee-du-pardon-de-notre-dame-du-roncier/
CATEGORIES:Evénement accueil
ATTACH;FMTTYPE=image/jpeg:https://paroisses-pays-auray.fr/wp-content/uploads/2019/07/ND-Roncier-2017-couronne-temps-ordinaire.jpg
END:VEVENT
BEGIN:VEVENT
DTSTART;TZID=UTC:20250907T160000
DTEND;TZID=UTC:20250907T170000
DTSTAMP:20260423T174425
CREATED:20250903T083351Z
LAST-MODIFIED:20250903T083352Z
UID:28921-1757260800-1757264400@paroisses-pays-auray.fr
SUMMARY:Conférence: le golfe au Néolithique
DESCRIPTION:L’historien François Ars propose une conférence sur le golfe du Morbihan à l’époque du Néolithique. \nA la chapelle St Thuriau de Lestréviau\, à Plougoumelen. A 16h.
URL:https://paroisses-pays-auray.fr/event/conference-le-golfe-au-neolithique/
CATEGORIES:Conférences,Evénement accueil
ATTACH;FMTTYPE=image/jpeg:https://paroisses-pays-auray.fr/wp-content/uploads/2018/11/Plougoumelen_Chapelle-st-thuriau.jpg
END:VEVENT
BEGIN:VEVENT
DTSTART;VALUE=DATE:20250908
DTEND;VALUE=DATE:20250909
DTSTAMP:20260423T174425
CREATED:20200825T173554Z
LAST-MODIFIED:20250808T071337Z
UID:6749-1757289600-1757375999@paroisses-pays-auray.fr
SUMMARY:Fête de la nativité de Marie
DESCRIPTION:Ce 8 septembre\, nous célébrons la naissance de celle qui a dit « oui« . \n\n\nA Ste Anne d’Auray: laudes à 9h – messes à 9h30 (chapelle) – 11h et 20h (basilique) – Vêpres à 17h30 en la basilique \n\n\nEn savoir plus sur cette fête
URL:https://paroisses-pays-auray.fr/event/fete-de-la-nativite-de-marie/
CATEGORIES:Evénement accueil
ATTACH;FMTTYPE=image/jpeg:https://paroisses-pays-auray.fr/wp-content/uploads/2019/08/nativité-Marie.jpg
END:VEVENT
BEGIN:VEVENT
DTSTART;VALUE=DATE:20250914
DTEND;VALUE=DATE:20250915
DTSTAMP:20260423T174425
CREATED:20200604T161333Z
LAST-MODIFIED:20250829T160355Z
UID:10243-1757808000-1757894399@paroisses-pays-auray.fr
SUMMARY:Pardon de Langroix à Plumergat
DESCRIPTION:Messe à 11h. \nLa Vraie Croix à Langroix date du XVIème-XVIIème. La chapelle doit son nom au fait qu’elle ait abrité un morceau de la Sainte Croix.
URL:https://paroisses-pays-auray.fr/event/pardon-de-langroix/
CATEGORIES:Evénement accueil,Pardons,Paroisses de Sainte-Anne-d'Auray, Brec'h, Mériadec et Plumergat
ATTACH;FMTTYPE=image/jpeg:https://paroisses-pays-auray.fr/wp-content/uploads/2018/11/chapelle_la_vraie_croix.jpg
END:VEVENT
BEGIN:VEVENT
DTSTART;VALUE=DATE:20250914
DTEND;VALUE=DATE:20250915
DTSTAMP:20260423T174425
CREATED:20190908T201136Z
LAST-MODIFIED:20250903T081414Z
UID:6981-1757808000-1757894399@paroisses-pays-auray.fr
SUMMARY:Fête de la croix glorieuse
DESCRIPTION:Le 14 septembre\, l’Église célèbre une des sept fêtes du Seigneur au cours de l’année liturgique. \nLa croix glorieuse remonte sans doute à la dédicace de la basilique du saint- Sépulcre\,le 14 septembre 335 \nLa chapelle de la Vraie croix à Plumergat a abrité un morceau de la sainte croix. \nLa croix qui était le pire des supplices est devenue le signe de l’amour absolu de Jésus pour les quelques 2\,4 miliards de chrétiens actuellement dans le monde (et tous ceux qui les ont précédés).\n \nEn savoir plus \n  \n 
URL:https://paroisses-pays-auray.fr/event/fete-de-la-croix-glorieuse/
CATEGORIES:Evénement accueil
ATTACH;FMTTYPE=image/jpeg:https://paroisses-pays-auray.fr/wp-content/uploads/2019/03/vendredi-saint.jpg
END:VEVENT
BEGIN:VEVENT
DTSTART;VALUE=DATE:20250914
DTEND;VALUE=DATE:20250915
DTSTAMP:20260423T174425
CREATED:20190828T083017Z
LAST-MODIFIED:20250903T085649Z
UID:6772-1757808000-1757894399@paroisses-pays-auray.fr
SUMMARY:Pèlerinage des motards à Ste Anne d'Auray
DESCRIPTION:“Pour nous qui roulons beaucoup sur nos belles routes bretonnes\, une petite visite à la Sainte patronne de la Bretagne s’impose !” \nA 11h à la Scala Santa de Ste Anne d’Auray\, \nMesse à la basilique suivie d’une prière pour les motards \n 
URL:https://paroisses-pays-auray.fr/event/pelerinage-des-motards-a-ste-anne-dauray/
LOCATION:Sainte Anne d’Auray
CATEGORIES:Evénement accueil,Paroisses de Sainte-Anne-d'Auray, Brec'h, Mériadec et Plumergat
ATTACH;FMTTYPE=image/jpeg:https://paroisses-pays-auray.fr/wp-content/uploads/2019/08/pélé-motards.jpg
END:VEVENT
BEGIN:VEVENT
DTSTART;VALUE=DATE:20250915
DTEND;VALUE=DATE:20250916
DTSTAMP:20260423T174425
CREATED:20250829T155040Z
LAST-MODIFIED:20250829T155040Z
UID:28902-1757894400-1757980799@paroisses-pays-auray.fr
SUMMARY:Frat 56: tous à Ste Anne
DESCRIPTION:L’enseignement catholique invite les élèves à partir du cycle 3 ( du CM1 à la 6ème) pour une journée de fraternité et de rencontres. \nAu programme : \n 8h45-9h30 – Accueil à Mériadec (place de l’Eglise) et début de la marche jusqu’à Sainte Anne d’Auray (5 kms) avec les élèves des établissements.\n 11h15 – Arrivée sur le sanctuaire et début des activités:\n– animations\n– concert Clarisse Lavanant\n– célébration de la Parole\n 15h00 – Départ des cars
URL:https://paroisses-pays-auray.fr/event/frat-56-tous-a-ste-anne/
LOCATION:Sainte Anne d’Auray
CATEGORIES:Evénement accueil,Paroisses de Sainte-Anne-d'Auray, Brec'h, Mériadec et Plumergat
ATTACH;FMTTYPE=image/jpeg:https://paroisses-pays-auray.fr/wp-content/uploads/2024/09/frat56-2024-B.jpg
END:VEVENT
BEGIN:VEVENT
DTSTART;VALUE=DATE:20250915
DTEND;VALUE=DATE:20250916
DTSTAMP:20260423T174425
CREATED:20200827T143453Z
LAST-MODIFIED:20250903T081602Z
UID:11142-1757894400-1757980799@paroisses-pays-auray.fr
SUMMARY:Notre-Dame des douleurs
DESCRIPTION:Nous nous souvenons de Notre-Dame des (7) douleurs\, représentée dans un certain nombre de nos églises ou chapelles. \nCe culte s’est développé au XIIIème siècle en Italie où les églises\, comme dans un certain nombre de pays latins\, accueillent une vierge transpercée de 7 épées. Ces épées représentent les 7 moments douloureux vécus par Marie: \n\nLa prophétie de Syméon sur l’Enfant Jésus. Lors de la présentation de Jésus au temple\, le vieux Syméon révèle à Marie qu’une épée lui transpercera le cœur\, annonçant la Passion de Jésus. (Lc\, 2\, 34-35)\nLa fuite de la Sainte Famille en Égypte lorsque le roi Hérode le Grand souhaite massacrer les enfants par crainte de ce nouveau roi. (Mat\, 2\, 13-21)\nLa disparition de Jésus pendant trois jours au temple. A l’âge de 12 ans\, au retour d’un pèlerinage à Jérusalem\, Marie et Joseph ont mis 3 jours à retrouver Jésus qui « s’occupait des affaires de son Père » (Lc\, 2\, 41-51)\nLa rencontre de Marie et Jésus sur la via crucis\, lors de son chemin de croix. (Lc\, 23\, 27-31)\nMarie contemplant la souffrance et le décès de Jésus sur la Croix. (Jn\, 19\, 25-27)\nMarie accueille son fils mort dans ses bras lors de la Descente de croix. (Mat\, 27\, 57-59)\nMarie laisse le corps de son fils lors de la mise au tombeau. (Jn\, 19\, 40-42)
URL:https://paroisses-pays-auray.fr/event/notre-dame-des-douleurs/
CATEGORIES:Evénement accueil
ATTACH;FMTTYPE=image/jpeg:https://paroisses-pays-auray.fr/wp-content/uploads/2019/09/Notre-dame-des-douleurs.jpg
END:VEVENT
BEGIN:VEVENT
DTSTART;VALUE=DATE:20250920
DTEND;VALUE=DATE:20250922
DTSTAMP:20260423T174425
CREATED:20230902T130207Z
LAST-MODIFIED:20250916T093055Z
UID:23361-1758326400-1758499199@paroisses-pays-auray.fr
SUMMARY:Journées du Patrimoine 2025
DESCRIPTION:Les Journées européennes du patrimoine seront consacrées au patrimoine architectural\, qui façonne nos paysages et notre mémoire culturelle. \nA Ste Anne d’Auray:\n\nSamedi 20 septembre\n\nEntre 10h et 13h: Escape Game à la médiathèque sur le créneau d’ouverture de la médiathèque. Sur inscription : mediatheque@admas.fr ou 02 97 57 57 35 – gratuit. \n10h30 : Atelier linogravure enfants  – 4 enfants maxi\, à partir de 8 ans\, galerie du cloître. 5€ – Inscription obligatoire : animations@admas.fr \n11h – 14h – 15h – 16h: Visites du Mémorial par l’association Les Amis du Mémorial \n11h : Conférence sur Xavier de Langlais et Sainte-Anne-d’Auray par Glenn Gouthe – \nXavier de Langlais\, peintre\, graveur et illustrateur originaire du pays vannetais et membre des Seiz Breur\, est une figure majeure de la culture bretonne. Également reconnu à l’international\, l’artiste a beaucoup œuvré afin de promouvoir la langue bretonne. Cette conférence s’attache à présenter les différentes facettes de Xavier de Langlais\, et à mettre en lumière ses aspects les moins connus.\nProfesseur agrégé de breton\, Glenn Gouthe est docteur en langue\, littérature et culture bretonnes (Université de Rennes 2). Son travail de thèse portait sur le lien entre Xavier de Langlais et la langue bretonne. Par ailleurs musicien\, Glenn Gouthe est amené à jouer régulièrement\, notamment en duo uilleann pipe et harpe avec Quentin Vestur. Salle Monseigneur de Ségur (Médiathèque)\, gratuit. \n14h et 14h30: Visite guidée du sanctuaire – Rendez-vous à la fontaine. \n14h30 : Atelier linogravure adulte – 8 personnes maxi\, à partir de 12 ans\, galerie du cloître. 10€ –  Inscription obligatoire : animations@admas.fr \n14h30-16h30 : Répétition publique des chœurs de la Maîtrise de Sainte-Anne-d’Auray – Salle Hillion\, gratuit. \n16h : Présentation et visite de l’orgue Mulheisen – 1er étage de l’Hôtellerie des carmes\, gratuit. Rdz-vs dans le cloître sur inscription – Pour 20 personnes. animations@admas.fr \n\nDurant tout le week-end\n\nVisite libre de l’exposition Sacrés Trésors  – 10h30-13h et 14h30-17h30 – Galerie du Cloître\nDans l’écrin du cloître\, classé Monument Historique\, l’Académie de Musique et d’Arts Sacrés propose de plonger au cœur de 400 ans d’histoire du sanctuaire.\nL’exposition Sacrés Trésors ! invite à la découverte de son Trésor et des œuvres exceptionnelles issues des collections de Sainte-Anne-d’Auray.\nL’entrée sera exceptionnellement gratuite pour les Journées Européennes du Patrimoine. Diffusion du film Micro-Folie BRETAGNE. \nVisite libre de l’exposition temporaire Xavier de Langlais et Sainte-Anne-d’Auray\nL’exposition met à l’honneur Xavier de Langlais au sein du parcours permanent de la Galerie du Cloître. L’artiste breton a réalisé des gravures illustrant notamment les apparitions de sainte Anne à Yvon Nicolazic et la découverte de la statue. Une vitrine de l’exposition est spécialement consacrée à la présentation de ces œuvres. \n Au Bono:\nL’église N. D. du Bono- Etoile de la mer est ouverte le samedi et le dimanche.  Ses vitraux\, mosaïques et peintures méritent le détour \nA Plougoumelen:\nLa chapelle Notre-Dame de Béquerel (XVème) accueille les visiteurs le dimanche de 14h30 à 18h. \nLa chapelle st Thuriau de Lestréviau accueille les visiteurs dans son intimité. Une exposition de peinture est prévue. Les oeuvres représentent un paysage\, un patrimoine bâti\, une scène de vie… de Plougoumelen. Le samedi et le dimanche\, de 10h à 12h et de 14h à 18h. Entrée libre
URL:https://paroisses-pays-auray.fr/event/journees-du-patrimoine-2023/
CATEGORIES:Evénement accueil,Paroisses de Sainte-Anne-d'Auray, Brec'h, Mériadec et Plumergat,Plougoumelen-LeBono
ATTACH;FMTTYPE=image/jpeg:https://paroisses-pays-auray.fr/wp-content/uploads/2024/08/journee-du-patrimoine-2024.jpg
END:VEVENT
BEGIN:VEVENT
DTSTART;VALUE=DATE:20250920
DTEND;VALUE=DATE:20250922
DTSTAMP:20260423T174425
CREATED:20221130T234707Z
LAST-MODIFIED:20250910T145336Z
UID:20124-1758326400-1758499199@paroisses-pays-auray.fr
SUMMARY:Pèlerinage pour la Bretagne "Feiz e Breizh"
DESCRIPTION:La 8ème édition aura lieu de Monterblanc à Sainte-Anne d’Auray. Près de quarante chapitres de toute la Bretagne convergeront vers le sanctuaire.! \nSur le thème: « le Christ modèle de charité » \nInformations et inscriptions : https://www.feiz.bzh/ \n 
URL:https://paroisses-pays-auray.fr/event/pelerinage-nocturne/
CATEGORIES:Evénement accueil,Paroisses de Sainte-Anne-d'Auray, Brec'h, Mériadec et Plumergat
ATTACH;FMTTYPE=image/jpeg:https://paroisses-pays-auray.fr/wp-content/uploads/2020/08/feiz-e-breiz.jpg
END:VEVENT
BEGIN:VEVENT
DTSTART;VALUE=DATE:20250921
DTEND;VALUE=DATE:20250922
DTSTAMP:20260423T174425
CREATED:20200604T162128Z
LAST-MODIFIED:20250916T155902Z
UID:10250-1758412800-1758499199@paroisses-pays-auray.fr
SUMMARY:Pardon de St Maurice à Plumergat
DESCRIPTION:Messe en la chapelle de Locmaria\, à 11h. \nCette chapelle avait autrefois une certaine importance. \nA en juger par le calice d’argent\, daté de 1597 découvert\, autour de 1850\, caché dans le creux d’un arbre et aussi par un missel du XVIè siècle conservé dans les archives de Sainte-Anne d’Auray.
URL:https://paroisses-pays-auray.fr/event/pardon-de-st-maurice-a-plumergat/
CATEGORIES:Evénement accueil,Pardons,Paroisses de Sainte-Anne-d'Auray, Brec'h, Mériadec et Plumergat
ATTACH;FMTTYPE=image/jpeg:https://paroisses-pays-auray.fr/wp-content/uploads/2020/06/chapelle-St-Maurice.jpg
END:VEVENT
BEGIN:VEVENT
DTSTART;TZID=UTC:20250921T093000
DTEND;TZID=UTC:20250921T140000
DTSTAMP:20260423T174425
CREATED:20250121T220045Z
LAST-MODIFIED:20250831T205945Z
UID:28177-1758447000-1758463200@paroisses-pays-auray.fr
SUMMARY:Rentrée paroissiale et TOP
DESCRIPTION:Ce dimanche 21 septembre a lieu la rentrée de notre paroisse ! Au programme :\n\n– Messe à 9h30 à la basilique\nMesse des familles et de rentrée du catéchisme\nSuivie d’un temps fort caté pour les enfants\nTOP à partir de 12h30Paroissiens de longue date\, nouveaux arrivants\, familles\, célibataires\, grands-parents\, avec ou sans enfants…\n\nVous êtes tous invités à la Table Ouverte Paroissiale\, le dimanche 21 septembre à partir de 12h30\, salle Pierre de Keriolet.\nVenez partager un temps fraternel et rencontrer les  autres paroissiens de Sainte-Anne-d’Auray.\nMerci de diffuser cette information autour de vous\, particulièrement aux nouveaux arrivants !  \nLa TOP\, qu’est-ce que c’est ?\n\nUn repas partagé où chacun apporte un plat salé ou sucré à déguster avec les autres (buffet avec couverts fournis).\nUn moment convivial pour se rencontrer et prendre le temps de se connaître entre paroissiens de toutes générations.\nDes activités ludiques pour ceux qui le désirent.\nUn temps de détente et de bonne humeur !\n\nContact : Marie-Agnès – 06 95 84 23 38
URL:https://paroisses-pays-auray.fr/event/top-table-ouverte-paroissiale/
LOCATION:Sainte Anne d’Auray
CATEGORIES:Evénement accueil,Paroisses de Sainte-Anne-d'Auray, Brec'h, Mériadec et Plumergat
ATTACH;FMTTYPE=image/png:https://paroisses-pays-auray.fr/wp-content/uploads/2025/01/top21septembre.png
END:VEVENT
BEGIN:VEVENT
DTSTART;VALUE=DATE:20250928
DTEND;VALUE=DATE:20250929
DTSTAMP:20260423T174425
CREATED:20190930T141408Z
LAST-MODIFIED:20250917T092532Z
UID:7240-1759017600-1759103999@paroisses-pays-auray.fr
SUMMARY:Pèlerinage des guides et scouts d'Europe de Bretagne
DESCRIPTION:Ce rassemblement réunit à Ste Anne d’Auray\, tous les 3 ans\, les louvettes/ louveteaux (7-12 ans)\, les scouts/guides (12-17 ans) et les guides aînées/ routiers (plus de 17 ans) des 3 provinces de la Bretagne. \nMarche jusqu’au sanctuaire. Arrivée à 13h. \n15h: Messe dans le Mémorial \n17h: Clôture.
URL:https://paroisses-pays-auray.fr/event/rassemblement-des-guides-et-scouts-deurope-de-bretagne/
CATEGORIES:Evénement accueil
ATTACH;FMTTYPE=image/jpeg:https://paroisses-pays-auray.fr/wp-content/uploads/2019/09/16865176_1112789635530636_6396063248300454961_n.jpg
END:VEVENT
BEGIN:VEVENT
DTSTART;TZID=UTC:20250928T110000
DTEND;TZID=UTC:20250928T110000
DTSTAMP:20260423T174425
CREATED:20200604T162416Z
LAST-MODIFIED:20250916T155508Z
UID:10253-1759057200-1759057200@paroisses-pays-auray.fr
SUMMARY:Pardon de St Michel
DESCRIPTION:Messe à 11h\, en la chapelle St Michel de Plumergat. \nLa chapelle Saint Michel de Kervaly (XVI – XIXè siècles) a été bâtie par les seigneurs de Trongoff dont les armoiries figurent sur la façade ouest et sur la console qui supporte la statue de Saint Yves. \n  \n  \n 
URL:https://paroisses-pays-auray.fr/event/pardon-de-st-michel-a-plumergat-2/
CATEGORIES:Evénement accueil,Pardons,Paroisses de Sainte-Anne-d'Auray, Brec'h, Mériadec et Plumergat
ATTACH;FMTTYPE=image/jpeg:https://paroisses-pays-auray.fr/wp-content/uploads/2018/11/chapelle_saint_michel_de_kervalay-e1663923827697.jpg
END:VEVENT
BEGIN:VEVENT
DTSTART;TZID=UTC:20250928T110000
DTEND;TZID=UTC:20250928T110000
DTSTAMP:20260423T174425
CREATED:20190828T090310Z
LAST-MODIFIED:20250911T085612Z
UID:6784-1759057200-1759057200@paroisses-pays-auray.fr
SUMMARY:Pardon de St Thuriau à Plougoumelen
DESCRIPTION:Messe à 11h en la chapelle de Lestréviau\,  à Plougoumelen. \nRepas champêtre à l’issue de la messe (sur réservation: contacter les Amis de la chapelle). \nLa chapelle date du XVIème siècle. Elle possède de belles statues en bois polychrome. \n  Né à Lanvollon\, St Thuriau a d’abord été berger.\nInstruit par un prêtre\, il devient prêtre et est adopté par saint Samson\, évêque de Dol. St Thuriau est ensuite devenu évêque et abbé du monastère de Dol. \nPlus d’infos sur la chapelle ici
URL:https://paroisses-pays-auray.fr/event/pardons-de-st-thuriau-a-plougoumelen-et-de-st-maurice-a-plumergat/
CATEGORIES:Evénement accueil,Pardons,Plougoumelen-LeBono
ATTACH;FMTTYPE=image/jpeg:https://paroisses-pays-auray.fr/wp-content/uploads/2018/11/Plougoumelen_Chapelle-st-thuriau.jpg
END:VEVENT
BEGIN:VEVENT
DTSTART;VALUE=DATE:20250929
DTEND;VALUE=DATE:20250930
DTSTAMP:20260423T174425
CREATED:20240923T202030Z
LAST-MODIFIED:20250929T094618Z
UID:27132-1759104000-1759190399@paroisses-pays-auray.fr
SUMMARY:Fête de Sainte Thérèse de l'Enfant Jésus
DESCRIPTION:En ce tout début du mois d’octobre consacré au Rosaire\, nous fêtons Sainte Thérèse de l’Enfant Jésus. Elle a donné son nom à une école catholique d’Auray. \nThérèse nous fait aussi découvrir Marie \nQuelques mois avant sa mort\, Thérèse compose son poème « Pourquoi je t’aime Ô Marie ! » Elle y exprime tout ce qu’elle pense de la Vierge Marie. Elle nous invite à nous tourner vers la Mère de Dieu et notre Mère en méditant sa vie telle que l’Évangile nous la révèle avec discrétion et profondeur.\n\n\n« Oh ! je voudrais chanter\, Marie pourquoi je t’aime !\nPourquoi ton nom si doux fait tressaillir mon cœur\nEt pourquoi la pensée de ta grandeur suprême\nNe saurait à mon âme inspirer de frayeur.\nSi je te contemplais dans ta sublime gloire\nEt surpassant l’éclat de tous les bienheureux\nQue je suis ton enfant je ne pourrais le croire\nO Marie devant toi\, je baisserais les yeux !… »\n\nSuite
URL:https://paroisses-pays-auray.fr/event/fete-de-sainte-therese-de-lenfant-jesus/
CATEGORIES:Evénement accueil
ATTACH;FMTTYPE=image/jpeg:https://paroisses-pays-auray.fr/wp-content/uploads/2024/09/therese.jpg
END:VEVENT
END:VCALENDAR