BEGIN:VCALENDAR
VERSION:2.0
PRODID:-//Paroisses du Pays d&#039;Auray - ECPv6.15.13//NONSGML v1.0//EN
CALSCALE:GREGORIAN
METHOD:PUBLISH
X-ORIGINAL-URL:https://paroisses-pays-auray.fr
X-WR-CALDESC:Évènements pour Paroisses du Pays d&#039;Auray
REFRESH-INTERVAL;VALUE=DURATION:PT1H
X-Robots-Tag:noindex
X-PUBLISHED-TTL:PT1H
BEGIN:VTIMEZONE
TZID:UTC
BEGIN:STANDARD
TZOFFSETFROM:+0000
TZOFFSETTO:+0000
TZNAME:UTC
DTSTART:20230101T000000
END:STANDARD
END:VTIMEZONE
BEGIN:VEVENT
DTSTART;TZID=UTC:20240607T213000
DTEND;TZID=UTC:20240608T213000
DTSTAMP:20260424T165858
CREATED:20240527T131149Z
LAST-MODIFIED:20240527T131149Z
UID:26319-1717795800-1717882200@paroisses-pays-auray.fr
SUMMARY:Spectacle Son et Lumière: "la chapelle abandonnée"
DESCRIPTION: » Ar chapel dilaosket » en langue bretonne\, avec décor\, mise en scène et costumes.\nLes animaux\, tels qu’ils sont représentés sur les sablières des chapelles\, occupent le centre de cette soirée.\nTantôt satiriques\, tantôt fantastiques ou symboliques\, ils sont une merveilleuse porte d’entrée sur le monde des légendes bretonnes. \nPar les élèves du cursus « langue et culture bretonne » du lycée de Ste Anne d’Auray. \nDans le cloître du sanctuaire.
URL:https://paroisses-pays-auray.fr/event/spectacle-son-et-lumiere-la-chapelle-abandonnee/
CATEGORIES:Evénement accueil,Paroisses de Sainte-Anne-d'Auray, Brec'h, Mériadec et Plumergat
ATTACH;FMTTYPE=image/jpeg:https://paroisses-pays-auray.fr/wp-content/uploads/2023/11/cloitre-ste-anne.jpg
END:VEVENT
END:VCALENDAR