BEGIN:VCALENDAR
VERSION:2.0
PRODID:-//Paroisses du Pays d&#039;Auray - ECPv6.15.13//NONSGML v1.0//EN
CALSCALE:GREGORIAN
METHOD:PUBLISH
X-WR-CALNAME:Paroisses du Pays d&#039;Auray
X-ORIGINAL-URL:https://paroisses-pays-auray.fr
X-WR-CALDESC:Évènements pour Paroisses du Pays d&#039;Auray
REFRESH-INTERVAL;VALUE=DURATION:PT1H
X-Robots-Tag:noindex
X-PUBLISHED-TTL:PT1H
BEGIN:VTIMEZONE
TZID:UTC
BEGIN:STANDARD
TZOFFSETFROM:+0000
TZOFFSETTO:+0000
TZNAME:UTC
DTSTART:20230101T000000
END:STANDARD
END:VTIMEZONE
BEGIN:VEVENT
DTSTART;TZID=UTC:20240713T114500
DTEND;TZID=UTC:20240713T114500
DTSTAMP:20260424T152525
CREATED:20240629T091120Z
LAST-MODIFIED:20240708T152435Z
UID:26638-1720871100-1720871100@paroisses-pays-auray.fr
SUMMARY:Moment musical
DESCRIPTION:La soprano Anaèle Descamps et l’organiste Joseph Amiel vous proposent un moment musical\, à l’issue de la messe de 11h.\nJeunes musiciens\, ils sont au service de la vie liturgique durant les quinze premiers jours de juillet. \nEn la basilique de ste Anne d’Auray.
URL:https://paroisses-pays-auray.fr/event/moment-musical/
CATEGORIES:Evénement accueil,Paroisses de Sainte-Anne-d'Auray, Brec'h, Mériadec et Plumergat
ATTACH;FMTTYPE=image/jpeg:https://paroisses-pays-auray.fr/wp-content/uploads/2019/05/orgue-ste-anne.jpg
END:VEVENT
BEGIN:VEVENT
DTSTART;TZID=UTC:20240713T210000
DTEND;TZID=UTC:20240713T210000
DTSTAMP:20260424T152525
CREATED:20240629T091646Z
LAST-MODIFIED:20240629T091646Z
UID:26640-1720904400-1720904400@paroisses-pays-auray.fr
SUMMARY:Veillée aux flambeaux
DESCRIPTION:Empruntez le chemin de sainte Anne à la nuit tombante. \nCette méditation itinérante dans le parc du sanctuaire permet d’arpenter la vie et le message biblique de sainte Anne à la lueur des flambeaux. \nCierges en vente au chalet d’accueil – Sanctuaire de Ste Anne d’Auray. \nA 21h – Tous les mercredis et samedis de l’été (sauf les 24 et 27 juillet)
URL:https://paroisses-pays-auray.fr/event/veillee-aux-flambeaux-6/
CATEGORIES:Evénement accueil,Paroisses de Sainte-Anne-d'Auray, Brec'h, Mériadec et Plumergat
ATTACH;FMTTYPE=image/jpeg:https://paroisses-pays-auray.fr/wp-content/uploads/2021/07/flambeaux.jpg
END:VEVENT
END:VCALENDAR