BEGIN:VCALENDAR
VERSION:2.0
PRODID:-//Paroisses du Pays d&#039;Auray - ECPv6.15.13//NONSGML v1.0//EN
CALSCALE:GREGORIAN
METHOD:PUBLISH
X-WR-CALNAME:Paroisses du Pays d&#039;Auray
X-ORIGINAL-URL:https://paroisses-pays-auray.fr
X-WR-CALDESC:Évènements pour Paroisses du Pays d&#039;Auray
REFRESH-INTERVAL;VALUE=DURATION:PT1H
X-Robots-Tag:noindex
X-PUBLISHED-TTL:PT1H
BEGIN:VTIMEZONE
TZID:UTC
BEGIN:STANDARD
TZOFFSETFROM:+0000
TZOFFSETTO:+0000
TZNAME:UTC
DTSTART:20230101T000000
END:STANDARD
END:VTIMEZONE
BEGIN:VEVENT
DTSTART;TZID=UTC:20240725T000000
DTEND;TZID=UTC:20240726T000000
DTSTAMP:20260424T154751
CREATED:20240613T131738Z
LAST-MODIFIED:20240713T104011Z
UID:6092-1721865600-1721952000@paroisses-pays-auray.fr
SUMMARY:Grand pardon de ste Anne d'Auray
DESCRIPTION:GRAND PARDON DE  SAINTE ANNE D’AURAY\n25 et 26 juillet\n \nCette année\, Mgr Bruno Feillet\, évêque de Sées (Orne) viendra présider le 399ème Grand Pardon. \nLe 25 juillet 2024\n\n17h – Premières vêpres \n18h – Messe \n19h – Début des confessions \n21h – Veillée au Mémorial – Son et Lumière – Récit des apparitions – Procession aux flambeaux \nNuit d’adoration de 23h à 8h. \nLe 26 juillet 2024\n8h – Laudes \n9h – Messe en breton \n10h30 – Procession et messe pontificale \n14h15 – Moment musical \n15h30 – Chapelet \n16h – Vêpres et salut du Saint-Sacrement \n17h30 – Fest deiz avec les Kanerion Pleuigner \n19h – Messe \n\n\n👨‍👩‍👧‍👦 Toutes les équipes du sanctuaire\, bénévoles et salariés\, sont mobilisées pour l’accueil des pèlerins\, la préparation des célébrations et l’embellissement des lieux. \n\n\n🎶 Les musiciens de l’Académie de Sainte-Anne d’Auray : chanteurs\, sonneurs et organistes donneront la couleur musicale propre à ce rendez-vous. \n\n\n☀ Du 14 juillet au 25 août\, faîtes une « halte au coeur de l’été » à Sainte-Anne-d’Auray avec des conférences\, des veillées aux flambeaux\, des visites guidées\, des concerts\, des balades ornithologiques.\n\n Plus d’informations pratiques\n\n 
URL:https://paroisses-pays-auray.fr/event/grand-pardon-de-ste-anne-3/
CATEGORIES:Evénement accueil,Pardons,Paroisses de Sainte-Anne-d'Auray, Brec'h, Mériadec et Plumergat
ATTACH;FMTTYPE=image/jpeg:https://paroisses-pays-auray.fr/wp-content/uploads/2019/07/pélésteAnne2.jpeg
END:VEVENT
END:VCALENDAR