BEGIN:VCALENDAR
VERSION:2.0
PRODID:-//Paroisses du Pays d&#039;Auray - ECPv6.15.13//NONSGML v1.0//EN
CALSCALE:GREGORIAN
METHOD:PUBLISH
X-WR-CALNAME:Paroisses du Pays d&#039;Auray
X-ORIGINAL-URL:https://paroisses-pays-auray.fr
X-WR-CALDESC:Évènements pour Paroisses du Pays d&#039;Auray
REFRESH-INTERVAL;VALUE=DURATION:PT1H
X-Robots-Tag:noindex
X-PUBLISHED-TTL:PT1H
BEGIN:VTIMEZONE
TZID:UTC
BEGIN:STANDARD
TZOFFSETFROM:+0000
TZOFFSETTO:+0000
TZNAME:UTC
DTSTART:20230101T000000
END:STANDARD
END:VTIMEZONE
BEGIN:VEVENT
DTSTART;VALUE=DATE:20240728
DTEND;VALUE=DATE:20240729
DTSTAMP:20260424T154739
CREATED:20240708T145957Z
LAST-MODIFIED:20240708T145957Z
UID:26694-1722124800-1722211199@paroisses-pays-auray.fr
SUMMARY:Journée des grands-parents et des petits-enfants
DESCRIPTION:« Dans ma vieillesse\, ne m’abandonne pas ! » \nMesse avec le Mouvement Anne et Joachim. \nEn la basilique de ste Anne d’Auray à 11h.
URL:https://paroisses-pays-auray.fr/event/journee-des-grands-parents-et-des-petits-enfants/
CATEGORIES:Evénement accueil,Paroisses de Sainte-Anne-d'Auray, Brec'h, Mériadec et Plumergat
ATTACH;FMTTYPE=image/jpeg:https://paroisses-pays-auray.fr/wp-content/uploads/2019/07/anne-et-joachim.jpg
END:VEVENT
BEGIN:VEVENT
DTSTART;VALUE=DATE:20240728
DTEND;VALUE=DATE:20240729
DTSTAMP:20260424T154739
CREATED:20200604T155531Z
LAST-MODIFIED:20240613T132714Z
UID:10227-1722124800-1722211199@paroisses-pays-auray.fr
SUMMARY:Plumergat: Pardon de Ste Julitte
DESCRIPTION:En la chapelle de Lanvin à Plumergat\, à 11h. \nLa chapelle Sainte Juliette de Lanvin (XVIIè siècle) dépendait de l’abbaye de Lanvaux. \nA l’intérieur\, on remarque la console armoriée supportant une statue de la Vierge à l’Enfant.
URL:https://paroisses-pays-auray.fr/event/pardon-de-ste-julitte/
CATEGORIES:Evénement accueil,Pardons,Paroisses de Sainte-Anne-d'Auray, Brec'h, Mériadec et Plumergat
ATTACH;FMTTYPE=image/jpeg:https://paroisses-pays-auray.fr/wp-content/uploads/2020/06/chapelle_saint_juliette_de_lanvin.jpg
END:VEVENT
END:VCALENDAR