BEGIN:VCALENDAR
VERSION:2.0
PRODID:-//Paroisses du Pays d&#039;Auray - ECPv6.15.13//NONSGML v1.0//EN
CALSCALE:GREGORIAN
METHOD:PUBLISH
X-ORIGINAL-URL:https://paroisses-pays-auray.fr
X-WR-CALDESC:Évènements pour Paroisses du Pays d&#039;Auray
REFRESH-INTERVAL;VALUE=DURATION:PT1H
X-Robots-Tag:noindex
X-PUBLISHED-TTL:PT1H
BEGIN:VTIMEZONE
TZID:UTC
BEGIN:STANDARD
TZOFFSETFROM:+0000
TZOFFSETTO:+0000
TZNAME:UTC
DTSTART:20230101T000000
END:STANDARD
END:VTIMEZONE
BEGIN:VEVENT
DTSTART;VALUE=DATE:20240818
DTEND;VALUE=DATE:20240819
DTSTAMP:20260424T140807
CREATED:20200604T155908Z
LAST-MODIFIED:20240613T132817Z
UID:10230-1723939200-1724025599@paroisses-pays-auray.fr
SUMMARY:Pardon de N.D de la Force à Brec'h
DESCRIPTION:La messe du Pardon sera célébrée dans la chapelle à 11h. \nElle sera précédée de la bénédiction de l’eau à la fontaine\,  puis de la demande de pardon et de la procession vers la chapelle. \nLa chapelle s’appelle aussi Notre-Dame de Grâce\, en Tréavrec’h. \n 
URL:https://paroisses-pays-auray.fr/event/pardon-de-n-d-de-la-force-a-brech/
CATEGORIES:Evénement accueil,Pardons,Paroisses de Sainte-Anne-d'Auray, Brec'h, Mériadec et Plumergat
ATTACH;FMTTYPE=image/jpeg:https://paroisses-pays-auray.fr/wp-content/uploads/2018/11/chapelle_treavrec.jpg
END:VEVENT
END:VCALENDAR