BEGIN:VCALENDAR
VERSION:2.0
PRODID:-//Paroisses du Pays d&#039;Auray - ECPv6.15.13//NONSGML v1.0//EN
CALSCALE:GREGORIAN
METHOD:PUBLISH
X-WR-CALNAME:Paroisses du Pays d&#039;Auray
X-ORIGINAL-URL:https://paroisses-pays-auray.fr
X-WR-CALDESC:Évènements pour Paroisses du Pays d&#039;Auray
REFRESH-INTERVAL;VALUE=DURATION:PT1H
X-Robots-Tag:noindex
X-PUBLISHED-TTL:PT1H
BEGIN:VTIMEZONE
TZID:UTC
BEGIN:STANDARD
TZOFFSETFROM:+0000
TZOFFSETTO:+0000
TZNAME:UTC
DTSTART:20230101T000000
END:STANDARD
END:VTIMEZONE
BEGIN:VEVENT
DTSTART;TZID=UTC:20240821T110000
DTEND;TZID=UTC:20240821T110000
DTSTAMP:20260424T135843
CREATED:20240629T092739Z
LAST-MODIFIED:20240814T085012Z
UID:26644-1724238000-1724238000@paroisses-pays-auray.fr
SUMMARY:"Histoires sacrées": visite commentée de l'exposition
DESCRIPTION:Visite commentée de l’exposition “Istorioù sakret » (Sacrés histoires) – Il était une fois… le sanctuaire de Sainte-Anne“ \nL’équipe du Pôle patrimoine de l’Académie de Musique et d’Arts Sacrés vous guide à travers la lecture de l’exposition.\nUne découverte ou redécouverte de l’histoire du sanctuaire et des objets des collections. \nUne scénographie et des outils de médiation renouvelés\nLa Galerie du Cloître déploie une scénographie renouvelée\, qui aborde l’histoire du site à travers de nouveaux objets et depuis un autre regard\, celui de la figure de sainte Anne\, à la fois clé et porte d’entrée de cette longue histoire.\nDes zones de relecture et de médiation\, situées à la fin de chaque séquence\, viennent compléter le propos de manière ludique et didactique: objets à manipuler\, outils audiovisuels… \nUne place de choix pour le Trésor\nLe Trésor intègre le parcours permanent. Cet espace offre un nouvel écrin aux\nnombreux présents offerts par les pèlerins. \nGalerie du cloître du sanctuaire de ste Anne d’Auray\n(accès par le cloître) \nTarif : 5 € adultes – Gratuit pour les mineurs.
URL:https://paroisses-pays-auray.fr/event/histoires-sacrees-visite-commentee-de-lexposition/
CATEGORIES:Evénement accueil,Paroisses de Sainte-Anne-d'Auray, Brec'h, Mériadec et Plumergat
ATTACH;FMTTYPE=image/jpeg:https://paroisses-pays-auray.fr/wp-content/uploads/2023/11/cloitre-ste-anne.jpg
END:VEVENT
END:VCALENDAR