BEGIN:VCALENDAR
VERSION:2.0
PRODID:-//Paroisses du Pays d&#039;Auray - ECPv6.15.13//NONSGML v1.0//EN
CALSCALE:GREGORIAN
METHOD:PUBLISH
X-ORIGINAL-URL:https://paroisses-pays-auray.fr
X-WR-CALDESC:Évènements pour Paroisses du Pays d&#039;Auray
REFRESH-INTERVAL;VALUE=DURATION:PT1H
X-Robots-Tag:noindex
X-PUBLISHED-TTL:PT1H
BEGIN:VTIMEZONE
TZID:UTC
BEGIN:STANDARD
TZOFFSETFROM:+0000
TZOFFSETTO:+0000
TZNAME:UTC
DTSTART:20230101T000000
END:STANDARD
END:VTIMEZONE
BEGIN:VEVENT
DTSTART;VALUE=DATE:20240907
DTEND;VALUE=DATE:20240909
DTSTAMP:20260424T122455
CREATED:20200827T132240Z
LAST-MODIFIED:20240816T151303Z
UID:11115-1725667200-1725839999@paroisses-pays-auray.fr
SUMMARY:Pèlerinage des couples en désir d'enfants
DESCRIPTION:Ste Anne a eu une grossesse tardive\, semble-t-il. \nYves Nicolazic ( le « voyant » de Ste Anne) et sa femme Guillemette ont aussi attendu de longues années avant d’avoir des enfants. \nLa reine Anne d’Autriche\, épouse de Louis XIII\, a également envoyé des émissaires à Ste Anne d’Auray avant d’attendre Louis Désiré: Louis XIV. Elle sut montrer sa reconnaissance en faisant parvenir au sanctuaire un certain nombre de cadeaux et de reliques (dont une relique de Ste Anne) \nLe sanctuaire de Ste Anne accueille désormais en pèlerinage les couples en attente d’enfants\, au plus près de la date de la Nativité de la Vierge Marie. \nChaque année un pèlerinage est proposé début septembre pour les couples en espérance d’enfants\, à Sainte Anne d’Auray.  \nUne trève conviviale et spirituelle pour les couples !  \n\n\nInscription\n\n\nInscription par mail ou par téléphone auprès du couple référent : quandlenfantsefaitattendre@gmail.com / 06 64 52 91\n \n 
URL:https://paroisses-pays-auray.fr/event/pelerinage-des-couples-en-attente-denfants/
LOCATION:Sainte Anne d’Auray
CATEGORIES:Evénement accueil,Paroisses de Sainte-Anne-d'Auray, Brec'h, Mériadec et Plumergat
ATTACH;FMTTYPE=image/jpeg:https://paroisses-pays-auray.fr/wp-content/uploads/2020/08/pele-attente-enfant-24.jpg
END:VEVENT
BEGIN:VEVENT
DTSTART;VALUE=DATE:20240908
DTEND;VALUE=DATE:20240909
DTSTAMP:20260424T122455
CREATED:20230822T120519Z
LAST-MODIFIED:20240901T130019Z
UID:23255-1725753600-1725839999@paroisses-pays-auray.fr
SUMMARY:Pardon de l'enseignement catholique
DESCRIPTION:Parents\, enfants\, bénévoles\, enseignants\, personnels\, chefs d’établissements\, … tous sont attendus à Sainte Anne d’Auray ! \n« Un pardon\, c’est une démarche individuelle où on vient confier cette nouvelle année pour grandir en intelligence et en sagesse« \, nous dit Stéphane Gouraud\, ex-directeur de l’EC 56. « Et puis c’est une démarche collective où on se retrouve\, en famille\, pour célébrer cette année nouvelle. » \nRassemblement à 10h30 sur le parvis. \nMesse de 11h en la basilique de Ste Anne d’Auray. \nPuis\, repas tiré du sac.
URL:https://paroisses-pays-auray.fr/event/1er-pardon-de-lenseignement-catholique/
CATEGORIES:Evénement accueil,Pardons,Paroisses de Sainte-Anne-d'Auray, Brec'h, Mériadec et Plumergat
ATTACH;FMTTYPE=image/jpeg:https://paroisses-pays-auray.fr/wp-content/uploads/2023/08/PARDON-enseignement-catholique2024-e1725195606628.jpg
END:VEVENT
BEGIN:VEVENT
DTSTART;TZID=UTC:20240908T103000
DTEND;TZID=UTC:20240908T103000
DTSTAMP:20260424T122455
CREATED:20240829T152041Z
LAST-MODIFIED:20240906T210228Z
UID:26975-1725791400-1725791400@paroisses-pays-auray.fr
SUMMARY:Auray-Pluneret : Ca change! messe de rentrée au Père Eternel!
DESCRIPTION:Attention!\nCompte-tenu des conditions météorologiques annoncées (Pluie\, pluie!!) la messe de rentrée aura lieu Dans la chapelle du Père éternel à Auray\nPour ouvrir notre nouvelle année ensemble\, un premier temps fort sous le regard de Marie\, le dimanche 8 septembre\, fête de la nativité de Marie et le 23ème dimanche du temps ordinaire. \nPour cela nous proposons de célébrer la messe en plein air dans le jardin du presbytère St Gildas. \n\nmesse suivie du verre de l’amitié\naccueil des nouveaux arrivants\npossibilité de repas tiré du sac sur place\n\n(en cas de mauvais temps\, repli à la Chapelle du Père Eternel) \nLa messe anticipée de St Goustan à 18h30 le samedi 7 septembre sera célébrée.
URL:https://paroisses-pays-auray.fr/event/auray-pluneret-messe-de-rentree-dans-le-jardin-du-presbytere/
CATEGORIES:Auray-Pluneret,Evénement accueil
ATTACH;FMTTYPE=image/jpeg:https://paroisses-pays-auray.fr/wp-content/uploads/2024/08/presbytere.jpg
END:VEVENT
BEGIN:VEVENT
DTSTART;TZID=UTC:20240908T160000
DTEND;TZID=UTC:20240908T170000
DTSTAMP:20260424T122455
CREATED:20240624T133830Z
LAST-MODIFIED:20240827T091407Z
UID:26615-1725811200-1725814800@paroisses-pays-auray.fr
SUMMARY:Conférence: les statues de la chapelles de St Thuriau à Plougoumelen
DESCRIPTION:Par François Ars\, docteur en histoire\, enseignant et célèbre conférencier. \nLe thème abordé cette année : le statuaire de la chapelle Saint Thuriau
URL:https://paroisses-pays-auray.fr/event/conference-les-statues-de-la-chapelles-de-st-thuriau-a-plougoumelen/
CATEGORIES:Conférences,Evénement accueil,Plougoumelen-LeBono
ATTACH;FMTTYPE=image/jpeg:https://paroisses-pays-auray.fr/wp-content/uploads/2023/09/Pardon-st-Thuriau-23.jpg
END:VEVENT
END:VCALENDAR