BEGIN:VCALENDAR
VERSION:2.0
PRODID:-//Paroisses du Pays d&#039;Auray - ECPv6.15.13//NONSGML v1.0//EN
CALSCALE:GREGORIAN
METHOD:PUBLISH
X-ORIGINAL-URL:https://paroisses-pays-auray.fr
X-WR-CALDESC:Évènements pour Paroisses du Pays d&#039;Auray
REFRESH-INTERVAL;VALUE=DURATION:PT1H
X-Robots-Tag:noindex
X-PUBLISHED-TTL:PT1H
BEGIN:VTIMEZONE
TZID:UTC
BEGIN:STANDARD
TZOFFSETFROM:+0000
TZOFFSETTO:+0000
TZNAME:UTC
DTSTART:20230101T000000
END:STANDARD
END:VTIMEZONE
BEGIN:VEVENT
DTSTART;TZID=UTC:20241008T140000
DTEND;TZID=UTC:20241008T170000
DTSTAMP:20260420T161827
CREATED:20241002T075634Z
LAST-MODIFIED:20241002T080354Z
UID:27193-1728396000-1728406800@paroisses-pays-auray.fr
SUMMARY:MCR: lancement d'année
DESCRIPTION:Rencontre du Mouvement des Chrétiens Retraités du Morbihan. \nAutour du thème: « Quand le monde s’éargit ». \nDe 14h à 17h\, avec une messe présidée par le Père Francis Loisel. \nSalle Keriolet du sanctuaire de Ste Anne d’Auray
URL:https://paroisses-pays-auray.fr/event/mcr-lancement-dannee/
LOCATION:Sainte Anne d’Auray
CATEGORIES:Evénement accueil,Paroisses de Sainte-Anne-d'Auray, Brec'h, Mériadec et Plumergat
ATTACH;FMTTYPE=image/webp:https://paroisses-pays-auray.fr/wp-content/uploads/2024/10/quand-le-monde-selargit-MCR-e1727855781673.webp
END:VEVENT
END:VCALENDAR