BEGIN:VCALENDAR
VERSION:2.0
PRODID:-//Paroisses du Pays d&#039;Auray - ECPv6.15.13//NONSGML v1.0//EN
CALSCALE:GREGORIAN
METHOD:PUBLISH
X-ORIGINAL-URL:https://paroisses-pays-auray.fr
X-WR-CALDESC:Évènements pour Paroisses du Pays d&#039;Auray
REFRESH-INTERVAL;VALUE=DURATION:PT1H
X-Robots-Tag:noindex
X-PUBLISHED-TTL:PT1H
BEGIN:VTIMEZONE
TZID:UTC
BEGIN:STANDARD
TZOFFSETFROM:+0000
TZOFFSETTO:+0000
TZNAME:UTC
DTSTART:20230101T000000
END:STANDARD
END:VTIMEZONE
BEGIN:VEVENT
DTSTART;VALUE=DATE:20241020
DTEND;VALUE=DATE:20241021
DTSTAMP:20260424T131928
CREATED:20241002T205235Z
LAST-MODIFIED:20241014T141635Z
UID:27210-1729382400-1729468799@paroisses-pays-auray.fr
SUMMARY:Journée diocésaine du handicap 2024
DESCRIPTION:Dimanche 20 octobre\, \n\nmesse à 11 h présidée par Mgr Centène\, évêque du Diocèse de Vannes\npique-nique sorti du sac\nconférence sur les Sacrements à 14h par André Harine\, diacre non-voyant pour la Pastorale des personnes handicapées de Paris\nAteliers pour les jeunes et les enfants\n\n\n\n Pour la messe de 11h\, participation des Chœurs de la maîtrise de Sainte-Anne-d’Auray (Gilles Gérard\, direction) Académie De Sainte-Anne d’Auray et de la Maîtrise de la cathédrale d’Ely (Sarah MacDonald) Ely Cathedral ; Jérôme Desprez\, chantre – Michel Jézo\, orgue.\n\n\n\n G. Fauré\, Kyrie (extrait de la Messe basse) ; G. de Lioncourt\, Quid retribuam ; G. Fauré\, A. Messager / Agnus Dei (extrait de la messe des pêcheurs de Villerville) ; G. Fauré\, A. Messager\, O salutaris hostia (extrait de la messe des pêcheurs de Villerville).\n\n\n\nAfin de préparer la messe de 11h pour accueillir les personnes en fauteuils roulants\, la messe de 9h30 sera célébrée dans la chapelle de l’Immaculée (accès par le cloître).
URL:https://paroisses-pays-auray.fr/event/journee-diocesaine-du-handicap-2024/
LOCATION:Sainte Anne d’Auray
CATEGORIES:Evénement accueil,Paroisses de Sainte-Anne-d'Auray, Brec'h, Mériadec et Plumergat
ATTACH;FMTTYPE=image/jpeg:https://paroisses-pays-auray.fr/wp-content/uploads/2024/10/Affiche-2024-v3_width567-height-e1728915188467.jpg
END:VEVENT
BEGIN:VEVENT
DTSTART;TZID=UTC:20241020T173000
DTEND;TZID=UTC:20241020T173000
DTSTAMP:20260424T131928
CREATED:20241012T221248Z
LAST-MODIFIED:20241012T221248Z
UID:27248-1729445400-1729445400@paroisses-pays-auray.fr
SUMMARY:Concert Chant choral
DESCRIPTION:La Maîtrise de la cathédrale d’Ely se joindra aux chœurs de la Maîtrise de Sainte-Anne-d’Auray pour un programme construit autour de la création mondiale de trois œuvres de Sarah MacDonald (commandes de l’Académie de Musique et d’Arts Sacrés). \n\nConcert d’automne
URL:https://paroisses-pays-auray.fr/event/concert-chant-choral/
LOCATION:Sainte Anne d’Auray
CATEGORIES:Evénement accueil,Paroisses de Sainte-Anne-d'Auray, Brec'h, Mériadec et Plumergat
ATTACH;FMTTYPE=image/jpeg:https://paroisses-pays-auray.fr/wp-content/uploads/2024/10/1concert20octobre2024_width567-height.jpg
END:VEVENT
END:VCALENDAR