BEGIN:VCALENDAR
VERSION:2.0
PRODID:-//Paroisses du Pays d&#039;Auray - ECPv6.15.13//NONSGML v1.0//EN
CALSCALE:GREGORIAN
METHOD:PUBLISH
X-WR-CALNAME:Paroisses du Pays d&#039;Auray
X-ORIGINAL-URL:https://paroisses-pays-auray.fr
X-WR-CALDESC:Évènements pour Paroisses du Pays d&#039;Auray
REFRESH-INTERVAL;VALUE=DURATION:PT1H
X-Robots-Tag:noindex
X-PUBLISHED-TTL:PT1H
BEGIN:VTIMEZONE
TZID:UTC
BEGIN:STANDARD
TZOFFSETFROM:+0000
TZOFFSETTO:+0000
TZNAME:UTC
DTSTART:20230101T000000
END:STANDARD
END:VTIMEZONE
BEGIN:VEVENT
DTSTART;VALUE=DATE:20241101
DTEND;VALUE=DATE:20241103
DTSTAMP:20260420T161710
CREATED:20241023T061915Z
LAST-MODIFIED:20241026T111617Z
UID:27629-1730419200-1730591999@paroisses-pays-auray.fr
SUMMARY:Offices de Toussaint dans nos paroisses
DESCRIPTION:Pour Auray -Pluneret :\n\nVendredi 1er novembre : messe à 10H30 dans les quatre églises : St Gildas\, Charles de Blois\, Pluneret\, St Goustan\,\nAprès la messe à St Pierre et St Paul (Pluneret)\, comme à Saint Sauveur (St Goustan) : prière aux cimetières.\nA St Gildas et Bienheureux Charles de Blois : office des vêpres à 15H suivis de la prière aux\ncimetières.\nSamedi 2 novembre : messe à 10H30 à St Gildas\n\nPour la communauté paroissiale de Plougoumelen – Le Bono\n\nSamedi 26 octobre: sacrement du Pardon et de la réconciliation pour se préparer à la fête de tous les saints. Confessions individuelles de 11h à 12h\, en l’église ND du Bono – Etoile de la mer.\nVendredi 1er novembre\, fête de tous les saints. Messe à 10h30\, suivie de la prière au cimetière au Bono\, puis à\nPlougoumelen à 10h45.\n Samedi 2 novembre : commémoration de tous les fidèles défunts. Messe à 9h30 en l’église ND du Bono.\n\nPour la paroisse de Sainte Anne d’Auray\n\nJeudi  31 octobre à 18h : Messe anticipée de la Toussaint\, basilique de Sainte Anne d’Auray\nVendredi 1er novembre\, messes du jour de la Toussaint à 9h30\, 11h et 18h.A 15h30\, prière du chapelet.\nA 16h\, chant des vêpres\, procession au cimetière et bénédiction des tombes\n\n\n 
URL:https://paroisses-pays-auray.fr/event/offices-de-toussaint-dans-nos-paroisses/
CATEGORIES:Evénement accueil
ATTACH;FMTTYPE=image/jpeg:https://paroisses-pays-auray.fr/wp-content/uploads/2024/10/125A-e1729664500567.jpg
END:VEVENT
END:VCALENDAR