BEGIN:VCALENDAR
VERSION:2.0
PRODID:-//Paroisses du Pays d&#039;Auray - ECPv6.15.13//NONSGML v1.0//EN
CALSCALE:GREGORIAN
METHOD:PUBLISH
X-WR-CALNAME:Paroisses du Pays d&#039;Auray
X-ORIGINAL-URL:https://paroisses-pays-auray.fr
X-WR-CALDESC:Évènements pour Paroisses du Pays d&#039;Auray
REFRESH-INTERVAL;VALUE=DURATION:PT1H
X-Robots-Tag:noindex
X-PUBLISHED-TTL:PT1H
BEGIN:VTIMEZONE
TZID:UTC
BEGIN:STANDARD
TZOFFSETFROM:+0000
TZOFFSETTO:+0000
TZNAME:UTC
DTSTART:20230101T000000
END:STANDARD
END:VTIMEZONE
BEGIN:VEVENT
DTSTART;TZID=UTC:20241119T200000
DTEND;TZID=UTC:20241119T200000
DTSTAMP:20260424T100224
CREATED:20241114T103827Z
LAST-MODIFIED:20241114T105128Z
UID:27782-1732046400-1732046400@paroisses-pays-auray.fr
SUMMARY:Veillée de louange et d'adoration
DESCRIPTION:Le groupe « (Re)découverte de la foi » organise une veillée de louange et d’adoration\, avec le Père Olivian PHILIP dans l’église St Thuriau de Crac’h. \nPossibilité de recevoir le sacrement du pardon.
URL:https://paroisses-pays-auray.fr/event/veillee-de-louange-et-dadoration/
CATEGORIES:Evénement accueil
ATTACH;FMTTYPE=image/jpeg:https://paroisses-pays-auray.fr/wp-content/uploads/2024/11/soiree_louange.jpg
END:VEVENT
END:VCALENDAR