BEGIN:VCALENDAR
VERSION:2.0
PRODID:-//Paroisses du Pays d&#039;Auray - ECPv6.15.13//NONSGML v1.0//EN
CALSCALE:GREGORIAN
METHOD:PUBLISH
X-ORIGINAL-URL:https://paroisses-pays-auray.fr
X-WR-CALDESC:Évènements pour Paroisses du Pays d&#039;Auray
REFRESH-INTERVAL;VALUE=DURATION:PT1H
X-Robots-Tag:noindex
X-PUBLISHED-TTL:PT1H
BEGIN:VTIMEZONE
TZID:UTC
BEGIN:STANDARD
TZOFFSETFROM:+0000
TZOFFSETTO:+0000
TZNAME:UTC
DTSTART:20230101T000000
END:STANDARD
END:VTIMEZONE
BEGIN:VEVENT
DTSTART;TZID=UTC:20241124T100000
DTEND;TZID=UTC:20241124T163000
DTSTAMP:20260420T145718
CREATED:20241114T212952Z
LAST-MODIFIED:20241117T174655Z
UID:27795-1732442400-1732465800@paroisses-pays-auray.fr
SUMMARY:Journée mondiale de la jeunesse
DESCRIPTION:Journée mondiale de la jeunesse: le 24 novembre\n\nPour cette journée\, le pape a choisi le verset :  « Ceux qui espèrent dans le Seigneur […] marchent sans se fatiguer » (Is 40\, 31) \nIl s’intègre dans le thème de l’année jubilaire : « Pèlerins de l’espoir ». Le message du pape \nLes journées mondiales de la jeunesse se célèbrent désormais le jour de la fête du Christ-Roi de l’univers. \nA Sainte Anne d’Auray\, ce sera le jour de l’ouverture du Jubilé qui concerne les 400 ans des apparitions de Ste Anne à Yvon Nicolazig. \n10h: accueil festif des collégiens au collège de Ste Anne d’Auray. Les lycéens sont invités à rejoindre la maison Nicolazig pour la messe. \nPassage de la porte jubilaire sous la Scala Sancta. \nPique-nique \n14h: activités pour les collégiens et les lycéens. \n16h: vêpres
URL:https://paroisses-pays-auray.fr/event/journee-mondiale-de-la-jeunesse/
LOCATION:Sainte Anne d’Auray
CATEGORIES:Evénement accueil,Paroisses de Sainte-Anne-d'Auray, Brec'h, Mériadec et Plumergat
ATTACH;FMTTYPE=image/jpeg:https://paroisses-pays-auray.fr/wp-content/uploads/2024/11/journee-jeunesse-2024.jpg
END:VEVENT
BEGIN:VEVENT
DTSTART;TZID=UTC:20241124T100000
DTEND;TZID=UTC:20241124T170000
DTSTAMP:20260420T145718
CREATED:20241029T222838Z
LAST-MODIFIED:20241029T222838Z
UID:27710-1732442400-1732467600@paroisses-pays-auray.fr
SUMMARY:Ouverture du jubilé Sainte Anne
DESCRIPTION:AU SANCTUAIRE DE SAINTE-ANNE-D’AURAY \n10h – Accueil à la Maison de Nicolazic\n10h15 – Messe présidée par Mgr CENTENE\nEn présence des représentants des paroisses\nEn présence des Jeunes à l’occasion\nde la Journée Mondiale de la Jeunesse\n15h30 – Chapelet\n16h – Vêpres – Bénédiction et envoi \nDANS LES PAROISSES \nMesses – Ouverture du Jubilé\nDiffusion du Message de Mgr CENTENE \nhttps://www.vannes.catholique.fr/jubile2025/24-novembre/
URL:https://paroisses-pays-auray.fr/event/ouverture-du-jubile-sainte-anne/
LOCATION:Sainte Anne d’Auray\, France
CATEGORIES:Evénement accueil,Paroisses de Sainte-Anne-d'Auray, Brec'h, Mériadec et Plumergat
ATTACH;FMTTYPE=image/jpeg:https://paroisses-pays-auray.fr/wp-content/uploads/2024/10/24-novembre-web-318x450-1.jpg
END:VEVENT
END:VCALENDAR