BEGIN:VCALENDAR
VERSION:2.0
PRODID:-//Paroisses du Pays d&#039;Auray - ECPv6.15.13//NONSGML v1.0//EN
CALSCALE:GREGORIAN
METHOD:PUBLISH
X-ORIGINAL-URL:https://paroisses-pays-auray.fr
X-WR-CALDESC:Évènements pour Paroisses du Pays d&#039;Auray
REFRESH-INTERVAL;VALUE=DURATION:PT1H
X-Robots-Tag:noindex
X-PUBLISHED-TTL:PT1H
BEGIN:VTIMEZONE
TZID:UTC
BEGIN:STANDARD
TZOFFSETFROM:+0000
TZOFFSETTO:+0000
TZNAME:UTC
DTSTART:20230101T000000
END:STANDARD
END:VTIMEZONE
BEGIN:VEVENT
DTSTART;TZID=UTC:20241126T203000
DTEND;TZID=UTC:20241126T203000
DTSTAMP:20260420T132754
CREATED:20241114T111108Z
LAST-MODIFIED:20241114T111156Z
UID:27789-1732653000-1732653000@paroisses-pays-auray.fr
SUMMARY:Table ronde: "Et la vie dans tout çà ?"
DESCRIPTION:Table ronde « Avortement\, euthanasie\, suicide assisté : Et la vie dans tout ça ? »  \nAvec: \nNicolas TARDY-JOUBERT\, Président de la Marche pour la Vie\, \nJean-Marie LE MENE\, Président de la Fondation Jérôme LEJEUNE\, \net Matthieu LAVAGNA\, auteur de « La Raison est Pro-Vie » . \nEspace Montcalm à Vannes. Parking par la rue des capucins.
URL:https://paroisses-pays-auray.fr/event/table-ronde-et-la-vie-dans-tout-ca/
CATEGORIES:Conférences,Evénement accueil
ATTACH;FMTTYPE=image/jpeg:https://paroisses-pays-auray.fr/wp-content/uploads/2023/03/euthanasir-fin-de-vie.jpg
END:VEVENT
END:VCALENDAR