BEGIN:VCALENDAR
VERSION:2.0
PRODID:-//Paroisses du Pays d&#039;Auray - ECPv6.15.13//NONSGML v1.0//EN
CALSCALE:GREGORIAN
METHOD:PUBLISH
X-WR-CALNAME:Paroisses du Pays d&#039;Auray
X-ORIGINAL-URL:https://paroisses-pays-auray.fr
X-WR-CALDESC:Évènements pour Paroisses du Pays d&#039;Auray
REFRESH-INTERVAL;VALUE=DURATION:PT1H
X-Robots-Tag:noindex
X-PUBLISHED-TTL:PT1H
BEGIN:VTIMEZONE
TZID:UTC
BEGIN:STANDARD
TZOFFSETFROM:+0000
TZOFFSETTO:+0000
TZNAME:UTC
DTSTART:20230101T000000
END:STANDARD
END:VTIMEZONE
BEGIN:VEVENT
DTSTART;TZID=UTC:20241130T140000
DTEND;TZID=UTC:20241130T220000
DTSTAMP:20260420T132550
CREATED:20241014T134614Z
LAST-MODIFIED:20241014T135445Z
UID:27289-1732975200-1733004000@paroisses-pays-auray.fr
SUMMARY:Akadémia: oïkos
DESCRIPTION:Si vous souhaitez vous plonger au coeur de l’écologie intégrale\, à l’école de st François d’Assise. \nCafé débat\, conférence\, dîner médiéval\, soirée théâtre « François\, la joie de l’évangile ». \nAtelier pour les moins de 13 ans
URL:https://paroisses-pays-auray.fr/event/akademio-oikos/
LOCATION:Espace Montcalm\,55 rue Mgr Tréhiou à Vannes\, 55 rue Mgr Tréhiou\, Vannes
CATEGORIES:Evénement accueil
ATTACH;FMTTYPE=image/jpeg:https://paroisses-pays-auray.fr/wp-content/uploads/2024/10/OIKOS-2024-e1728913496215.jpg
END:VEVENT
END:VCALENDAR