BEGIN:VCALENDAR
VERSION:2.0
PRODID:-//Paroisses du Pays d&#039;Auray - ECPv6.15.13//NONSGML v1.0//EN
CALSCALE:GREGORIAN
METHOD:PUBLISH
X-WR-CALNAME:Paroisses du Pays d&#039;Auray
X-ORIGINAL-URL:https://paroisses-pays-auray.fr
X-WR-CALDESC:Évènements pour Paroisses du Pays d&#039;Auray
REFRESH-INTERVAL;VALUE=DURATION:PT1H
X-Robots-Tag:noindex
X-PUBLISHED-TTL:PT1H
BEGIN:VTIMEZONE
TZID:UTC
BEGIN:STANDARD
TZOFFSETFROM:+0000
TZOFFSETTO:+0000
TZNAME:UTC
DTSTART:20230101T000000
END:STANDARD
END:VTIMEZONE
BEGIN:VEVENT
DTSTART;TZID=UTC:20241208T110000
DTEND;TZID=UTC:20241208T110000
DTSTAMP:20260420T132531
CREATED:20241129T035739Z
LAST-MODIFIED:20241129T035739Z
UID:27924-1733655600-1733655600@paroisses-pays-auray.fr
SUMMARY:Messe du deuxième dimanche de l'Avent
DESCRIPTION:11h- Messe du deuxième dimanche de l’Avent \nBasilique de Sainte Anne d’Auray \nParticipation musicale de la Maîtrise (direction: Cécile Vénien – Gérard)
URL:https://paroisses-pays-auray.fr/event/messe-du-deuxieme-dimanche-de-lavent/
LOCATION:Sainte Anne d’Auray
CATEGORIES:Evénement accueil,Paroisses de Sainte-Anne-d'Auray, Brec'h, Mériadec et Plumergat
ATTACH;FMTTYPE=image/jpeg:https://paroisses-pays-auray.fr/wp-content/uploads/2024/11/2-Avent.jpeg
END:VEVENT
BEGIN:VEVENT
DTSTART;TZID=UTC:20241208T173000
DTEND;TZID=UTC:20241208T173000
DTSTAMP:20260420T132531
CREATED:20241129T040426Z
LAST-MODIFIED:20241129T040426Z
UID:27927-1733679000-1733679000@paroisses-pays-auray.fr
SUMMARY:Concert spirituel "Lux"
DESCRIPTION:Concert spirituel « Lux » – Basilique de Sainte Anne d’Auray – 17h30 \nDans le cadre de l’inauguration des illuminations à Sainte Anne-d’Auray\, les voix chaleureuses de la Camerata Sainte Anne s’unissent autour de la magnifique musique de Jean Sébastien Bach pour un programme abordant la cantate d’Avent numéro 61 Nun komm\, der Heiden Heiland du Cantor de Leipzig\, avec des interventions du Père Frédéric Fagot. \nCamerata Sainte-Anne (direction : Véronique Le Guen)\nEnsemble à cordes (direction : Hélène Callonnec) \nParticipation libre aux frais
URL:https://paroisses-pays-auray.fr/event/concert-spirituel-lux/
LOCATION:Sainte Anne d’Auray\, France
CATEGORIES:Evénement accueil,Paroisses de Sainte-Anne-d'Auray, Brec'h, Mériadec et Plumergat
ATTACH;FMTTYPE=image/jpeg:https://paroisses-pays-auray.fr/wp-content/uploads/2024/11/1_cover_411-711_.jpg
END:VEVENT
BEGIN:VEVENT
DTSTART;TZID=UTC:20241208T190000
DTEND;TZID=UTC:20241208T190000
DTSTAMP:20260420T132531
CREATED:20241129T040803Z
LAST-MODIFIED:20241129T040803Z
UID:27930-1733684400-1733684400@paroisses-pays-auray.fr
SUMMARY:Inauguration de la projection
DESCRIPTION:19h – Inauguration de la projection monumentale sur la basilsique \nVidéomapping et mise en lumière du sanctuaire
URL:https://paroisses-pays-auray.fr/event/inauguration-de-la-projection/
LOCATION:Sainte Anne d’Auray
CATEGORIES:Evénement accueil,Paroisses de Sainte-Anne-d'Auray, Brec'h, Mériadec et Plumergat
ATTACH;FMTTYPE=image/jpeg:https://paroisses-pays-auray.fr/wp-content/uploads/2024/11/illuminations-ste-Anne.jpg
END:VEVENT
END:VCALENDAR