BEGIN:VCALENDAR
VERSION:2.0
PRODID:-//Paroisses du Pays d&#039;Auray - ECPv6.15.13//NONSGML v1.0//EN
CALSCALE:GREGORIAN
METHOD:PUBLISH
X-WR-CALNAME:Paroisses du Pays d&#039;Auray
X-ORIGINAL-URL:https://paroisses-pays-auray.fr
X-WR-CALDESC:Évènements pour Paroisses du Pays d&#039;Auray
REFRESH-INTERVAL;VALUE=DURATION:PT1H
X-Robots-Tag:noindex
X-PUBLISHED-TTL:PT1H
BEGIN:VTIMEZONE
TZID:UTC
BEGIN:STANDARD
TZOFFSETFROM:+0000
TZOFFSETTO:+0000
TZNAME:UTC
DTSTART:20230101T000000
END:STANDARD
END:VTIMEZONE
BEGIN:VEVENT
DTSTART;VALUE=DATE:20241214
DTEND;VALUE=DATE:20241216
DTSTAMP:20260420T132604
CREATED:20241114T110703Z
LAST-MODIFIED:20241114T110703Z
UID:27787-1734134400-1734307199@paroisses-pays-auray.fr
SUMMARY:Salon "Un livre à Noël"
DESCRIPTION:30 auteurs et écrivains chrétiens seront présents au palais des Arts de Vannes. \nOrganisé par la librairie La Procure.
URL:https://paroisses-pays-auray.fr/event/salon-un-livre-a-noel/
CATEGORIES:Evénement accueil
ATTACH;FMTTYPE=image/png:https://paroisses-pays-auray.fr/wp-content/uploads/2021/04/La-Procure.png
END:VEVENT
END:VCALENDAR