BEGIN:VCALENDAR
VERSION:2.0
PRODID:-//Paroisses du Pays d&#039;Auray - ECPv6.15.13//NONSGML v1.0//EN
CALSCALE:GREGORIAN
METHOD:PUBLISH
X-ORIGINAL-URL:https://paroisses-pays-auray.fr
X-WR-CALDESC:Évènements pour Paroisses du Pays d&#039;Auray
REFRESH-INTERVAL;VALUE=DURATION:PT1H
X-Robots-Tag:noindex
X-PUBLISHED-TTL:PT1H
BEGIN:VTIMEZONE
TZID:UTC
BEGIN:STANDARD
TZOFFSETFROM:+0000
TZOFFSETTO:+0000
TZNAME:UTC
DTSTART:20230101T000000
END:STANDARD
END:VTIMEZONE
BEGIN:VEVENT
DTSTART;VALUE=DATE:20241214
DTEND;VALUE=DATE:20241216
DTSTAMP:20260420T132819
CREATED:20241114T110703Z
LAST-MODIFIED:20241114T110703Z
UID:27787-1734134400-1734307199@paroisses-pays-auray.fr
SUMMARY:Salon "Un livre à Noël"
DESCRIPTION:30 auteurs et écrivains chrétiens seront présents au palais des Arts de Vannes. \nOrganisé par la librairie La Procure.
URL:https://paroisses-pays-auray.fr/event/salon-un-livre-a-noel/
CATEGORIES:Evénement accueil
ATTACH;FMTTYPE=image/png:https://paroisses-pays-auray.fr/wp-content/uploads/2021/04/La-Procure.png
END:VEVENT
BEGIN:VEVENT
DTSTART;TZID=UTC:20241215T121500
DTEND;TZID=UTC:20241215T121500
DTSTAMP:20260420T132819
CREATED:20241129T041817Z
LAST-MODIFIED:20241129T041817Z
UID:27936-1734264900-1734264900@paroisses-pays-auray.fr
SUMMARY:Bénédiction du parcours de crèches
DESCRIPTION:Parcours des crèches dans le sanctuaire de Sainte Anne d’Auray – en journée et en soirée \nPlusieurs crèches sont à visiter en intérieur et en extérieur \n12h15: Bénédiction du parcours de crèches \n 
URL:https://paroisses-pays-auray.fr/event/benediction-du-parcours-de-creches/
LOCATION:Sainte Anne d’Auray
CATEGORIES:Evénement accueil,Paroisses de Sainte-Anne-d'Auray, Brec'h, Mériadec et Plumergat
ATTACH;FMTTYPE=image/jpeg:https://paroisses-pays-auray.fr/wp-content/uploads/2024/11/MjAxNzEyYmQ2ZWVhMWU1YzA3MDNhNDU1NjIxMzNkM2E4NTE4MTU.jpg
END:VEVENT
BEGIN:VEVENT
DTSTART;TZID=UTC:20241215T173000
DTEND;TZID=UTC:20241215T173000
DTSTAMP:20260420T132819
CREATED:20241129T042357Z
LAST-MODIFIED:20241129T042357Z
UID:27939-1734283800-1734283800@paroisses-pays-auray.fr
SUMMARY:Concert de Noël de la Maîtrise
DESCRIPTION:Concert de Noël de la Maîtrise – Basilique de Sainte Anne d’Auray – 17h30 \nSainte Anne\, mère de Marie\, grand-mère de Jésus  – Participation libre aux frais \n  \nCe concert commente la filiation de Sainte Anne en présentant des noëls traditionnels et bretons.\nChœurs de la Maîtrise de Sainte-Anne-d’Auray (direction Gilles Gérard\, Cécile Vénien-Gérard\, Gérald de Montmarin) Véronique Le Guen et Michel Jézo\, orgues   . \n 
URL:https://paroisses-pays-auray.fr/event/concert-de-noel-de-la-maitrise/
LOCATION:Sainte Anne d’Auray\, France
CATEGORIES:Evénement accueil,Paroisses de Sainte-Anne-d'Auray, Brec'h, Mériadec et Plumergat
ATTACH;FMTTYPE=image/webp:https://paroisses-pays-auray.fr/wp-content/uploads/2024/11/image.webp
END:VEVENT
END:VCALENDAR