BEGIN:VCALENDAR
VERSION:2.0
PRODID:-//Paroisses du Pays d&#039;Auray - ECPv6.15.13//NONSGML v1.0//EN
CALSCALE:GREGORIAN
METHOD:PUBLISH
X-WR-CALNAME:Paroisses du Pays d&#039;Auray
X-ORIGINAL-URL:https://paroisses-pays-auray.fr
X-WR-CALDESC:Évènements pour Paroisses du Pays d&#039;Auray
REFRESH-INTERVAL;VALUE=DURATION:PT1H
X-Robots-Tag:noindex
X-PUBLISHED-TTL:PT1H
BEGIN:VTIMEZONE
TZID:UTC
BEGIN:STANDARD
TZOFFSETFROM:+0000
TZOFFSETTO:+0000
TZNAME:UTC
DTSTART:20230101T000000
END:STANDARD
END:VTIMEZONE
BEGIN:VEVENT
DTSTART;VALUE=DATE:20240629
DTEND;VALUE=DATE:20240630
DTSTAMP:20260420T105233
CREATED:20240509T193307Z
LAST-MODIFIED:20240607T064020Z
UID:26200-1719619200-1719705599@paroisses-pays-auray.fr
SUMMARY:Tro ar Barrez d'Auray-Pluneret
DESCRIPTION:Le tour de ma paroisse\nPèlerinage pour la fête de St Pierre et St Paul\nVenez faire le tour de nos principaux lieux de culte : de Charles de Blois à St Pierre & St Paul à Pluneret\, en passant par St Gildas\, le Père Eternel\, St Goustan. \nUn pèlerinage\, à pied pour mieux faire connaissance des lieux et des personnes qui les font vivre : \n\nCafé d’accueil à 9h30 et départ de Charles de Blois à 10h15\nhalte spirituelle à l’église de St Gildas\nhalte spirituelle à l’église du St Sauveur à Goustan\nvers 12h30 : arrivée à la chapelle du Père Eternel : repas tiré du sac\, halte spirituelle et jeux\nvers 15h : départ de la chapelle du Père Eternel vers Pluneret\n16h15 : vêpres à l’église St Pierre & St Paul de Pluneret\n16h30 : Eucharistie\n\n  \nVous pourrez aussi nous rejoindre en voiture\, ou à vélo\, aux diﬀérents points d’arrêts : St Gildas vers 10h45\, St Sauveur vers 11h30\, pique-nique chez les Sœurs de la Charité de St Louis au Père Eternel\, les vêpres et  la messe à Pluneret. \n  \n  \n 
URL:https://paroisses-pays-auray.fr/event/tro-ar-barrez-dauray-pluneret/
CATEGORIES:Auray-Pluneret,Evénement accueil,Journal_AP
ATTACH;FMTTYPE=image/jpeg:https://paroisses-pays-auray.fr/wp-content/uploads/2024/05/tro-ar-barrez.jpg
END:VEVENT
END:VCALENDAR