BEGIN:VCALENDAR
VERSION:2.0
PRODID:-//Paroisses du Pays d&#039;Auray - ECPv6.15.13//NONSGML v1.0//EN
CALSCALE:GREGORIAN
METHOD:PUBLISH
X-WR-CALNAME:Paroisses du Pays d&#039;Auray
X-ORIGINAL-URL:https://paroisses-pays-auray.fr
X-WR-CALDESC:Évènements pour Paroisses du Pays d&#039;Auray
REFRESH-INTERVAL;VALUE=DURATION:PT1H
X-Robots-Tag:noindex
X-PUBLISHED-TTL:PT1H
BEGIN:VTIMEZONE
TZID:UTC
BEGIN:STANDARD
TZOFFSETFROM:+0000
TZOFFSETTO:+0000
TZNAME:UTC
DTSTART:20210101T000000
END:STANDARD
END:VTIMEZONE
BEGIN:VEVENT
DTSTART;TZID=UTC:20220809T200000
DTEND;TZID=UTC:20220809T200000
DTSTAMP:20260423T131622
CREATED:20220801T095820Z
LAST-MODIFIED:20220801T100054Z
UID:18410-1660075200-1660075200@paroisses-pays-auray.fr
SUMMARY:Concert: Quatuor à cordes Hanson
DESCRIPTION:Le Quatuor Hanson  recueille ses premiers lauriers avec son 1er album consacré à Joseph Haydn. \nAu programme: le Quatuor op.76 n°5 d’Haydn – le Molto adagio « Mon âme est triste jusqu’à la mort » de Guillaume Lekeu\, inspiré par la parole du Christ dans le jardin de Gethsémani – le quatrième quatuor de Bartók. \nDans le cadre des Musicales du Golfe qui fêtent leurs 30 ans. \nEn l’église St Philibert de Plougoumelen. \nInfos\, billetterie
URL:https://paroisses-pays-auray.fr/event/concert-quatuor-a-cordes-hanson/
CATEGORIES:Concerts,Evénement accueil,Plougoumelen-LeBono
ATTACH;FMTTYPE=image/jpeg:https://paroisses-pays-auray.fr/wp-content/uploads/2022/08/Quatuor_Hanson.jpg
END:VEVENT
END:VCALENDAR