BEGIN:VCALENDAR
VERSION:2.0
PRODID:-//Paroisses du Pays d&#039;Auray - ECPv6.15.13//NONSGML v1.0//EN
CALSCALE:GREGORIAN
METHOD:PUBLISH
X-ORIGINAL-URL:https://paroisses-pays-auray.fr
X-WR-CALDESC:Évènements pour Paroisses du Pays d&#039;Auray
REFRESH-INTERVAL;VALUE=DURATION:PT1H
X-Robots-Tag:noindex
X-PUBLISHED-TTL:PT1H
BEGIN:VTIMEZONE
TZID:UTC
BEGIN:STANDARD
TZOFFSETFROM:+0000
TZOFFSETTO:+0000
TZNAME:UTC
DTSTART:20210101T000000
END:STANDARD
END:VTIMEZONE
BEGIN:VEVENT
DTSTART;VALUE=DATE:20220917
DTEND;VALUE=DATE:20220919
DTSTAMP:20260423T115135
CREATED:20220905T130056Z
LAST-MODIFIED:20220905T130755Z
UID:18636-1663372800-1663545599@paroisses-pays-auray.fr
SUMMARY:Journée du patrimoine  2022
DESCRIPTION:Découvrez les sites religieux qui vous accueillent ce week-end dans notre doyenné: ici
URL:https://paroisses-pays-auray.fr/event/journee-du-patrimoine-2022/
CATEGORIES:Evénement accueil,Paroisses de Sainte-Anne-d'Auray, Brec'h, Mériadec et Plumergat,Plougoumelen-LeBono
ATTACH;FMTTYPE=image/jpeg:https://paroisses-pays-auray.fr/wp-content/uploads/2022/09/journee-du-patrimoine-2022.jpg
END:VEVENT
BEGIN:VEVENT
DTSTART;VALUE=DATE:20220924
DTEND;VALUE=DATE:20220925
DTSTAMP:20260423T115135
CREATED:20220816T085725Z
LAST-MODIFIED:20220816T085725Z
UID:18464-1663977600-1664063999@paroisses-pays-auray.fr
SUMMARY:Lancement du Jubilé à Ste Anne
DESCRIPTION:Notre évêque Mgr Centène souhaite qu’un jubilé Sainte Anne  se vive\, à partir de cette année jusqu’en 2025. \nPourquoi 2025?\nLe pape a décidé de la tenue d’une année sainte\, sur le thème “Pèlerins de l’espérance“\, en 2025. Après deux ans de pandémie\, le Pape François espère que ce moment important sur le plan spirituel\, ecclésial et social\, favorisera «la recomposition d’un climat d’espérance et de confiance». \nL’année 2025 sera aussi l’année anniversaire des 400 ans des apparitions de Sainte Anne à Yvon Nicolazic ! (1625-2025) \nUn jubilé local en 3 temps\nPour notre diocèse\, il s’agira “d’intensifier la dynamique pastorale et missionnaire”. \nLes  trois années sont: \n\n “enracinés dans notre histoire” avec sainte Anne (année 1)\,\n“dans la prière” avec Marie (année 2)\,\npour “partir annoncer la foi qui nous habite en Pèlerins d’espérance” avec Jésus (année 3).\n\nChacune des trois années devrait se vivre en communion sur 3 niveaux\, en privilégiant: \n\nla dimension paroissiale\, la première année\,\npuis\, la deuxième année\, en doyenné\,\net enfin\, au niveau diocésain\, la dernière année.\n\nLe programme du 24 septembre\nLe 24 septembre\, Monseigneur Centène expliquera la démarche jubilaire à 10h15. Une messe solennelle suivra à 11h. Puis\, l’après-midi sera consacré à un challenge inter-paroissial et intergénérationnel ! \nCette journée du 24 septembre 2022 est ouverte à tous: \nTous à Sainte-Anne le 24 septembre !
URL:https://paroisses-pays-auray.fr/event/lancement-du-jubile-a-ste-anne/
CATEGORIES:Evénement accueil,Paroisses de Sainte-Anne-d'Auray, Brec'h, Mériadec et Plumergat,Plougoumelen-LeBono
ATTACH;FMTTYPE=image/png:https://paroisses-pays-auray.fr/wp-content/uploads/2022/08/Jubile-Ste-Anne.png
END:VEVENT
END:VCALENDAR