BEGIN:VCALENDAR
VERSION:2.0
PRODID:-//Paroisses du Pays d&#039;Auray - ECPv6.15.13//NONSGML v1.0//EN
CALSCALE:GREGORIAN
METHOD:PUBLISH
X-WR-CALNAME:Paroisses du Pays d&#039;Auray
X-ORIGINAL-URL:https://paroisses-pays-auray.fr
X-WR-CALDESC:Évènements pour Paroisses du Pays d&#039;Auray
REFRESH-INTERVAL;VALUE=DURATION:PT1H
X-Robots-Tag:noindex
X-PUBLISHED-TTL:PT1H
BEGIN:VTIMEZONE
TZID:UTC
BEGIN:STANDARD
TZOFFSETFROM:+0000
TZOFFSETTO:+0000
TZNAME:UTC
DTSTART:20210101T000000
END:STANDARD
END:VTIMEZONE
BEGIN:VEVENT
DTSTART;VALUE=DATE:20221119
DTEND;VALUE=DATE:20221120
DTSTAMP:20260423T085950
CREATED:20221007T191343Z
LAST-MODIFIED:20221103T095307Z
UID:19148-1668816000-1668902399@paroisses-pays-auray.fr
SUMMARY:JOURNÉE JMJ DIOCÉSAINE
DESCRIPTION:Une journée de préparation aux Journées Mondiales de la Jeunesse à Lisbonne en 2023. \nLes inscriptions aux JMJ viennent de s’ouvrir ! \nPré-inscriptions en ligne (pour les jeunes nés avant le 24 juillet 2007): ici \nRenseignements : polejeunes56@gmail.com \nhttp://polejeunes56.fr/journee-jmj-diocesaine/ \n 
URL:https://paroisses-pays-auray.fr/event/journee-jmj-diocesaine/
CATEGORIES:Evénement accueil,Paroisses de Sainte-Anne-d'Auray, Brec'h, Mériadec et Plumergat,Plougoumelen-LeBono
ATTACH;FMTTYPE=image/jpeg:https://paroisses-pays-auray.fr/wp-content/uploads/2022/10/3AAF61D9-4FA0-443A-9F68-D4A9BC9A2033.jpeg
END:VEVENT
END:VCALENDAR