BEGIN:VCALENDAR
VERSION:2.0
PRODID:-//Paroisses du Pays d&#039;Auray - ECPv6.15.13//NONSGML v1.0//EN
CALSCALE:GREGORIAN
METHOD:PUBLISH
X-ORIGINAL-URL:https://paroisses-pays-auray.fr
X-WR-CALDESC:Évènements pour Paroisses du Pays d&#039;Auray
REFRESH-INTERVAL;VALUE=DURATION:PT1H
X-Robots-Tag:noindex
X-PUBLISHED-TTL:PT1H
BEGIN:VTIMEZONE
TZID:UTC
BEGIN:STANDARD
TZOFFSETFROM:+0000
TZOFFSETTO:+0000
TZNAME:UTC
DTSTART:20220101T000000
END:STANDARD
END:VTIMEZONE
BEGIN:VEVENT
DTSTART;TZID=UTC:20230108T110000
DTEND;TZID=UTC:20230108T110000
DTSTAMP:20260423T055259
CREATED:20230103T100744Z
LAST-MODIFIED:20230103T100744Z
UID:20487-1673175600-1673175600@paroisses-pays-auray.fr
SUMMARY:Fête de l'Epiphanie: messe animée par les jeunes
DESCRIPTION:Comme les mages ont apporté un présent\, chaque enfant est invité à apporter une lettre\, une prière ou un dessin à Jésus. \nMesse à 11h en l’église Notre-Dame du Bono.
URL:https://paroisses-pays-auray.fr/event/fete-de-lepiphanie-messe-animee-par-les-jeunes/
CATEGORIES:Plougoumelen-LeBono
ATTACH;FMTTYPE=image/jpeg:https://paroisses-pays-auray.fr/wp-content/uploads/2022/12/Etoile-Le-Bono-e1672232088705.jpeg
END:VEVENT
BEGIN:VEVENT
DTSTART;TZID=UTC:20230122T170000
DTEND;TZID=UTC:20230122T180000
DTSTAMP:20260423T055259
CREATED:20230103T095011Z
LAST-MODIFIED:20230103T150150Z
UID:20476-1674406800-1674410400@paroisses-pays-auray.fr
SUMMARY:Et si la Bible m'était (ra)contée
DESCRIPTION:La Bible n’est pas un conte. Elle se raconte. \nRaconter\, c’est donner vie à un texte\, entrainer dans un voyage insolite où des personnages lointains s’animent pour devenir nos compagnons. \nYolande et Sophie content quatre histoires de la Bible. \nDes histoires qui nous ressemblent. \nPour petits et grands. \nDes histoires comme Joseph vendu par ses frères ou le fils prodigue qui\, après avoir tout dilapidé\, revient vers son père. \nUn apéritif sera offert à l’issue de la rencontre. \nEn l’église Notre-Dame du Bono – Etoile de la mer. Au Bono.
URL:https://paroisses-pays-auray.fr/event/et-si-la-bible-metait-racontee/
CATEGORIES:Evénement accueil,Plougoumelen-LeBono
ATTACH;FMTTYPE=image/webp:https://paroisses-pays-auray.fr/wp-content/uploads/2023/01/bible-contee.webp
END:VEVENT
END:VCALENDAR