BEGIN:VCALENDAR
VERSION:2.0
PRODID:-//Paroisses du Pays d&#039;Auray - ECPv6.15.13//NONSGML v1.0//EN
CALSCALE:GREGORIAN
METHOD:PUBLISH
X-ORIGINAL-URL:https://paroisses-pays-auray.fr
X-WR-CALDESC:Évènements pour Paroisses du Pays d&#039;Auray
REFRESH-INTERVAL;VALUE=DURATION:PT1H
X-Robots-Tag:noindex
X-PUBLISHED-TTL:PT1H
BEGIN:VTIMEZONE
TZID:UTC
BEGIN:STANDARD
TZOFFSETFROM:+0000
TZOFFSETTO:+0000
TZNAME:UTC
DTSTART:20220101T000000
END:STANDARD
END:VTIMEZONE
BEGIN:VEVENT
DTSTART;VALUE=DATE:20230305
DTEND;VALUE=DATE:20230306
DTSTAMP:20260423T024924
CREATED:20220222T070906Z
LAST-MODIFIED:20230227T175940Z
UID:16697-1677974400-1678060799@paroisses-pays-auray.fr
SUMMARY:Pèlerinage de nos paroisses à  Ste Anne
DESCRIPTION:Pèlerinage du doyenné Auray – Pluvigner à Ste Anne d’Auray \nPas de messes dans les églises de la paroisse d’Auray-Pluneret ni au Bono. Messe anticipée à St Goustan le samedi 4 mars à 18h. \nNous sommes tous invités à faire une démarche de foi vers Ste Anne ce dimanche 5 mars. \nCertains iront à pied\, d’autres à vélo et d’autres encore en voiture\, selon la convenance de chacun. \n– Départ de l’église st Gildas\, à 8h30\, après une prière de bénédiction des pèlerins\n– Vers 9h\, dans l’église de Pluneret\, évocation d’Yvon Nicolazic et courte prière\, avant de reprendre le chemin vers le sanctuaire de Ste Anne.\n– Café à l’arrivée au sanctuaire \n– Rendez vous à la fontaine à 10h45\, pour le départ en procession vers la basilique. Les pèlerins sont invités à ne pas entrer dans la basilique avant. \n– Messe à 11h. \n\nRepas partagé tiré du sac.\n\n– 15h30: chapelet \n– 16h00: vêpres avec bénédiction des statues de sainte Anne apportées par les pèlerins:  statuettes familiales\, statues des paroisses ou une représentation des statues (photographie). \nCe dimanche 5 mars\, nos paroisses du doyenné d’Auray ouvrent ainsi les pèlerinages à Ste Anne d’Auray\, en souvenir de la découverte de la statue de Ste Anne par Yvon Nicolazig le 7 mars 1625.  \nSte Anne (ou juste son cierge porté à la main) est apparue entre 1623 et 1625.  \nCette année marque donc l’anniversaire des premières visions d’Yvon Nicolazig.\n \nBon pélé à tous ! \nLe diocèse propose un livre- guide qui permet de vivre le carême à la lumière de Ste Anne. \n  \nBonne fête aux grands-mères !
URL:https://paroisses-pays-auray.fr/event/pelerinage-du-pays-dauray-a-ste-anne/
LOCATION:Sainte Anne d’Auray\, France
CATEGORIES:Evénement accueil,Pardons,Paroisses de Sainte-Anne-d'Auray, Brec'h, Mériadec et Plumergat,Plougoumelen-LeBono
ATTACH;FMTTYPE=image/jpeg:https://paroisses-pays-auray.fr/wp-content/uploads/2022/02/Ste_Anne.jpg
END:VEVENT
BEGIN:VEVENT
DTSTART;VALUE=DATE:20230326
DTEND;VALUE=DATE:20230327
DTSTAMP:20260423T024924
CREATED:20221009T140340Z
LAST-MODIFIED:20230313T140516Z
UID:19202-1679788800-1679875199@paroisses-pays-auray.fr
SUMMARY:Journée festive et intergénérationelle à Sainte-Anne-d'Auray
DESCRIPTION:Le dimanche 26 mars est à réserver dans notre agenda! \nPour mémoire:\n– un grand jeu de piste en famille et par équipe est prévu de 10h à 12H\, à travers le sanctuaire. \n– Pique-nique apporté par chacun. (Pensez aussi à prévoir un gobelet pour les différentes pauses de la journée.) \n– Le vicaire général prévoit de faire un petit topo aux adultes en début d’après-midi. Pendant ce temps\, les enfants choisiront un atelier « chorale » ou d’activités créatives. \n– La messe à 16h rassemblera tous ceux qui le voudront bien. \nNous serons heureux de vous voir nombreux\, en famille\, en ce 5ème dimanche de carême. \nCette journée est organisée dans le cadre des 400 ans des apparitions de Ste Anne à Yves Nicolazig. Comme Sainte Anne a su transmettre la foi à Marie\, ce dimanche souhaite permettre aux parents/grands-parents/parrains/marraines de vivre\, avec leur(s)/des enfant(s)\, un beau moment partagé dans la foi 🙂 \nDe 9h45 à 17h. \nInscriptions et informations auprès des catéchistes ou des presbytères de vos paroisses\, si possible avant le 17 mars prochain\, en  précisant le nombre d’adultes et d’enfants de votre famille qui y participera.
URL:https://paroisses-pays-auray.fr/event/journee-festive-a-sainte-anne-dauray/
CATEGORIES:Evénement accueil,Paroisses de Sainte-Anne-d'Auray, Brec'h, Mériadec et Plumergat,Plougoumelen-LeBono
ATTACH;FMTTYPE=image/jpeg:https://paroisses-pays-auray.fr/wp-content/uploads/2022/10/journee-doyenne-2023-e1678097620965.jpg
END:VEVENT
END:VCALENDAR