BEGIN:VCALENDAR
VERSION:2.0
PRODID:-//Paroisses du Pays d&#039;Auray - ECPv6.15.13//NONSGML v1.0//EN
CALSCALE:GREGORIAN
METHOD:PUBLISH
X-ORIGINAL-URL:https://paroisses-pays-auray.fr
X-WR-CALDESC:Évènements pour Paroisses du Pays d&#039;Auray
REFRESH-INTERVAL;VALUE=DURATION:PT1H
X-Robots-Tag:noindex
X-PUBLISHED-TTL:PT1H
BEGIN:VTIMEZONE
TZID:UTC
BEGIN:STANDARD
TZOFFSETFROM:+0000
TZOFFSETTO:+0000
TZNAME:UTC
DTSTART:20220101T000000
END:STANDARD
END:VTIMEZONE
BEGIN:VEVENT
DTSTART;VALUE=DATE:20230501
DTEND;VALUE=DATE:20230601
DTSTAMP:20260422T234756
CREATED:20200427T084620Z
LAST-MODIFIED:20230427T192924Z
UID:9687-1682899200-1685577599@paroisses-pays-auray.fr
SUMMARY:Mois de Marie
DESCRIPTION:Le mois de mai est consacré à la prière à Marie\, depuis plusieurs siècles. \nLes fidèles sont invités à prier assidûment le chapelet durant ce mois traditionnellement consacré à la Vierge Marie.\n\n\nVierge du Bono \n\nLe pape François recommande de prier le chapelet \n » Il est de tradition\, durant ce mois\, de prier le chapelet à la maison\, en famille.  \nIl y a un secret pour le faire: la simplicité ; et il est facile de trouver\, même sur Internet\, de bons modèles de prière à suivre. » \n  \nComment prier le chapelet?  je clique \n  \n\nPour vous aider à prier\, vous pouvez aussi rejoindre des groupes:\n\n– à Ste Anne d’Auray: tous les jours à 15h30\, \n– A Plougoumelen/Le Bono: le 1er mardi de chaque mois\, à 18h\, à la chapelle N.D. de Béquerel (d’avril à octobre) \n– sur la radio RCF (90.2 FM) à 15h30\, \n– sur  KTO TV. com en direct de Lourdes à 15h 30. \n– ou encore sur des chaînes youtube…
URL:https://paroisses-pays-auray.fr/event/mois-de-mai-mois-de-marie/
CATEGORIES:Plougoumelen-LeBono
ATTACH;FMTTYPE=image/jpeg:https://paroisses-pays-auray.fr/wp-content/uploads/2019/04/Chapelet-collier-cristal-blanc-crucifix-argente-croix-jesus-_57.jpg
END:VEVENT
BEGIN:VEVENT
DTSTART;TZID=UTC:20230514T110000
DTEND;TZID=UTC:20230514T110000
DTSTAMP:20260422T234756
CREATED:20230506T104421Z
LAST-MODIFIED:20230506T104421Z
UID:22133-1684062000-1684062000@paroisses-pays-auray.fr
SUMMARY:6ème dimanche de Pâques: messe animée par les jeunes
DESCRIPTION:Liturgie de la Parole pour les enfants du primaire (à partir du CE1) et les collégiens \nRendez-vous  à l’église. Ils se retrouveront par groupes pour échanger autour de la Parole de Dieu de ce 6ème dimanche de Pâques\, au cours de la messe. \nDimanche 14 mai 2023\, à 11h en l’église Notre-Dame du Bono
URL:https://paroisses-pays-auray.fr/event/6eme-dimanche-de-paques-messe-animee-par-les-jeunes/
CATEGORIES:Plougoumelen-LeBono
ATTACH;FMTTYPE=image/jpeg:https://paroisses-pays-auray.fr/wp-content/uploads/2022/11/6eme-dimanche-Paques-A.jpeg
END:VEVENT
END:VCALENDAR