BEGIN:VCALENDAR
VERSION:2.0
PRODID:-//Paroisses du Pays d&#039;Auray - ECPv6.15.13//NONSGML v1.0//EN
CALSCALE:GREGORIAN
METHOD:PUBLISH
X-WR-CALNAME:Paroisses du Pays d&#039;Auray
X-ORIGINAL-URL:https://paroisses-pays-auray.fr
X-WR-CALDESC:Évènements pour Paroisses du Pays d&#039;Auray
REFRESH-INTERVAL;VALUE=DURATION:PT1H
X-Robots-Tag:noindex
X-PUBLISHED-TTL:PT1H
BEGIN:VTIMEZONE
TZID:UTC
BEGIN:STANDARD
TZOFFSETFROM:+0000
TZOFFSETTO:+0000
TZNAME:UTC
DTSTART:20210101T000000
END:STANDARD
END:VTIMEZONE
BEGIN:VEVENT
DTSTART;VALUE=DATE:20220520
DTEND;VALUE=DATE:20220607
DTSTAMP:20260423T185534
CREATED:20220506T105834Z
LAST-MODIFIED:20220506T120451Z
UID:17463-1653004800-1654559999@paroisses-pays-auray.fr
SUMMARY:Festival itinéraire en Morbihan
DESCRIPTION: Le public peut assister à douze concerts dans une dizaine de communes différentes\, telles que Vannes\, Sainte-Anne-d’Auray\, Lorient\, Plougoumelen… et de nombreuses autres communes du département.\n \n Ces concerts prennent place dans des sites patrimoniaux remarquables\, allant de monuments incontournables à des lieux plus confidentiels. Ils plongent les spectateurs dans différentes ambiances\, périodes et styles musicaux.  \nAu programme : musique baroque\, romantique\, contemporaine et traditionnelle. \n Dont le « Banquet Céleste »\, dirigé par Damien Guillon\, Stéphanie Paulet et Yasuko Bouvard\,  ou le chœur Mélisme(s) (photo). De grands noms de la musique classique se produisent à cette occasion. \n Le festival permet aussi de découvrir de jeunes talents\, avec les concerts des Chœurs de la Maîtrise de Sainte-Anne-d’Auray\, lauréat 2021 du Prix Liliane Bettencourt. \n L’Académie de Musique et d’Arts Sacrés de Sainte-Anne-d’Auray organise la huitième édition du Festival de musique Itinéraires en Morbihan \nTout le programme  \nLes réservations: ici
URL:https://paroisses-pays-auray.fr/event/festival-itineraire-en-morbihan/
CATEGORIES:Concerts,Evénement accueil,Paroisses de Sainte-Anne-d'Auray, Brec'h, Mériadec et Plumergat,Plougoumelen-LeBono
ATTACH;FMTTYPE=image/jpeg:https://paroisses-pays-auray.fr/wp-content/uploads/2022/05/Melismes.jpg
END:VEVENT
BEGIN:VEVENT
DTSTART;TZID=UTC:20220526T180000
DTEND;TZID=UTC:20220526T180000
DTSTAMP:20260423T185534
CREATED:20220506T141545Z
LAST-MODIFIED:20220506T141816Z
UID:17507-1653588000-1653588000@paroisses-pays-auray.fr
SUMMARY:Concert: L'Ave Maria: mais lequel?
DESCRIPTION:Le texte de l’Ave Maria est composé d’un extrait d’évangile et d’une méditation d’un moine carme en 1265. Il a inspiré à peu près tous les  compositeurs\, de toutes les époques et de tous les pays. \nCes pièces musicales brèves sont des miniatures souvent inspirées. Les compositeurs ont pu exprimer des émotions très variées : intériorité\, lyrisme\, sobriété ou exubérance\, recueillement ou joie\, contrition ou louange\, d’où une grande variété de formes\, une très grande liberté de styles et d’expression (Programme La Sportelle). \nL’ensemble La Sportelle est accompagné d’Emmeran Rollin à l’orgue et dirigé par Laëtitia Corcelle. \n\n\n\n\n\n\nFondé au sanctuaire de Rocamadour\, l’ensemble La Sportelle cherche à effacer l’image lointaine\, inaccessible voire ennuyeuse de la musique sacrée. Pour ce faire\, elle propose des concerts aux entrées très concrètes : soit des questions de tous les jours (Ave Maria\, oui\, mais lequel ?)\, soit la rencontre entre la musique et d’autres bonnes choses comme le vin (programmes Acronymes et Dégustations croisées)\, ou encore un compositeur bien connu du public mais dont la musique sacrée est à découvrir (Saint -Saëns). Élève successivement de Marc Chiron à Montauban\, Michel Bouvard à Toulouse et d’Éric Lebrun à Saint-Maur-des-Fossés\, Emmeran Rollin est actuellement directeur artistique du Festival de musique de Rocamadour\, et organiste titulaire du nouvel orgue créé par Jean Daldosso en 2013.\n\nAccès: route de Notre-Dame de Béquerel à partir du bourg de Plougoumelen. Petit parking près de la chapelle de Béquerel (à 200 m) – Parking près du stade de Plougoumelen ou devant l’espace Roh Mané (prévoir 5 minutes de marche en direction de Baden pour rejoindre la chapelle). \nEntrée payante : 12 € par concert\, 8€ tarif réduit \n\nConcert ce même jour à 16h à la chapelle de Pen- Mern\, 17 route de Pen-Mern à Baden. Parking autour de la chapelle de Pen-Mern.\n\nCertaines pièces sont chantées lors des deux concerts. Pour connaître le détail des programmes des deux concerts\, une présentation de l’ensemble et des chapelles  : Programme La Sportelle \nRenseignements : accueil@admas.fr – 02 97 57 55 23 \nJe réserve \n  \nL’ensemble la Sportelle est soutenu par la DRAC Occitanie\, La Région Occitanie et la Caisse des dépôts Occitanie \nhttps://youtu.be/A9wl_h8V0k8
URL:https://paroisses-pays-auray.fr/event/concert-lave-maria-mais-lequel/
LOCATION:Chapelle Notre-Dame de Béquerel à Plougoumelen
CATEGORIES:Concerts,Evénement accueil,Plougoumelen-LeBono
ATTACH;FMTTYPE=image/jpeg:https://paroisses-pays-auray.fr/wp-content/uploads/2022/05/lasportelle.jpg
END:VEVENT
END:VCALENDAR