BEGIN:VCALENDAR
VERSION:2.0
PRODID:-//Paroisses du Pays d&#039;Auray - ECPv6.15.13//NONSGML v1.0//EN
CALSCALE:GREGORIAN
METHOD:PUBLISH
X-ORIGINAL-URL:https://paroisses-pays-auray.fr
X-WR-CALDESC:Évènements pour Paroisses du Pays d&#039;Auray
REFRESH-INTERVAL;VALUE=DURATION:PT1H
X-Robots-Tag:noindex
X-PUBLISHED-TTL:PT1H
BEGIN:VTIMEZONE
TZID:UTC
BEGIN:STANDARD
TZOFFSETFROM:+0000
TZOFFSETTO:+0000
TZNAME:UTC
DTSTART:20210101T000000
END:STANDARD
END:VTIMEZONE
BEGIN:VEVENT
DTSTART;TZID=UTC:20220703T143000
DTEND;TZID=UTC:20220703T180000
DTSTAMP:20260423T161733
CREATED:20220628T152828Z
LAST-MODIFIED:20220628T152828Z
UID:18167-1656858600-1656871200@paroisses-pays-auray.fr
SUMMARY:Visite de la chapelle N.D. de Béquerel
DESCRIPTION:La chapelle est ouverte tous les dimanches jusquà la mi-septembre\, de 14h30 à 18h. \nElle se situe dans un joli cadre bucolique sur la commune du Bono mais elle dépend de la paroisse de Plougoumelen. \nLa construction de la première chapelle remonte au XVème siècle\, comme beaucoup de chapelles de la région. Une restauration récente a permis de découvrir les restes de deux fresques dans le choeur et de quelques sablières récemment mises en valeur: des représentations d’animaux ou des personnages grotesques ainsi qu’une superbe tête de barbu tirant la langue\,côté nord. \nDans la nef\, une inscription révèle la date de 1563 en chiffres romains\, sur une corniche ancienne. \nRemaniée au fil des siècles\, la chapelle présente des éléments architecturaux de la Renaissance. La nef est agrandie et surélevée au XVIIème siècle. \nLa chapelle de Béquerel a été classée à l’inventaire des Monuments historiques le 30 juin 1925. \nDédiée à la Vierge\, elle a fait l’objet d’une grande dévotion\, notamment lors du Pardon du 15 août. \nL’autel est placé sur la source dont les vertus étaient supposées guérir les maux de bouche. \nUne grande verrière\, représentant les litanies de la Vierge\, est tournée vers l’Est. \nLe chapelet y est médité le 1er  mardi du mois à 18h.
URL:https://paroisses-pays-auray.fr/event/visite-de-la-chapelle-n-d-de-bequerel/
CATEGORIES:Evénement accueil,Plougoumelen-LeBono
ATTACH;FMTTYPE=image/jpeg:https://paroisses-pays-auray.fr/wp-content/uploads/2019/01/DSCF0661.JPG.jpg
END:VEVENT
END:VCALENDAR