BEGIN:VCALENDAR
VERSION:2.0
PRODID:-//Paroisses du Pays d&#039;Auray - ECPv6.15.13//NONSGML v1.0//EN
CALSCALE:GREGORIAN
METHOD:PUBLISH
X-WR-CALNAME:Paroisses du Pays d&#039;Auray
X-ORIGINAL-URL:https://paroisses-pays-auray.fr
X-WR-CALDESC:Évènements pour Paroisses du Pays d&#039;Auray
REFRESH-INTERVAL;VALUE=DURATION:PT1H
X-Robots-Tag:noindex
X-PUBLISHED-TTL:PT1H
BEGIN:VTIMEZONE
TZID:UTC
BEGIN:STANDARD
TZOFFSETFROM:+0000
TZOFFSETTO:+0000
TZNAME:UTC
DTSTART:20210101T000000
END:STANDARD
END:VTIMEZONE
BEGIN:VEVENT
DTSTART;TZID=UTC:20221217T090000
DTEND;TZID=UTC:20221218T123000
DTSTAMP:20260423T091355
CREATED:20221203T143511Z
LAST-MODIFIED:20221216T173047Z
UID:20175-1671267600-1671366600@paroisses-pays-auray.fr
SUMMARY:Opération solidarité
DESCRIPTION:Sapins de Noël des Brancardiers\n\nVenez choisir votre sapin de Noël auprès des Brancardiers et Hospitalières d’Arvor.\nComme chaque année\, les dons seront remis à des associations d’aides aux malades et handicapés dans le Morbihan.\nLes samedis 3\, 10 et 17 décembre de 9 h à 12 h 30\, sur la place du Bono… ou sur d’autres places des communes alentours
URL:https://paroisses-pays-auray.fr/event/operation-solidarite/
CATEGORIES:Evénement accueil,Plougoumelen-LeBono
ATTACH;FMTTYPE=image/jpeg:https://paroisses-pays-auray.fr/wp-content/uploads/2022/12/sapin-brancardier.jpg
END:VEVENT
END:VCALENDAR