BEGIN:VCALENDAR
VERSION:2.0
PRODID:-//Paroisses du Pays d&#039;Auray - ECPv6.15.13//NONSGML v1.0//EN
CALSCALE:GREGORIAN
METHOD:PUBLISH
X-WR-CALNAME:Paroisses du Pays d&#039;Auray
X-ORIGINAL-URL:https://paroisses-pays-auray.fr
X-WR-CALDESC:Évènements pour Paroisses du Pays d&#039;Auray
REFRESH-INTERVAL;VALUE=DURATION:PT1H
X-Robots-Tag:noindex
X-PUBLISHED-TTL:PT1H
BEGIN:VTIMEZONE
TZID:UTC
BEGIN:STANDARD
TZOFFSETFROM:+0000
TZOFFSETTO:+0000
TZNAME:UTC
DTSTART:20220101T000000
END:STANDARD
END:VTIMEZONE
BEGIN:VEVENT
DTSTART;VALUE=DATE:20230903
DTEND;VALUE=DATE:20230904
DTSTAMP:20260425T144954
CREATED:20230831T075110Z
LAST-MODIFIED:20230831T180452Z
UID:23338-1693699200-1693785599@paroisses-pays-auray.fr
SUMMARY:Départ de Bernard et Guy
DESCRIPTION:Une nouvelle déjà connue de plusieurs d’entre vous ; Guy et moi (Bernard)\, nous quitterons  l’ensemble paroissial de Pluvigner après les mois de cet été 2023. Cela fera 11 ans de présence pour moi (Bernard) et 9 pour Guy qui était revenu dans sa commune.  Quant à nous\, nous irons découvrir l’ensemble paroissial de La Roche Bernard avec ses trois clochers de La Roche-Bernard\, Marzan\, Nivillac. \nNous célébrerons notre dernière messe à 10h30 à l’église de Pluvigner le dimanche 03 septembre .\nA l’issue de la messe\, partage du verre et pique-nique tiré du sac avec toutes les personnes qui le veulent.
URL:https://paroisses-pays-auray.fr/event/depart-de-bernard-et-guy/
LOCATION:Landévant\, Espace Kerverh\, Landévant\, France
CATEGORIES:Evénement accueil,Pluvigner
END:VEVENT
END:VCALENDAR